This page was generated on 2023-10-12 14:51:36 -0400 (Thu, 12 Oct 2023).
|
| Hostname | OS | Arch (*) | R version | Installed pkgs |
|---|---|---|---|---|
| nebbiolo1 | Linux (Ubuntu 22.04.2 LTS) | x86_64 | 4.3.1 (2023-06-16) -- "Beagle Scouts" | 4626 |
| Click on any hostname to see more info about the system (e.g. compilers) (*) as reported by 'uname -p', except on Windows and Mac OS X | ||||
A | |||||||||
| QUICK STATS | OS / Arch | INSTALL | BUILD | CHECK | |||||||||||||||||||||||||||||||
| nebbiolo1 | Linux (Ubuntu 22.04.2 LTS) / x86_64 |
|
|
| |||||||||||||||||||||||||||||||
|
| ||||||||||||||||||||||||||||||||||
| Package | Maintainer | INSTALL | BUILD | CHECK | |||||||||||||||||||||||||||||||
| 1/421 | adductData 1.16.0 (landing page) | Josie Hayes | OK | OK | OK | ||||||||||||||||||||||||||||||
| 2/421 | affycompData 1.38.1 (landing page) | Robert D Shear | OK | OK | OK | ||||||||||||||||||||||||||||||
| 3/421 | affydata 1.48.1 (landing page) | Robert D Shear | OK | OK | WARNINGS | ||||||||||||||||||||||||||||||
| 4/421 | Affyhgu133A2Expr 1.36.0 (landing page) | Zhicheng Ji | OK | OK | OK | ||||||||||||||||||||||||||||||
| 5/421 | Affyhgu133aExpr 1.38.0 (landing page) | Zhicheng Ji | OK | OK | OK | ||||||||||||||||||||||||||||||
| 6/421 | Affyhgu133Plus2Expr 1.34.0 (landing page) | Zhicheng Ji | OK | OK | OK | ||||||||||||||||||||||||||||||
| 7/421 | AffymetrixDataTestFiles 0.38.0 (landing page) | Henrik Bengtsson | OK | OK | OK | ||||||||||||||||||||||||||||||
| 8/421 | Affymoe4302Expr 1.38.0 (landing page) | Zhicheng Ji | OK | OK | OK | ||||||||||||||||||||||||||||||
| 9/421 | airway 1.20.0 (landing page) | Michael Love | OK | OK | WARNINGS | ||||||||||||||||||||||||||||||
| 10/421 | ALL 1.42.0 (landing page) | Robert Gentleman | OK | OK | OK | ||||||||||||||||||||||||||||||
| 11/421 | ALLMLL 1.40.0 (landing page) | B. M. Bolstad | OK | OK | OK | ||||||||||||||||||||||||||||||
| 12/421 | Michael Love | OK | OK | WARNINGS | |||||||||||||||||||||||||||||||
| 13/421 | AmpAffyExample 1.40.0 (landing page) | Rafael A. Irizarry | OK | OK | WARNINGS | ||||||||||||||||||||||||||||||
| 14/421 | AneuFinderData 1.28.0 (landing page) | Aaron Taudt | OK | OK | WARNINGS | ||||||||||||||||||||||||||||||
| 15/421 | antiProfilesData 1.36.0 (landing page) | Hector Corrada Bravo | OK | OK | OK | ||||||||||||||||||||||||||||||
| 16/421 | aracne.networks 1.26.0 (landing page) | Federico M. Giorgi | OK | OK | WARNINGS | ||||||||||||||||||||||||||||||
| 17/421 | ARRmData 1.36.0 (landing page) | Jean-Philippe Fortin | OK | OK | OK | ||||||||||||||||||||||||||||||
| 18/421 | AshkenazimSonChr21 1.30.0 (landing page) | Who to complain to | OK | OK | OK | ||||||||||||||||||||||||||||||
| 19/421 | ASICSdata 1.20.0 (landing page) | Gaëlle Lefort | OK | OK | OK | ||||||||||||||||||||||||||||||
| 20/421 | AssessORFData 1.18.0 (landing page) | Deepank Korandla | OK | OK | OK | ||||||||||||||||||||||||||||||
|
| ||||||||||||||||||||||||||||||||||
| Package | Maintainer | INSTALL | BUILD | CHECK | |||||||||||||||||||||||||||||||
| 21/421 | bcellViper 1.36.0 (landing page) | Mariano Javier Alvarez | OK | OK | OK | ||||||||||||||||||||||||||||||
| 22/421 | beadarrayExampleData 1.38.0 (landing page) | Mark Dunning | OK | OK | OK | ||||||||||||||||||||||||||||||
| 23/421 | BeadArrayUseCases 1.38.0 (landing page) | Mike Smith | OK | OK | OK | ||||||||||||||||||||||||||||||
| 24/421 | BeadSorted.Saliva.EPIC 1.8.0 (landing page) | Jonah Fisher | OK | OK | OK | ||||||||||||||||||||||||||||||
| 25/421 | benchmarkfdrData2019 1.14.0 (landing page) | Stephanie Hicks | OK | OK | OK | ||||||||||||||||||||||||||||||
| 26/421 | beta7 1.38.0 (landing page) | Jean Yang | OK | OK | WARNINGS | ||||||||||||||||||||||||||||||
| 27/421 | BioImageDbs 1.8.0 (landing page) | Satoshi Kume | OK | OK | OK | ||||||||||||||||||||||||||||||
| 28/421 | BioPlex 1.6.0 (landing page) | Ludwig Geistlinger | OK | OK | OK | ||||||||||||||||||||||||||||||
| 29/421 | biotmleData 1.24.0 (landing page) | Nima Hejazi | OK | OK | WARNINGS | ||||||||||||||||||||||||||||||
| 30/421 | biscuiteerData 1.14.1 (landing page) | "Jacob Morrison" | OK | OK | OK | ||||||||||||||||||||||||||||||
| 31/421 | bladderbatch 1.38.0 (landing page) | Jeffrey T. Leek | OK | OK | WARNINGS | ||||||||||||||||||||||||||||||
| 32/421 | blimaTestingData 1.20.0 (landing page) | Vojtech Kulvait | OK | OK | OK | ||||||||||||||||||||||||||||||
| 33/421 | BloodCancerMultiOmics2017 1.20.0 (landing page) | Malgorzata Oles | OK | OK | WARNINGS | ||||||||||||||||||||||||||||||
| 34/421 | bodymapRat 1.16.0 (landing page) | Stephanie Hicks | OK | OK | OK | ||||||||||||||||||||||||||||||
| 35/421 | breakpointRdata 1.18.0 (landing page) | David Porubsky | OK | OK | OK | ||||||||||||||||||||||||||||||
| 36/421 | breastCancerMAINZ 1.38.0 (landing page) | Markus Schroeder | OK | OK | WARNINGS | ||||||||||||||||||||||||||||||
| 37/421 | breastCancerNKI 1.38.0 (landing page) | Markus Schroeder | OK | OK | WARNINGS | ||||||||||||||||||||||||||||||
| 38/421 | breastCancerTRANSBIG 1.38.0 (landing page) | Markus Schroeder | OK | OK | WARNINGS | ||||||||||||||||||||||||||||||
| 39/421 | breastCancerUNT 1.38.0 (landing page) | Markus Schroeder | OK | OK | WARNINGS | ||||||||||||||||||||||||||||||
| 40/421 | breastCancerUPP 1.38.0 (landing page) | Markus Schroeder | OK | OK | WARNINGS | ||||||||||||||||||||||||||||||
| 41/421 | breastCancerVDX 1.38.0 (landing page) | Markus Schroeder | OK | OK | WARNINGS | ||||||||||||||||||||||||||||||
| 42/421 | brgedata 1.22.1 (landing page) | Dolors Pelegri-Siso | OK | OK | WARNINGS | ||||||||||||||||||||||||||||||
| 43/421 | bronchialIL13 1.38.0 (landing page) | Vince Carey | OK | OK | OK | ||||||||||||||||||||||||||||||
| 44/421 | bsseqData 0.38.0 (landing page) | Kasper Daniel Hansen | OK | OK | WARNINGS | ||||||||||||||||||||||||||||||
|
| ||||||||||||||||||||||||||||||||||
| Package | Maintainer | INSTALL | BUILD | CHECK | |||||||||||||||||||||||||||||||
| 45/421 | cancerdata 1.38.0 (landing page) | Daniel Kosztyla | OK | OK | OK | ||||||||||||||||||||||||||||||
| 46/421 | CardinalWorkflows 1.32.0 (landing page) | Kylie A. Bemis | OK | OK | OK | ||||||||||||||||||||||||||||||
| 47/421 | ccdata 1.26.0 (landing page) | Alex Pickering | OK | OK | WARNINGS | ||||||||||||||||||||||||||||||
| 48/421 | CCl4 1.38.0 (landing page) | Audrey Kauffmann | OK | OK | WARNINGS | ||||||||||||||||||||||||||||||
| 49/421 | ccTutorial 1.38.0 (landing page) | Joern Toedling | OK | OK | OK | ||||||||||||||||||||||||||||||
| 50/421 | celarefData 1.18.0 (landing page) | Sarah Williams | OK | OK | OK | ||||||||||||||||||||||||||||||
| 51/421 | celldex 1.10.1 (landing page) | Aaron Lun | OK | OK | WARNINGS | ||||||||||||||||||||||||||||||
| 52/421 | CellMapperData 1.26.0 (landing page) | Brad Nelms | OK | OK | OK | ||||||||||||||||||||||||||||||
| 53/421 | ChAMPdata 2.32.0 (landing page) | Yuan Tian | OK | OK | WARNINGS | ||||||||||||||||||||||||||||||
| 54/421 | ChIC.data 1.20.0 (landing page) | Carmen Maria Livi | OK | OK | OK | ||||||||||||||||||||||||||||||
| 55/421 | ChimpHumanBrainData 1.38.0 (landing page) | Sean Davis | OK | OK | ERROR | ||||||||||||||||||||||||||||||
| 56/421 | chipenrich.data 2.24.0 (landing page) | Kai Wang | OK | OK | WARNINGS | ||||||||||||||||||||||||||||||
| 57/421 | ChIPexoQualExample 1.24.0 (landing page) | Rene Welch | OK | OK | OK | ||||||||||||||||||||||||||||||
| 58/421 | chipseqDBData 1.16.0 (landing page) | Aaron Lun | OK | OK | OK | ||||||||||||||||||||||||||||||
| 59/421 | ChIPXpressData 1.38.0 (landing page) | George Wu | OK | OK | WARNINGS | ||||||||||||||||||||||||||||||
| 60/421 | chromstaRData 1.26.0 (landing page) | Aaron Taudt | OK | OK | WARNINGS | ||||||||||||||||||||||||||||||
| 61/421 | CLL 1.40.0 (landing page) | Robert Gentleman | OK | OK | OK | ||||||||||||||||||||||||||||||
| 62/421 | CLLmethylation 1.20.0 (landing page) | Malgorzata Oles | OK | OK | OK | ||||||||||||||||||||||||||||||
| 63/421 | CluMSIDdata 1.16.0 (landing page) | Tobias Depke | OK | OK | OK | ||||||||||||||||||||||||||||||
| 64/421 | clustifyrdatahub 1.10.0 (landing page) | Kent Riemondy | OK | OK | OK | ||||||||||||||||||||||||||||||
| 65/421 | cMap2data 1.36.0 (landing page) | J. Saez-Rodriguez | OK | OK | WARNINGS | ||||||||||||||||||||||||||||||
| 66/421 | cnvGSAdata 1.36.0 (landing page) | Joseph Lugo | OK | OK | WARNINGS | ||||||||||||||||||||||||||||||
| 67/421 | COHCAPanno 1.36.0 (landing page) | Charles Warden | OK | OK | OK | ||||||||||||||||||||||||||||||
| 68/421 | colonCA 1.42.0 (landing page) | W Sylvia Merk | OK | OK | WARNINGS | ||||||||||||||||||||||||||||||
| 69/421 | CONFESSdata 1.28.0 (landing page) | Diana LOW | OK | OK | OK | ||||||||||||||||||||||||||||||
| 70/421 | ConnectivityMap 1.36.0 (landing page) | Paul Shannon | OK | OK | OK | ||||||||||||||||||||||||||||||
| 71/421 | COPDSexualDimorphism.data 1.36.0 (landing page) | J Fah Sathirapongsasuti | OK | OK | WARNINGS | ||||||||||||||||||||||||||||||
| 72/421 | CopyhelpeR 1.32.0 (landing page) | Oscar Krijgsman | OK | OK | OK | ||||||||||||||||||||||||||||||
| 73/421 | CopyNeutralIMA 1.18.0 (landing page) | Xavier Pastor Hostench | OK | OK | OK | ||||||||||||||||||||||||||||||
| 74/421 | CoSIAdata 1.0.0 (landing page) | Amanda D. Clark | OK | OK | OK | ||||||||||||||||||||||||||||||
| 75/421 | COSMIC.67 1.36.0 (landing page) | Julian Gehring | OK | OK | OK | ||||||||||||||||||||||||||||||
| 76/421 | CRCL18 1.20.0 (landing page) | Claudio Isella | OK | OK | OK | ||||||||||||||||||||||||||||||
| 77/421 | crisprScoreData 1.4.0 (landing page) | Jean-Philippe Fortin | OK | OK | OK | ||||||||||||||||||||||||||||||
| 78/421 | curatedAdipoArray 1.12.0 (landing page) | Mahmoud Ahmed | OK | OK | OK | ||||||||||||||||||||||||||||||
| 79/421 | curatedAdipoChIP 1.16.0 (landing page) | Mahmoud Ahmed | OK | OK | OK | ||||||||||||||||||||||||||||||
| 80/421 | curatedAdipoRNA 1.16.0 (landing page) | Mahmoud Ahmed | OK | OK | WARNINGS | ||||||||||||||||||||||||||||||
| 81/421 | curatedBladderData 1.36.0 (landing page) | Markus Riester | OK | OK | OK | ||||||||||||||||||||||||||||||
| 82/421 | curatedBreastData 2.28.0 (landing page) | Katie Planey | OK | OK | OK | ||||||||||||||||||||||||||||||
| 83/421 | curatedCRCData 2.32.0 (landing page) | Princy Parsana | OK | OK | WARNINGS | ||||||||||||||||||||||||||||||
| 84/421 | curatedMetagenomicData 3.8.0 (landing page) | Lucas schiffer | OK | OK | OK | ||||||||||||||||||||||||||||||
| 85/421 | curatedOvarianData 1.38.0 (landing page) | Levi Waldron | OK | OK | OK | ||||||||||||||||||||||||||||||
| 86/421 | curatedTBData 1.6.0 (landing page) | Xutao Wang | OK | OK | OK | ||||||||||||||||||||||||||||||
| 87/421 | curatedTCGAData 1.22.2 (landing page) | Marcel Ramos | OK | OK | OK | ||||||||||||||||||||||||||||||
|
| ||||||||||||||||||||||||||||||||||
| Package | Maintainer | INSTALL | BUILD | CHECK | |||||||||||||||||||||||||||||||
| 88/421 | DAPARdata 1.30.4 (landing page) | Samuel Wieczorek | OK | OK | WARNINGS | ||||||||||||||||||||||||||||||
| 89/421 | davidTiling 1.40.0 (landing page) | Wolfgang Huber | OK | OK | WARNINGS | ||||||||||||||||||||||||||||||
| 90/421 | depmap 1.14.0 (landing page) | Laurent Gatto | OK | OK | WARNINGS | ||||||||||||||||||||||||||||||
| 91/421 | derfinderData 2.18.0 (landing page) | Leonardo Collado-Torres | OK | OK | OK | ||||||||||||||||||||||||||||||
| 92/421 | DeSousa2013 1.36.0 (landing page) | Xin Wang | OK | OK | OK | ||||||||||||||||||||||||||||||
| 93/421 | DExMAdata 1.8.0 (landing page) | Juan Antonio Villatoro-García | OK | OK | OK | ||||||||||||||||||||||||||||||
| 94/421 | diffloopdata 1.28.0 (landing page) | Caleb Lareau | OK | OK | OK | ||||||||||||||||||||||||||||||
| 95/421 | diggitdata 1.32.0 (landing page) | Mariano Javier Alvarez | OK | OK | OK | ||||||||||||||||||||||||||||||
| 96/421 | DLBCL 1.40.0 (landing page) | Marcus Dittrich | OK | OK | ERROR | ||||||||||||||||||||||||||||||
| 97/421 | DmelSGI 1.32.0 (landing page) | Mike Smith | OK | OK | OK | ||||||||||||||||||||||||||||||
| 98/421 | DMRcatedata 2.18.0 (landing page) | Tim Peters | OK | OK | OK | ||||||||||||||||||||||||||||||
| 99/421 | DNAZooData 1.0.0 (landing page) | Jacques Serizay | OK | OK | OK | ||||||||||||||||||||||||||||||
| 100/421 | DonaPLLP2013 1.38.0 (landing page) | Joseph D. Barry | OK | OK | OK | ||||||||||||||||||||||||||||||
| 101/421 | dorothea 1.12.0 (landing page) | Pau Badia-i-Mompel | OK | OK | OK | ||||||||||||||||||||||||||||||
| 102/421 | dressCheck 0.38.0 (landing page) | Vincent Carey | OK | OK | OK | ||||||||||||||||||||||||||||||
| 103/421 | DropletTestFiles 1.10.0 (landing page) | Aaron Lun | OK | OK | OK | ||||||||||||||||||||||||||||||
| 104/421 | DrugVsDiseasedata 1.36.0 (landing page) | J. Saez-Rodriguez | OK | OK | OK | ||||||||||||||||||||||||||||||
| 105/421 | DuoClustering2018 1.18.0 (landing page) | Angelo Duò | OK | OK | OK | ||||||||||||||||||||||||||||||
| 106/421 | DvDdata 1.36.0 (landing page) | J. Saez-Rodriguez | OK | OK | WARNINGS | ||||||||||||||||||||||||||||||
| 107/421 | dyebiasexamples 1.40.0 (landing page) | Philip Lijnzaad | OK | OK | WARNINGS | ||||||||||||||||||||||||||||||
|
| ||||||||||||||||||||||||||||||||||
| Package | Maintainer | INSTALL | BUILD | CHECK | |||||||||||||||||||||||||||||||
| 108/421 | easierData 1.6.0 (landing page) | Oscar Lapuente-Santana | OK | OK | OK | ||||||||||||||||||||||||||||||
| 109/421 | EatonEtAlChIPseq 0.38.0 (landing page) | Patrick Aboyoun | OK | OK | WARNINGS | ||||||||||||||||||||||||||||||
| 110/421 | ecoliLeucine 1.40.0 (landing page) | Laurent Gautier | OK | OK | WARNINGS | ||||||||||||||||||||||||||||||
| 111/421 | EGSEAdata 1.28.0 (landing page) | Monther Alhamdoosh | OK | OK | OK | ||||||||||||||||||||||||||||||
| 112/421 | ELMER.data 2.24.0 (landing page) | Tiago Chedraoui Silva | OK | OK | WARNINGS | ||||||||||||||||||||||||||||||
| 113/421 | emtdata 1.8.0 (landing page) | Malvika D. Kharbanda | OK | OK | OK | ||||||||||||||||||||||||||||||
| 114/421 | EpiMix.data 1.2.2 (landing page) | Yuanning Zheng | OK | OK | WARNINGS | ||||||||||||||||||||||||||||||
| 115/421 | epimutacionsData 1.4.0 (landing page) | Leire Abarrategui | OK | OK | OK | ||||||||||||||||||||||||||||||
| 116/421 | estrogen 1.46.0 (landing page) | Wolfgang Huber | OK | OK | ERROR | ||||||||||||||||||||||||||||||
| 117/421 | etec16s 1.28.0 (landing page) | Joseph N. Paulson | OK | OK | OK | ||||||||||||||||||||||||||||||
| 118/421 | ewceData 1.8.0 (landing page) | Alan Murphy | OK | OK | OK | ||||||||||||||||||||||||||||||
|
| ||||||||||||||||||||||||||||||||||
| Package | Maintainer | INSTALL | BUILD | CHECK | |||||||||||||||||||||||||||||||
| 119/421 | faahKO 1.40.0 (landing page) | Steffen Neumann | OK | OK | OK | ||||||||||||||||||||||||||||||
| 120/421 | fabiaData 1.38.0 (landing page) | Sepp Hochreiter | OK | OK | OK | ||||||||||||||||||||||||||||||
| 121/421 | FANTOM3and4CAGE 1.36.0 (landing page) | Vanja Haberle | OK | OK | OK | ||||||||||||||||||||||||||||||
| 122/421 | ffpeExampleData 1.38.0 (landing page) | Levi Waldron | OK | OK | OK | ||||||||||||||||||||||||||||||
| 123/421 | fibroEset 1.42.0 (landing page) | Sylvia Merk | OK | OK | WARNINGS | ||||||||||||||||||||||||||||||
| 124/421 | FieldEffectCrc 1.10.0 (landing page) | Christopher Dampier | OK | OK | OK | ||||||||||||||||||||||||||||||
| 125/421 | FIs 1.28.0 (landing page) | Herbert Braselmann | OK | OK | OK | ||||||||||||||||||||||||||||||
| 126/421 | fission 1.20.0 (landing page) | Michael Love | OK | OK | OK | ||||||||||||||||||||||||||||||
| 127/421 | Fletcher2013a 1.36.0 (landing page) | Mauro Castro | OK | OK | OK | ||||||||||||||||||||||||||||||
| 128/421 | Fletcher2013b 1.36.0 (landing page) | Mauro Castro | OK | OK | OK | ||||||||||||||||||||||||||||||
| 129/421 | flowPloidyData 1.26.0 (landing page) | Tyler Smith | OK | OK | OK | ||||||||||||||||||||||||||||||
| 130/421 | FlowSorted.Blood.450k 1.38.0 (landing page) | Andrew E Jaffe | OK | OK | WARNINGS | ||||||||||||||||||||||||||||||
| 131/421 | FlowSorted.Blood.EPIC 2.4.2 (landing page) | Lucas A. Salas | OK | OK | OK | ||||||||||||||||||||||||||||||
| 132/421 | FlowSorted.CordBlood.450k 1.28.0 (landing page) | Shan V. Andrews | OK | OK | WARNINGS | ||||||||||||||||||||||||||||||
| 133/421 | FlowSorted.CordBloodCombined.450k 1.16.0 (landing page) | Lucas A. Salas | OK | OK | OK | ||||||||||||||||||||||||||||||
| 134/421 | FlowSorted.CordBloodNorway.450k 1.26.0 (landing page) | kristina gervin | OK | OK | WARNINGS | ||||||||||||||||||||||||||||||
| 135/421 | FlowSorted.DLPFC.450k 1.36.0 (landing page) | Andrew E Jaffe | OK | OK | WARNINGS | ||||||||||||||||||||||||||||||
| 136/421 | flowWorkspaceData 3.12.0 (landing page) | Mike Jiang | OK | OK | OK | ||||||||||||||||||||||||||||||
| 137/421 | fourDNData 1.0.0 (landing page) | Jacques Serizay | OK | OK | OK | ||||||||||||||||||||||||||||||
| 138/421 | frmaExampleData 1.36.0 (landing page) | Matthew N. McCall | OK | OK | WARNINGS | ||||||||||||||||||||||||||||||
| 139/421 | furrowSeg 1.28.0 (landing page) | Joseph Barry | OK | OK | WARNINGS | ||||||||||||||||||||||||||||||
|
| ||||||||||||||||||||||||||||||||||
| Package | Maintainer | INSTALL | BUILD | CHECK | |||||||||||||||||||||||||||||||
| 140/421 | gageData 2.38.0 (landing page) | Weijun Luo | OK | OK | OK | ||||||||||||||||||||||||||||||
| 141/421 | gaschYHS 1.38.0 (landing page) | Vince Carey | OK | OK | OK | ||||||||||||||||||||||||||||||
| 142/421 | gcspikelite 1.38.0 (landing page) | Mark Robinson | OK | OK | WARNINGS | ||||||||||||||||||||||||||||||
| 143/421 | gDNAinRNAseqData 1.0.0 (landing page) | Robert Castelo | OK | OK | OK | ||||||||||||||||||||||||||||||
| 144/421 | geneLenDataBase 1.36.0 (landing page) | Matthew Young | OK | OK | WARNINGS | ||||||||||||||||||||||||||||||
| 145/421 | genomationData 1.32.0 (landing page) | Vedran Franke | OK | OK | OK | ||||||||||||||||||||||||||||||
| 146/421 | GenomicDistributionsData 1.8.0 (landing page) | Kristyna Kupkova | OK | OK | OK | ||||||||||||||||||||||||||||||
| 147/421 | GeuvadisTranscriptExpr 1.28.0 (landing page) | Malgorzata Nowicka | OK | OK | OK | ||||||||||||||||||||||||||||||
| 148/421 | GIGSEAdata 1.18.0 (landing page) | Shijia Zhu | OK | OK | WARNINGS | ||||||||||||||||||||||||||||||
| 149/421 | golubEsets 1.42.0 (landing page) | Vince Carey | OK | OK | OK | ||||||||||||||||||||||||||||||
| 150/421 | gpaExample 1.12.0 (landing page) | Dongjun Chung | OK | OK | OK | ||||||||||||||||||||||||||||||
| 151/421 | grndata 1.32.0 (landing page) | Pau Bellot | OK | OK | WARNINGS | ||||||||||||||||||||||||||||||
| 152/421 | GSBenchMark 1.20.0 (landing page) | Bahman Afsari | OK | OK | OK | ||||||||||||||||||||||||||||||
| 153/421 | GSE103322 1.6.0 (landing page) | Mariano Alvarez | OK | OK | OK | ||||||||||||||||||||||||||||||
| 154/421 | GSE13015 1.8.0 (landing page) | Darawan Rinchai | OK | OK | OK | ||||||||||||||||||||||||||||||
| 155/421 | GSE159526 1.6.0 (landing page) | Victor Yuan | OK | OK | OK | ||||||||||||||||||||||||||||||
| 156/421 | GSE62944 1.28.1 (landing page) | Bioconductor Package Maintainer | OK | OK | OK | ||||||||||||||||||||||||||||||
| 157/421 | GSVAdata 1.36.0 (landing page) | Robert Castelo | OK | OK | OK | ||||||||||||||||||||||||||||||
| 158/421 | GWASdata 1.38.1 (landing page) | Stephanie Gogarten | OK | OK | OK | ||||||||||||||||||||||||||||||
|
| ||||||||||||||||||||||||||||||||||
| Package | Maintainer | INSTALL | BUILD | CHECK | |||||||||||||||||||||||||||||||
| 159/421 | h5vcData 2.20.0 (landing page) | Paul Theodor Pyl | OK | OK | OK | ||||||||||||||||||||||||||||||
| 160/421 | hapmap100khind 1.42.0 (landing page) | Benilton Carvalho | OK | OK | OK | ||||||||||||||||||||||||||||||
| 161/421 | hapmap100kxba 1.42.0 (landing page) | Benilton Carvalho | OK | OK | OK | ||||||||||||||||||||||||||||||
| 162/421 | hapmap500knsp 1.42.0 (landing page) | Benilton Carvalho | OK | OK | OK | ||||||||||||||||||||||||||||||
| 163/421 | hapmap500ksty 1.42.0 (landing page) | Benilton Carvalho | OK | OK | OK | ||||||||||||||||||||||||||||||
| 164/421 | hapmapsnp5 1.42.0 (landing page) | Benilton Carvalho | OK | OK | OK | ||||||||||||||||||||||||||||||
| 165/421 | hapmapsnp6 1.42.0 (landing page) | Benilton Carvalho | OK | OK | OK | ||||||||||||||||||||||||||||||
| 166/421 | harbChIP 1.38.0 (landing page) | VJ Carey | OK | OK | OK | ||||||||||||||||||||||||||||||
| 167/421 | HarmanData 1.28.0 (landing page) | Jason Ross | OK | OK | OK | ||||||||||||||||||||||||||||||
| 168/421 | HarmonizedTCGAData 1.22.0 (landing page) | Tianle Ma | OK | OK | OK | ||||||||||||||||||||||||||||||
| 169/421 | HCAData 1.16.0 (landing page) | Federico Marini | OK | OK | OK | ||||||||||||||||||||||||||||||
| 170/421 | HD2013SGI 1.40.0 (landing page) | Mike Smith | OK | OK | OK | ||||||||||||||||||||||||||||||
| 171/421 | HDCytoData 1.20.0 (landing page) | Lukas M. Weber | OK | OK | OK | ||||||||||||||||||||||||||||||
| 172/421 | healthyControlsPresenceChecker 1.4.0 (landing page) | Davide Chicco | OK | OK | OK | ||||||||||||||||||||||||||||||
| 173/421 | healthyFlowData 1.38.0 (landing page) | Ariful Azad | OK | OK | OK | ||||||||||||||||||||||||||||||
| 174/421 | HEEBOdata 1.38.0 (landing page) | Agnes Paquet | OK | OK | WARNINGS | ||||||||||||||||||||||||||||||
| 175/421 | HelloRangesData 1.26.0 (landing page) | Michael Lawrence | OK | OK | OK | ||||||||||||||||||||||||||||||
| 176/421 | hgu133abarcodevecs 1.38.0 (landing page) | Matthew N. McCall | OK | OK | OK | ||||||||||||||||||||||||||||||
| 177/421 | hgu133plus2barcodevecs 1.38.0 (landing page) | Matthew N. McCall | OK | OK | OK | ||||||||||||||||||||||||||||||
| 178/421 | hgu133plus2CellScore 1.20.0 (landing page) | Nancy Mah | OK | OK | WARNINGS | ||||||||||||||||||||||||||||||
| 179/421 | hgu2beta7 1.40.0 (landing page) | Bioconductor Package Maintainer | OK | OK | WARNINGS | ||||||||||||||||||||||||||||||
| 180/421 | HiCDataHumanIMR90 1.20.0 (landing page) | Nicolas Servant | OK | OK | WARNINGS | ||||||||||||||||||||||||||||||
| 181/421 | HiCDataLymphoblast 1.36.0 (landing page) | Borbala Mifsud | OK | OK | OK | ||||||||||||||||||||||||||||||
| 182/421 | HiContactsData 1.2.0 (landing page) | Jacques Serizay | OK | OK | OK | ||||||||||||||||||||||||||||||
| 183/421 | HighlyReplicatedRNASeq 1.12.0 (landing page) | Constantin Ahlmann-Eltze | OK | OK | OK | ||||||||||||||||||||||||||||||
| 184/421 | Hiiragi2013 1.36.0 (landing page) | Andrzej Oles | OK | OK | OK | ||||||||||||||||||||||||||||||
| 185/421 | HIVcDNAvantWout03 1.40.0 (landing page) | Chris Fraley | OK | OK | WARNINGS | ||||||||||||||||||||||||||||||
| 186/421 | HMP16SData 1.20.0 (landing page) | Lucas schiffer | OK | OK | OK | ||||||||||||||||||||||||||||||
| 187/421 | HMP2Data 1.14.0 (landing page) | John Stansfield | OK | OK | OK | ||||||||||||||||||||||||||||||
| 188/421 | HSMMSingleCell 1.20.0 (landing page) | Cole Trapnell | OK | OK | WARNINGS | ||||||||||||||||||||||||||||||
| 189/421 | HumanAffyData 1.26.0 (landing page) | Brad Nelms | OK | OK | OK | ||||||||||||||||||||||||||||||
| 190/421 | humanStemCell 0.40.0 (landing page) | R. Gentleman | OK | OK | WARNINGS | ||||||||||||||||||||||||||||||
|
| ||||||||||||||||||||||||||||||||||
| Package | Maintainer | INSTALL | BUILD | CHECK | |||||||||||||||||||||||||||||||
| 191/421 | IHWpaper 1.28.0 (landing page) | Nikos Ignatiadis | OK | OK | OK | ||||||||||||||||||||||||||||||
| 192/421 | Illumina450ProbeVariants.db 1.36.0 (landing page) | Tiffany Morris | OK | OK | OK | ||||||||||||||||||||||||||||||
| 193/421 | IlluminaDataTestFiles 1.38.0 (landing page) | Kasper Daniel Hansen | OK | OK | OK | ||||||||||||||||||||||||||||||
| 194/421 | imcdatasets 1.8.0 (landing page) | Nicolas Damond | OK | OK | OK | ||||||||||||||||||||||||||||||
| 195/421 | ITALICSData 2.38.0 (landing page) | Guillem Rigaill | OK | OK | WARNINGS | ||||||||||||||||||||||||||||||
| 196/421 | Iyer517 1.42.0 (landing page) | Vince Carey | OK | OK | OK | ||||||||||||||||||||||||||||||
|
| ||||||||||||||||||||||||||||||||||
| Package | Maintainer | INSTALL | BUILD | CHECK | |||||||||||||||||||||||||||||||
| 197/421 | JASPAR2014 1.36.0 (landing page) | Ge Tan | OK | OK | WARNINGS | ||||||||||||||||||||||||||||||
| 198/421 | JASPAR2016 1.28.0 (landing page) | Ge Tan | OK | OK | OK | ||||||||||||||||||||||||||||||
|
| ||||||||||||||||||||||||||||||||||
| Package | Maintainer | INSTALL | BUILD | CHECK | |||||||||||||||||||||||||||||||
| 199/421 | KEGGandMetacoreDzPathwaysGEO 1.20.0 (landing page) | Gaurav Bhatti | OK | OK | OK | ||||||||||||||||||||||||||||||
| 200/421 | KEGGdzPathwaysGEO 1.38.0 (landing page) | Gaurav Bhatti | OK | OK | OK | ||||||||||||||||||||||||||||||
| 201/421 | kidpack 1.42.0 (landing page) | Wolfgang Huber | OK | OK | WARNINGS | ||||||||||||||||||||||||||||||
| 202/421 | KOdata 1.26.0 (landing page) | Shana White | OK | OK | WARNINGS | ||||||||||||||||||||||||||||||
|
| ||||||||||||||||||||||||||||||||||
| Package | Maintainer | INSTALL | BUILD | CHECK | |||||||||||||||||||||||||||||||
| 203/421 | leeBamViews 1.36.0 (landing page) | VJ Carey | OK | OK | OK | ||||||||||||||||||||||||||||||
| 204/421 | leukemiasEset 1.36.0 (landing page) | Sara Aibar | OK | OK | OK | ||||||||||||||||||||||||||||||
| 205/421 | LiebermanAidenHiC2009 0.38.0 (landing page) | Felix Klein | OK | OK | WARNINGS | ||||||||||||||||||||||||||||||
| 206/421 | ListerEtAlBSseq 1.32.1 (landing page) | Mattia Furlan | OK | OK | WARNINGS | ||||||||||||||||||||||||||||||
| 207/421 | LRcellTypeMarkers 1.8.0 (landing page) | Wenjing Ma | OK | OK | OK | ||||||||||||||||||||||||||||||
| 208/421 | lumiBarnes 1.40.0 (landing page) | Pan Du | OK | OK | WARNINGS | ||||||||||||||||||||||||||||||
| 209/421 | LungCancerACvsSCCGEO 1.36.0 (landing page) | Adi Laurentiu Tarca | OK | OK | OK | ||||||||||||||||||||||||||||||
| 210/421 | LungCancerLines 0.38.0 (landing page) | Cory Barr | OK | OK | OK | ||||||||||||||||||||||||||||||
| 211/421 | lungExpression 0.38.0 (landing page) | Robert Scharpf | OK | OK | OK | ||||||||||||||||||||||||||||||
| 212/421 | lydata 1.26.0 (landing page) | Alex Pickering | OK | OK | OK | ||||||||||||||||||||||||||||||
|
| ||||||||||||||||||||||||||||||||||
| Package | Maintainer | INSTALL | BUILD | CHECK | |||||||||||||||||||||||||||||||
| 213/421 | M3DExampleData 1.26.0 (landing page) | Tallulah Andrews | OK | OK | WARNINGS | ||||||||||||||||||||||||||||||
| 214/421 | macrophage 1.16.0 (landing page) | Michael Love | OK | OK | WARNINGS | ||||||||||||||||||||||||||||||
| 215/421 | MACSdata 1.8.0 (landing page) | Qiang Hu | OK | OK | OK | ||||||||||||||||||||||||||||||
| 216/421 | mammaPrintData 1.36.0 (landing page) | Luigi Marchionni | OK | OK | OK | ||||||||||||||||||||||||||||||
| 217/421 | mAPKLData 1.32.0 (landing page) | Argiris Sakellariou | OK | OK | WARNINGS | ||||||||||||||||||||||||||||||
| 218/421 | maqcExpression4plex 1.44.0 (landing page) | Benilton Carvalho | OK | OK | OK | ||||||||||||||||||||||||||||||
| 219/421 | MAQCsubset 1.38.0 (landing page) | VJ Carey | OK | OK | WARNINGS | ||||||||||||||||||||||||||||||
| 220/421 | MAQCsubsetILM 1.38.0 (landing page) | Laurent Gatto | OK | OK | OK | ||||||||||||||||||||||||||||||
| 221/421 | marinerData 1.0.0 (landing page) | Eric Davis | OK | OK | OK | ||||||||||||||||||||||||||||||
| 222/421 | mCSEAdata 1.20.1 (landing page) | Jordi Martorell Marugán | OK | OK | OK | ||||||||||||||||||||||||||||||
| 223/421 | mcsurvdata 1.18.0 (landing page) | Adria Caballe Mestres | OK | OK | ERROR | ||||||||||||||||||||||||||||||
| 224/421 | MEDIPSData 1.36.0 (landing page) | Lukas Chavez | OK | OK | WARNINGS | ||||||||||||||||||||||||||||||
| 225/421 | MEEBOdata 1.38.0 (landing page) | Agnes Paquet | OK | OK | WARNINGS | ||||||||||||||||||||||||||||||
| 226/421 | MerfishData 1.2.0 (landing page) | Ludwig Geistlinger | OK | OK | OK | ||||||||||||||||||||||||||||||
| 227/421 | MetaGxBreast 1.20.0 (landing page) | Benjamin Haibe-Kains | OK | OK | OK | ||||||||||||||||||||||||||||||
| 228/421 | MetaGxOvarian 1.20.0 (landing page) | Benjamin Haibe-Kains | OK | OK | WARNINGS | ||||||||||||||||||||||||||||||
| 229/421 | MetaGxPancreas 1.20.0 (landing page) | Benjamin Haibe-Kains | OK | OK | OK | ||||||||||||||||||||||||||||||
| 230/421 | metaMSdata 1.36.0 (landing page) | Yann Guitton | OK | OK | OK | ||||||||||||||||||||||||||||||
| 231/421 | MetaScope 1.0.0 (landing page) | Aubrey Odom-Mabey | OK | OK | ERROR | ||||||||||||||||||||||||||||||
| 232/421 | MethylAidData 1.32.0 (landing page) | M. van Iterson | OK | OK | OK | ||||||||||||||||||||||||||||||
| 233/421 | methylclockData 1.8.1 (landing page) | Dolors Pelegri-Siso | OK | OK | OK | ||||||||||||||||||||||||||||||
| 234/421 | MethylSeqData 1.10.0 (landing page) | Peter Hickey | OK | OK | OK | ||||||||||||||||||||||||||||||
| 235/421 | MicrobiomeBenchmarkData 1.2.0 (landing page) | Samuel Gamboa | OK | OK | OK | ||||||||||||||||||||||||||||||
| 236/421 | microbiomeDataSets 1.8.0 (landing page) | Leo Lahti | OK | OK | OK | ||||||||||||||||||||||||||||||
| 237/421 | microRNAome 1.22.0 (landing page) | Matthew N. McCall | OK | OK | WARNINGS | ||||||||||||||||||||||||||||||
| 238/421 | MIGSAdata 1.24.0 (landing page) | Juan C. Rodriguez | OK | OK | ERROR | ||||||||||||||||||||||||||||||
| 239/421 | minfiData 0.46.0 (landing page) | Kasper Daniel Hansen | OK | OK | WARNINGS | ||||||||||||||||||||||||||||||
| 240/421 | minfiDataEPIC 1.26.0 (landing page) | Kasper Daniel Hansen | OK | OK | WARNINGS | ||||||||||||||||||||||||||||||
| 241/421 | minionSummaryData 1.30.0 (landing page) | Mike Smith | OK | OK | WARNINGS | ||||||||||||||||||||||||||||||
| 242/421 | miRcompData 1.30.0 (landing page) | Matthew N. McCall | OK | OK | OK | ||||||||||||||||||||||||||||||
| 243/421 | miRNATarget 1.38.0 (landing page) | Y-h. Taguchi | OK | OK | OK | ||||||||||||||||||||||||||||||
| 244/421 | MMAPPR2data 1.14.0 (landing page) | Jonathon Hill | OK | OK | OK | ||||||||||||||||||||||||||||||
| 245/421 | MMDiffBamSubset 1.36.0 (landing page) | Gabriele Schweikert | OK | OK | OK | ||||||||||||||||||||||||||||||
| 246/421 | MOFAdata 1.16.1 (landing page) | Britta Velten | OK | OK | OK | ||||||||||||||||||||||||||||||
| 247/421 | mosaicsExample 1.38.0 (landing page) | Dongjun Chung | OK | OK | WARNINGS | ||||||||||||||||||||||||||||||
| 248/421 | mouse4302barcodevecs 1.38.0 (landing page) | Matthew N. McCall | OK | OK | OK | ||||||||||||||||||||||||||||||
| 249/421 | MouseGastrulationData 1.14.0 (landing page) | Jonathan Griffiths | OK | OK | OK | ||||||||||||||||||||||||||||||
| 250/421 | MouseThymusAgeing 1.8.0 (landing page) | Mike Morgan | OK | OK | OK | ||||||||||||||||||||||||||||||
| 251/421 | msd16s 1.20.0 (landing page) | Joseph N. Paulson | OK | OK | OK | ||||||||||||||||||||||||||||||
| 252/421 | msdata 0.40.0 (landing page) | Steffen Neumann | OK | OK | OK | ||||||||||||||||||||||||||||||
| 253/421 | msigdb 1.8.0 (landing page) | Dharmesh D. Bhuva | OK | OK | WARNINGS | ||||||||||||||||||||||||||||||
| 254/421 | MSMB 1.18.0 (landing page) | Wolfgang Huber | OK | OK | OK | ||||||||||||||||||||||||||||||
| 255/421 | msPurityData 1.28.0 (landing page) | Thomas N. Lawson | OK | OK | OK | ||||||||||||||||||||||||||||||
| 256/421 | msqc1 1.28.0 (landing page) | Christian Panse | OK | OK | OK | ||||||||||||||||||||||||||||||
| 257/421 | mtbls2 1.30.0 (landing page) | Steffen Neumann | OK | OK | WARNINGS | ||||||||||||||||||||||||||||||
| 258/421 | MUGAExampleData 1.20.0 (landing page) | Daniel Gatti | OK | OK | OK | ||||||||||||||||||||||||||||||
| 259/421 | muscData 1.14.0 (landing page) | Helena L. Crowell | OK | OK | WARNINGS | ||||||||||||||||||||||||||||||
| 260/421 | mvoutData 1.36.0 (landing page) | VJ Carey | OK | OK | OK | ||||||||||||||||||||||||||||||
|
| ||||||||||||||||||||||||||||||||||
| Package | Maintainer | INSTALL | BUILD | CHECK | |||||||||||||||||||||||||||||||
| 261/421 | NanoporeRNASeq 1.10.0 (landing page) | Ying Chen | OK | OK | OK | ||||||||||||||||||||||||||||||
| 262/421 | nanotubes 1.16.0 (landing page) | Malte Thodberg | OK | OK | OK | ||||||||||||||||||||||||||||||
| 263/421 | NCIgraphData 1.36.0 (landing page) | Laurent Jacob | OK | OK | WARNINGS | ||||||||||||||||||||||||||||||
| 264/421 | NestLink 1.16.0 (landing page) | Lennart Opitz | OK | OK | OK | ||||||||||||||||||||||||||||||
| 265/421 | NetActivityData 1.2.0 (landing page) | Carlos Ruiz-Arenas | OK | OK | OK | ||||||||||||||||||||||||||||||
| 266/421 | Neve2006 0.38.0 (landing page) | VJ Carey | OK | OK | OK | ||||||||||||||||||||||||||||||
| 267/421 | NGScopyData 1.20.0 (landing page) | Xiaobei Zhao | OK | OK | OK | ||||||||||||||||||||||||||||||
| 268/421 | nullrangesData 1.6.0 (landing page) | Michael Love | OK | OK | OK | ||||||||||||||||||||||||||||||
| 269/421 | NxtIRFdata 1.6.0 (landing page) | Alex Chit Hei Wong | OK | OK | OK | ||||||||||||||||||||||||||||||
|
| ||||||||||||||||||||||||||||||||||
| Package | Maintainer | INSTALL | BUILD | CHECK | |||||||||||||||||||||||||||||||
| 270/421 | ObMiTi 1.8.0 (landing page) | Omar Elashkar | OK | OK | OK | ||||||||||||||||||||||||||||||
| 271/421 | oct4 1.16.0 (landing page) | Michael Love | OK | OK | OK | ||||||||||||||||||||||||||||||
| 272/421 | octad.db 1.2.0 (landing page) | E. Chekalin | OK | OK | OK | ||||||||||||||||||||||||||||||
| 273/421 | OMICsPCAdata 1.18.0 (landing page) | Subhadeep Das | OK | OK | WARNINGS | ||||||||||||||||||||||||||||||
| 274/421 | OnassisJavaLibs 1.22.0 (landing page) | Eugenia Galeota | OK | OK | OK | ||||||||||||||||||||||||||||||
| 275/421 | optimalFlowData 1.12.0 (landing page) | Hristo Inouzhe | OK | OK | WARNINGS | ||||||||||||||||||||||||||||||
|
| ||||||||||||||||||||||||||||||||||
| Package | Maintainer | INSTALL | BUILD | CHECK | |||||||||||||||||||||||||||||||
| 276/421 | parathyroidSE 1.38.0 (landing page) | Michael Love | OK | OK | OK | ||||||||||||||||||||||||||||||
| 277/421 | pasilla 1.28.0 (landing page) | Alejandro Reyes | OK | OK | WARNINGS | ||||||||||||||||||||||||||||||
| 278/421 | pasillaBamSubset 0.38.0 (landing page) | Hervé Pagès | OK | OK | OK | ||||||||||||||||||||||||||||||
| 279/421 | PasillaTranscriptExpr 1.28.0 (landing page) | Malgorzata Nowicka | OK | OK | OK | ||||||||||||||||||||||||||||||
| 280/421 | PathNetData 1.36.1 (landing page) | Ludwig Geistlinger | OK | OK | OK | ||||||||||||||||||||||||||||||
| 281/421 | PCHiCdata 1.28.0 (landing page) | Mikhail Spivakov | OK | OK | WARNINGS | ||||||||||||||||||||||||||||||
| 282/421 | pcxnData 2.22.0 (landing page) | Sokratis Kariotis | OK | OK | WARNINGS | ||||||||||||||||||||||||||||||
| 283/421 | pd.atdschip.tiling 0.38.0 (landing page) | Kristof De Beuf | OK | OK | WARNINGS | ||||||||||||||||||||||||||||||
| 284/421 | pepDat 1.20.0 (landing page) | Renan Sauteraud | OK | OK | OK | ||||||||||||||||||||||||||||||
| 285/421 | PepsNMRData 1.18.0 (landing page) | Manon Martin | OK | OK | WARNINGS | ||||||||||||||||||||||||||||||
| 286/421 | PhyloProfileData 1.14.0 (landing page) | Vinh Tran | OK | OK | OK | ||||||||||||||||||||||||||||||
| 287/421 | Alexis Delabriere | OK | OK | WARNINGS | |||||||||||||||||||||||||||||||
| 288/421 | plotgardenerData 1.6.0 (landing page) | Nicole Kramer | OK | OK | WARNINGS | ||||||||||||||||||||||||||||||
| 289/421 | prebsdata 1.36.0 (landing page) | Karolis Uziela | OK | OK | OK | ||||||||||||||||||||||||||||||
| 290/421 | preciseTADhub 1.8.0 (landing page) | Mikhail Dozmorov | OK | OK | OK | ||||||||||||||||||||||||||||||
| 291/421 | PREDAsampledata 0.40.0 (landing page) | Francesco Ferrari | OK | OK | OK | ||||||||||||||||||||||||||||||
| 292/421 | ProData 1.38.0 (landing page) | Xiaochun Li | OK | OK | OK | ||||||||||||||||||||||||||||||
| 293/421 | pRolocdata 1.38.0 (landing page) | Laurent Gatto | OK | OK | OK | ||||||||||||||||||||||||||||||
| 294/421 | prostateCancerCamcap 1.28.0 (landing page) | Mark Dunning | OK | OK | WARNINGS | ||||||||||||||||||||||||||||||
| 295/421 | prostateCancerGrasso 1.28.0 (landing page) | Mark Dunning | OK | OK | WARNINGS | ||||||||||||||||||||||||||||||
| 296/421 | prostateCancerStockholm 1.28.0 (landing page) | Mark Dunning | OK | OK | WARNINGS | ||||||||||||||||||||||||||||||
| 297/421 | prostateCancerTaylor 1.28.0 (landing page) | Mark Dunning | OK | OK | WARNINGS | ||||||||||||||||||||||||||||||
| 298/421 | prostateCancerVarambally 1.28.0 (landing page) | Mark Dunning | OK | OK | WARNINGS | ||||||||||||||||||||||||||||||
| 299/421 | ptairData 1.8.0 (landing page) | camille Roquencourt | OK | OK | OK | ||||||||||||||||||||||||||||||
| 300/421 | PtH2O2lipids 1.26.0 (landing page) | James Collins | OK | OK | WARNINGS | ||||||||||||||||||||||||||||||
| 301/421 | pumadata 2.36.0 (landing page) | Xuejun liu | OK | OK | OK | ||||||||||||||||||||||||||||||
| 302/421 | PWMEnrich.Dmelanogaster.background 4.34.0 (landing page) | Diego Diez | OK | OK | OK | ||||||||||||||||||||||||||||||
| 303/421 | PWMEnrich.Hsapiens.background 4.34.0 (landing page) | Diego Diez | OK | OK | OK | ||||||||||||||||||||||||||||||
| 304/421 | PWMEnrich.Mmusculus.background 4.34.0 (landing page) | Diego Diez | OK | OK | OK | ||||||||||||||||||||||||||||||
| 305/421 | pwrEWAS.data 1.14.0 (landing page) | Stefan Graw | OK | OK | ERROR | ||||||||||||||||||||||||||||||
|
| ||||||||||||||||||||||||||||||||||
| Package | Maintainer | INSTALL | BUILD | CHECK | |||||||||||||||||||||||||||||||
| 306/421 | QDNAseq.hg19 1.30.0 (landing page) | Daoud Sie | OK | OK | OK | ||||||||||||||||||||||||||||||
| 307/421 | QDNAseq.mm10 1.30.0 (landing page) | Daoud Sie | OK | OK | OK | ||||||||||||||||||||||||||||||
| 308/421 | qPLEXdata 1.18.0 (landing page) | Kamal Kishore Developer | OK | OK | ERROR | ||||||||||||||||||||||||||||||
| 309/421 | QUBICdata 1.28.0 (landing page) | Yu Zhang | OK | OK | OK | ||||||||||||||||||||||||||||||
|
| ||||||||||||||||||||||||||||||||||
| Package | Maintainer | INSTALL | BUILD | CHECK | |||||||||||||||||||||||||||||||
| 310/421 | rcellminerData 2.22.0 (landing page) | Augustin Luna | OK | OK | WARNINGS | ||||||||||||||||||||||||||||||
| 311/421 | RcisTarget.hg19.motifDBs.cisbpOnly.500bp 1.20.0 (landing page) | Sara Aibar | OK | OK | WARNINGS | ||||||||||||||||||||||||||||||
| 312/421 | ReactomeGSA.data 1.14.0 (landing page) | Johannes Griss | OK | OK | OK | ||||||||||||||||||||||||||||||
| 313/421 | RegParallel 1.18.0 (landing page) | Kevin Blighe | OK | OK | OK | ||||||||||||||||||||||||||||||
| 314/421 | restfulSEData 1.22.1 (landing page) | Bioconductor Package Maintainer | OK | OK | OK | ||||||||||||||||||||||||||||||
| 315/421 | RforProteomics 1.38.1 (landing page) | Laurent Gatto | OK | ERROR | skipped | ||||||||||||||||||||||||||||||
| 316/421 | RGMQLlib 1.20.0 (landing page) | Simone Pallotta | OK | OK | OK | ||||||||||||||||||||||||||||||
| 317/421 | rheumaticConditionWOLLBOLD 1.38.0 (landing page) | Alejandro Quiroz-Zarate | OK | OK | OK | ||||||||||||||||||||||||||||||
| 318/421 | RITANdata (landing page) | ERROR (Bad DESCRIPTION file) | |||||||||||||||||||||||||||||||||
| 319/421 | RLHub 1.6.0 (landing page) | Henry Miller | OK | OK | ERROR | ||||||||||||||||||||||||||||||
| 320/421 | RMassBankData 1.38.0 (landing page) | Michael Stravs, Emma Schymanski | OK | OK | OK | ||||||||||||||||||||||||||||||
| 321/421 | RNAinteractMAPK 1.38.0 (landing page) | Mike Smith | OK | OK | OK | ||||||||||||||||||||||||||||||
| 322/421 | RNAmodR.Data 1.14.0 (landing page) | Felix G.M. Ernst | OK | OK | OK | ||||||||||||||||||||||||||||||
| 323/421 | RNAseqData.HNRNPC.bam.chr14 0.38.0 (landing page) | Hervé Pagès | OK | OK | OK | ||||||||||||||||||||||||||||||
| 324/421 | RnaSeqSampleSizeData 1.32.0 (landing page) | Shilin Zhao | OK | OK | OK | ||||||||||||||||||||||||||||||
| 325/421 | RnBeads.hg19 1.32.0 (landing page) | RnBeadsAnnotationCreator | OK | OK | WARNINGS | ||||||||||||||||||||||||||||||
| 326/421 | RnBeads.hg38 1.32.0 (landing page) | RnBeadsAnnotationCreator | OK | OK | OK | ||||||||||||||||||||||||||||||
| 327/421 | RnBeads.mm10 2.8.0 (landing page) | RnBeads Team | OK | OK | OK | ||||||||||||||||||||||||||||||
| 328/421 | RnBeads.mm9 1.32.0 (landing page) | RnBeadsAnnotationCreator | OK | OK | WARNINGS | ||||||||||||||||||||||||||||||
| 329/421 | RnBeads.rn5 1.32.0 (landing page) | RnBeadsAnnotationCreator | OK | OK | OK | ||||||||||||||||||||||||||||||
| 330/421 | RRBSdata 1.20.0 (landing page) | Katja Hebestreit | OK | OK | OK | ||||||||||||||||||||||||||||||
| 331/421 | rRDPData 1.20.0 (landing page) | Michael Hahsler | OK | OK | OK | ||||||||||||||||||||||||||||||
| 332/421 | RTCGA.clinical 20151101.30.0 (landing page) | Marcin Kosinski | OK | OK | WARNINGS | ||||||||||||||||||||||||||||||
| 333/421 | RTCGA.CNV 1.28.0 (landing page) | Marcin Kosinski | OK | OK | WARNINGS | ||||||||||||||||||||||||||||||
| 334/421 | RTCGA.methylation 1.28.0 (landing page) | Marcin Kosinski | OK | OK | WARNINGS | ||||||||||||||||||||||||||||||
| 335/421 | RTCGA.miRNASeq 1.28.0 (landing page) | Marcin Kosinski | OK | OK | WARNINGS | ||||||||||||||||||||||||||||||
| 336/421 | RTCGA.mRNA 1.28.0 (landing page) | Marcin Kosinski | OK | OK | WARNINGS | ||||||||||||||||||||||||||||||
| 337/421 | RTCGA.mutations 20151101.30.0 (landing page) | Marcin Kosinski | OK | OK | WARNINGS | ||||||||||||||||||||||||||||||
| 338/421 | RTCGA.PANCAN12 1.28.0 (landing page) | Marcin Kosinski | OK | OK | OK | ||||||||||||||||||||||||||||||
| 339/421 | RTCGA.rnaseq 20151101.30.0 (landing page) | Marcin Kosinski | OK | OK | WARNINGS | ||||||||||||||||||||||||||||||
| 340/421 | RTCGA.RPPA 1.28.0 (landing page) | Marcin Kosinski | OK | OK | WARNINGS | ||||||||||||||||||||||||||||||
| 341/421 | RUVnormalizeData 1.20.0 (landing page) | Laurent Jacob | OK | OK | OK | ||||||||||||||||||||||||||||||
|
| ||||||||||||||||||||||||||||||||||
| Package | Maintainer | INSTALL | BUILD | CHECK | |||||||||||||||||||||||||||||||
| 342/421 | sampleClassifierData 1.24.0 (landing page) | Khadija El Amrani | OK | OK | OK | ||||||||||||||||||||||||||||||
| 343/421 | SBGNview.data 1.14.0 (landing page) | Weijun Luo | OK | OK | OK | ||||||||||||||||||||||||||||||
| 344/421 | scanMiRData 1.6.0 (landing page) | Fridolin Gross | OK | OK | OK | ||||||||||||||||||||||||||||||
| 345/421 | scATAC.Explorer 1.6.0 (landing page) | Arrian Gibson-Khademi | OK | OK | OK | ||||||||||||||||||||||||||||||
| 346/421 | SCATEData 1.10.0 (landing page) | Wenpin Hou | OK | OK | ERROR | ||||||||||||||||||||||||||||||
| 347/421 | SCLCBam 1.32.0 (landing page) | Oscar Krijgsman | OK | OK | OK | ||||||||||||||||||||||||||||||
| 348/421 | scMultiome 1.0.1 (landing page) | Xiaosai Yao | OK | OK | OK | ||||||||||||||||||||||||||||||
| 349/421 | scpdata 1.8.0 (landing page) | Christophe Vanderaa | OK | OK | OK | ||||||||||||||||||||||||||||||
| 350/421 | scRNAseq 2.14.0 (landing page) | Aaron Lun | OK | OK | OK | ||||||||||||||||||||||||||||||
| 351/421 | scTHI.data 1.12.0 (landing page) | Michele Ceccarelli | OK | OK | OK | ||||||||||||||||||||||||||||||
| 352/421 | seq2pathway.data 1.32.0 (landing page) | Arjun Kinstlick | OK | OK | WARNINGS | ||||||||||||||||||||||||||||||
| 353/421 | seqc 1.34.0 (landing page) | Yang Liao | OK | OK | WARNINGS | ||||||||||||||||||||||||||||||
| 354/421 | seqCNA.annot 1.36.0 (landing page) | David Mosen-Ansorena | OK | OK | OK | ||||||||||||||||||||||||||||||
| 355/421 | serumStimulation 1.36.0 (landing page) | Morten Hansen, | OK | OK | OK | ||||||||||||||||||||||||||||||
| 356/421 | sesameData 1.18.0 (landing page) | Wanding Zhou | OK | OK | OK | ||||||||||||||||||||||||||||||
| 357/421 | seventyGeneData 1.36.1 (landing page) | Luigi Marchionni | OK | OK | OK | ||||||||||||||||||||||||||||||
| 358/421 | SFEData 1.2.0 (landing page) | Lambda Moses | OK | OK | OK | ||||||||||||||||||||||||||||||
| 359/421 | shinyMethylData 1.20.0 (landing page) | Jean-Philippe Fortin | OK | OK | WARNINGS | ||||||||||||||||||||||||||||||
| 360/421 | signatureSearchData 1.14.0 (landing page) | Brendan Gongol | OK | OK | OK | ||||||||||||||||||||||||||||||
| 361/421 | SimBenchData 1.8.0 (landing page) | Yue Cao | OK | OK | OK | ||||||||||||||||||||||||||||||
| 362/421 | simpIntLists 1.36.0 (landing page) | Kircicegi Korkmaz | OK | OK | WARNINGS | ||||||||||||||||||||||||||||||
| 363/421 | Single.mTEC.Transcriptomes 1.28.0 (landing page) | Alejandro Reyes | OK | OK | OK | ||||||||||||||||||||||||||||||
| 364/421 | SingleCellMultiModal 1.12.3 (landing page) | Marcel Ramos | OK | OK | OK | ||||||||||||||||||||||||||||||
| 365/421 | SingleMoleculeFootprintingData 1.8.0 (landing page) | Guido Barzaghi | OK | OK | OK | ||||||||||||||||||||||||||||||
| 366/421 | SNAData 1.46.0 (landing page) | Denise Scholtens | OK | OK | OK | ||||||||||||||||||||||||||||||
| 367/421 | SNAGEEdata 1.36.0 (landing page) | David Venet | OK | OK | OK | ||||||||||||||||||||||||||||||
| 368/421 | SNPhoodData 1.30.0 (landing page) | Christian Arnold | OK | OK | OK | ||||||||||||||||||||||||||||||
| 369/421 | SomatiCAData 1.38.0 (landing page) | Mengjie Chen | OK | OK | WARNINGS | ||||||||||||||||||||||||||||||
| 370/421 | SomaticCancerAlterations 1.36.0 (landing page) | Julian Gehring | OK | OK | OK | ||||||||||||||||||||||||||||||
| 371/421 | spatialDmelxsim 1.6.1 (landing page) | Michael Love | OK | OK | OK | ||||||||||||||||||||||||||||||
| 372/421 | spatialLIBD 1.12.0 (landing page) | Leonardo Collado-Torres | OK | OK | OK | ||||||||||||||||||||||||||||||
| 373/421 | SpikeIn 1.42.1 (landing page) | Robert D Shear | OK | OK | WARNINGS | ||||||||||||||||||||||||||||||
| 374/421 | SpikeInSubset 1.40.1 (landing page) | Robert D Shear | OK | OK | WARNINGS | ||||||||||||||||||||||||||||||
| 375/421 | spqnData 1.12.0 (landing page) | Yi Wang | OK | OK | OK | ||||||||||||||||||||||||||||||
| 376/421 | stemHypoxia 1.36.0 (landing page) | Cristobal Fresno | OK | OK | OK | ||||||||||||||||||||||||||||||
| 377/421 | STexampleData 1.8.0 (landing page) | Lukas M. Weber | OK | OK | OK | ||||||||||||||||||||||||||||||
| 378/421 | stjudem 1.40.0 (landing page) | Joern Toedling | OK | OK | OK | ||||||||||||||||||||||||||||||
| 379/421 | SVM2CRMdata 1.32.0 (landing page) | Guidantonio Malagoli Tagliazucchi | OK | OK | WARNINGS | ||||||||||||||||||||||||||||||
| 380/421 | synapterdata 1.38.0 (landing page) | Laurent Gatto | OK | OK | OK | ||||||||||||||||||||||||||||||
| 381/421 | systemPipeRdata 2.4.0 (landing page) | Thomas Girke | OK | OK | OK | ||||||||||||||||||||||||||||||
|
| ||||||||||||||||||||||||||||||||||
| Package | Maintainer | INSTALL | BUILD | CHECK | |||||||||||||||||||||||||||||||
| 382/421 | TabulaMurisData 1.18.0 (landing page) | Charlotte Soneson | OK | OK | OK | ||||||||||||||||||||||||||||||
| 383/421 | TabulaMurisSenisData 1.6.0 (landing page) | Charlotte Soneson | OK | OK | OK | ||||||||||||||||||||||||||||||
| 384/421 | TargetScoreData 1.36.0 (landing page) | Yue Li | OK | OK | OK | ||||||||||||||||||||||||||||||
| 385/421 | TargetSearchData 1.38.0 (landing page) | Alvaro Cuadros-Inostroza | OK | OK | OK | ||||||||||||||||||||||||||||||
| 386/421 | tartare 1.14.0 (landing page) | Christian Panse | OK | OK | OK | ||||||||||||||||||||||||||||||
| 387/421 | TBX20BamSubset 1.36.0 (landing page) | D. Bindreither | OK | OK | OK | ||||||||||||||||||||||||||||||
| 388/421 | TCGAbiolinksGUI.data 1.20.0 (landing page) | Tiago Chedraoui Silva | OK | OK | WARNINGS | ||||||||||||||||||||||||||||||
| 389/421 | TCGAcrcmiRNA 1.20.0 (landing page) | Claudio Isella | OK | OK | OK | ||||||||||||||||||||||||||||||
| 390/421 | TCGAcrcmRNA 1.20.0 (landing page) | Claudio Isella | OK | OK | OK | ||||||||||||||||||||||||||||||
| 391/421 | TCGAMethylation450k 1.36.0 (landing page) | Sean Davis | OK | OK | OK | ||||||||||||||||||||||||||||||
| 392/421 | TCGAWorkflowData 1.24.1 (landing page) | Tiago Chedraoui Silva | OK | OK | OK | ||||||||||||||||||||||||||||||
| 393/421 | TENxBrainData 1.20.0 (landing page) | Bioconductor Package Maintainer | OK | OK | OK | ||||||||||||||||||||||||||||||
| 394/421 | TENxBUSData 1.14.0 (landing page) | Lambda Moses | OK | OK | OK | ||||||||||||||||||||||||||||||
| 395/421 | TENxPBMCData 1.18.0 (landing page) | Stephanie Hicks | OK | OK | OK | ||||||||||||||||||||||||||||||
| 396/421 | TENxVisiumData 1.8.0 (landing page) | Helena L. Crowell | OK | OK | OK | ||||||||||||||||||||||||||||||
| 397/421 | timecoursedata 1.10.0 (landing page) | Nelle Varoquaux | OK | OK | OK | ||||||||||||||||||||||||||||||
| 398/421 | TimerQuant 1.30.0 (landing page) | Joseph Barry | OK | OK | OK | ||||||||||||||||||||||||||||||
| 399/421 | tinesath1cdf 1.38.0 (landing page) | Tine Casneuf | OK | OK | WARNINGS | ||||||||||||||||||||||||||||||
| 400/421 | tinesath1probe 1.38.0 (landing page) | Tine Casneuf | OK | OK | WARNINGS | ||||||||||||||||||||||||||||||
| 401/421 | tissueTreg 1.20.0 (landing page) | Charles Imbusch | OK | OK | ERROR | ||||||||||||||||||||||||||||||
| 402/421 | TMExplorer 1.10.0 (landing page) | Erik Christensen | OK | OK | OK | ||||||||||||||||||||||||||||||
| 403/421 | tofsimsData 1.28.0 (landing page) | Lorenz Gerber | OK | OK | WARNINGS | ||||||||||||||||||||||||||||||
| 404/421 | topdownrdata 1.22.0 (landing page) | Sebastian Gibb | OK | OK | OK | ||||||||||||||||||||||||||||||
| 405/421 | tuberculosis 1.6.0 (landing page) | Lucas Schiffer | OK | OK | OK | ||||||||||||||||||||||||||||||
| 406/421 | tweeDEseqCountData (landing page) | ERROR (Bad DESCRIPTION file) | |||||||||||||||||||||||||||||||||
| 407/421 | tximportData 1.28.0 (landing page) | Michael Love | OK | OK | OK | ||||||||||||||||||||||||||||||
|
| ||||||||||||||||||||||||||||||||||
| Package | Maintainer | INSTALL | BUILD | CHECK | |||||||||||||||||||||||||||||||
| 408/421 | VariantToolsData 1.24.0 (landing page) | Michael Lawrence | OK | OK | OK | ||||||||||||||||||||||||||||||
| 409/421 | VectraPolarisData 1.4.0 (landing page) | Wrobel Julia | OK | OK | OK | ||||||||||||||||||||||||||||||
| 410/421 | vulcandata 1.22.0 (landing page) | Federico M. Giorgi | OK | OK | WARNINGS | ||||||||||||||||||||||||||||||
|
| ||||||||||||||||||||||||||||||||||
| Package | Maintainer | INSTALL | BUILD | CHECK | |||||||||||||||||||||||||||||||
| 411/421 | WeberDivechaLCdata 1.2.0 (landing page) | Lukas M. Weber | OK | OK | OK | ||||||||||||||||||||||||||||||
| 412/421 | WES.1KG.WUGSC 1.32.0 (landing page) | Yuchao Jiang | OK | OK | OK | ||||||||||||||||||||||||||||||
| 413/421 | WGSmapp 1.12.0 (landing page) | Rujin Wang | OK | OK | WARNINGS | ||||||||||||||||||||||||||||||
|
| ||||||||||||||||||||||||||||||||||
| Package | Maintainer | INSTALL | BUILD | CHECK | |||||||||||||||||||||||||||||||
| 414/421 | xcoredata 1.4.0 (landing page) | Maciej Migdał | OK | OK | OK | ||||||||||||||||||||||||||||||
| 415/421 | XhybCasneuf 1.38.0 (landing page) | Tineke Casneuf | OK | OK | WARNINGS | ||||||||||||||||||||||||||||||
|
| ||||||||||||||||||||||||||||||||||
| Package | Maintainer | INSTALL | BUILD | CHECK | |||||||||||||||||||||||||||||||
| 416/421 | yeastCC 1.40.0 (landing page) | Sandrine Dudoit | OK | OK | WARNINGS | ||||||||||||||||||||||||||||||
| 417/421 | yeastExpData 0.46.0 (landing page) | R. Gentleman | OK | OK | WARNINGS | ||||||||||||||||||||||||||||||
| 418/421 | yeastGSData 0.38.0 (landing page) | R. Gentleman | OK | OK | WARNINGS | ||||||||||||||||||||||||||||||
| 419/421 | yeastNagalakshmi 1.36.0 (landing page) | Bioconductor Package Maintainer | OK | OK | OK | ||||||||||||||||||||||||||||||
| 420/421 | yeastRNASeq 0.38.0 (landing page) | J. Bullard | OK | OK | WARNINGS | ||||||||||||||||||||||||||||||
|
| ||||||||||||||||||||||||||||||||||
| Package | Maintainer | INSTALL | BUILD | CHECK | |||||||||||||||||||||||||||||||
| 421/421 | zebrafishRNASeq 1.20.0 (landing page) | Davide Risso | OK | OK | OK | ||||||||||||||||||||||||||||||