| Back to Build/check report for BioC 3.17 experimental data |
|
This page was generated on 2023-10-12 14:51:36 -0400 (Thu, 12 Oct 2023).
| Hostname | OS | Arch (*) | R version | Installed pkgs |
|---|---|---|---|---|
| nebbiolo1 | Linux (Ubuntu 22.04.2 LTS) | x86_64 | 4.3.1 (2023-06-16) -- "Beagle Scouts" | 4626 |
| Click on any hostname to see more info about the system (e.g. compilers) (*) as reported by 'uname -p', except on Windows and Mac OS X | ||||
| Package 350/421 | Hostname | OS / Arch | INSTALL | BUILD | CHECK | ||||||||
| scRNAseq 2.14.0 (landing page) Aaron Lun
| nebbiolo1 | Linux (Ubuntu 22.04.2 LTS) / x86_64 | OK | OK | OK | ||||||||
|
To the developers/maintainers of the scRNAseq package: - Use the following Renviron settings to reproduce errors and warnings. - If 'R CMD check' started to fail recently on the Linux builder(s) over a missing dependency, add the missing dependency to 'Suggests:' in your DESCRIPTION file. See Renviron.bioc for more information. |
| Package: scRNAseq |
| Version: 2.14.0 |
| Command: /home/biocbuild/bbs-3.17-bioc/R/bin/R CMD check --install=check:scRNAseq.install-out.txt --library=/home/biocbuild/bbs-3.17-bioc/R/site-library --timings scRNAseq_2.14.0.tar.gz |
| StartedAt: 2023-10-12 12:00:49 -0400 (Thu, 12 Oct 2023) |
| EndedAt: 2023-10-12 12:24:50 -0400 (Thu, 12 Oct 2023) |
| EllapsedTime: 1441.6 seconds |
| RetCode: 0 |
| Status: OK |
| CheckDir: scRNAseq.Rcheck |
| Warnings: 0 |
##############################################################################
##############################################################################
###
### Running command:
###
### /home/biocbuild/bbs-3.17-bioc/R/bin/R CMD check --install=check:scRNAseq.install-out.txt --library=/home/biocbuild/bbs-3.17-bioc/R/site-library --timings scRNAseq_2.14.0.tar.gz
###
##############################################################################
##############################################################################
* using log directory ‘/home/biocbuild/bbs-3.17-data-experiment/meat/scRNAseq.Rcheck’
* using R version 4.3.1 (2023-06-16)
* using platform: x86_64-pc-linux-gnu (64-bit)
* R was compiled by
gcc (Ubuntu 11.3.0-1ubuntu1~22.04.1) 11.3.0
GNU Fortran (Ubuntu 11.3.0-1ubuntu1~22.04.1) 11.3.0
* running under: Ubuntu 22.04.3 LTS
* using session charset: UTF-8
* checking for file ‘scRNAseq/DESCRIPTION’ ... OK
* this is package ‘scRNAseq’ version ‘2.14.0’
* package encoding: UTF-8
* checking package namespace information ... OK
* checking package dependencies ... OK
* checking if this is a source package ... OK
* checking if there is a namespace ... OK
* checking for hidden files and directories ... NOTE
Found the following hidden files and directories:
.BBSoptions
These were most likely included in error. See section ‘Package
structure’ in the ‘Writing R Extensions’ manual.
* checking for portable file names ... OK
* checking for sufficient/correct file permissions ... OK
* checking whether package ‘scRNAseq’ can be installed ... OK
* checking installed package size ... OK
* checking package directory ... OK
* checking ‘build’ directory ... OK
* checking DESCRIPTION meta-information ... OK
* checking top-level files ... OK
* checking for left-over files ... OK
* checking index information ... OK
* checking package subdirectories ... NOTE
Problems with news in ‘inst/NEWS.Rd’:
inst/NEWS.Rd:35: unexpected section header '\section'
inst/NEWS.Rd:51: unexpected section header '\section'
inst/NEWS.Rd:59: unexpected section header '\section'
inst/NEWS.Rd:67: unexpected section header '\section'
inst/NEWS.Rd:70: unexpected END_OF_INPUT '
'
* checking R files for non-ASCII characters ... OK
* checking R files for syntax errors ... OK
* checking whether the package can be loaded ... OK
* checking whether the package can be loaded with stated dependencies ... OK
* checking whether the package can be unloaded cleanly ... OK
* checking whether the namespace can be loaded with stated dependencies ... OK
* checking whether the namespace can be unloaded cleanly ... OK
* checking loading without being on the library search path ... OK
* checking dependencies in R code ... OK
* checking S3 generic/method consistency ... OK
* checking replacement functions ... OK
* checking foreign function calls ... OK
* checking R code for possible problems ... OK
* checking Rd files ... OK
* checking Rd metadata ... OK
* checking Rd cross-references ... OK
* checking for missing documentation entries ... OK
* checking for code/documentation mismatches ... OK
* checking Rd \usage sections ... OK
* checking Rd contents ... OK
* checking for unstated dependencies in examples ... OK
* checking files in ‘vignettes’ ... OK
* checking examples ... OK
Examples with CPU (user + system) or elapsed time > 5s
user system elapsed
HeOrganAtlasData 50.035 15.290 68.329
ZeiselNervousData 37.804 5.912 44.749
BhaduriOrganoidData 33.866 3.773 38.038
JessaBrainData 20.506 3.678 25.185
BacherTCellData 20.712 3.017 24.176
ErnstSpermatogenesisData 19.047 2.449 22.474
GiladiHSCData 15.198 2.848 19.219
LunSpikeInData 14.626 2.497 19.303
ZhaoImmuneLiverData 14.570 1.878 16.990
StoeckiusHashingData 13.928 1.742 17.101
LaMannoBrainData 13.267 1.689 16.934
ZilionisLungData 11.452 1.063 13.218
MessmerESCData 9.270 1.579 12.211
BuettnerESCData 8.676 1.815 11.805
ReprocessedData 8.081 1.572 10.405
NestorowaHSCData 8.227 1.406 10.333
RichardTCellData 7.692 1.560 10.187
BachMammaryData 7.449 1.293 10.051
KolodziejczykESCData 7.429 1.300 9.644
SegerstolpePancreasData 7.212 1.290 9.421
BunisHSPCData 7.624 0.789 9.326
AztekinTailData 7.471 0.827 8.762
ZeiselBrainData 7.028 1.238 9.016
KotliarovPBMCData 7.283 0.889 8.720
TasicBrainData 6.229 0.787 7.676
MairPBMCData 5.923 0.824 7.350
BaronPancreasData 5.896 0.619 7.258
CampbellBrainData 5.502 0.703 6.562
ShekharRetinaData 5.075 0.752 6.201
MacoskoRetinaData 5.123 0.648 6.187
NowakowskiCortexData 4.785 0.634 5.890
FletcherOlfactoryData 4.577 0.584 5.644
UsoskinBrainData 4.280 0.712 5.484
LedergorMyelomaData 4.387 0.563 5.209
XinPancreasData 4.473 0.453 5.328
ChenBrainData 4.276 0.647 5.309
HuCortexData 4.324 0.585 5.629
MarquesBrainData 3.528 0.436 13.936
* checking for unstated dependencies in ‘tests’ ... OK
* checking tests ...
Running ‘testthat.R’
OK
* checking for unstated dependencies in vignettes ... OK
* checking package vignettes in ‘inst/doc’ ... OK
* checking running R code from vignettes ...
‘scRNAseq.Rmd’ using ‘UTF-8’... OK
NONE
* checking re-building of vignette outputs ... OK
* checking PDF version of manual ... OK
* DONE
Status: 2 NOTEs
See
‘/home/biocbuild/bbs-3.17-data-experiment/meat/scRNAseq.Rcheck/00check.log’
for details.
scRNAseq.Rcheck/00install.out
############################################################################## ############################################################################## ### ### Running command: ### ### /home/biocbuild/bbs-3.17-bioc/R/bin/R CMD INSTALL scRNAseq ### ############################################################################## ############################################################################## * installing to library ‘/home/biocbuild/bbs-3.17-bioc/R/site-library’ * installing *source* package ‘scRNAseq’ ... ** using staged installation ** R ** inst ** byte-compile and prepare package for lazy loading ** help *** installing help indices ** building package indices ** installing vignettes ** testing if installed package can be loaded from temporary location ** testing if installed package can be loaded from final location ** testing if installed package keeps a record of temporary installation path * DONE (scRNAseq)
scRNAseq.Rcheck/tests/testthat.Rout
R version 4.3.1 (2023-06-16) -- "Beagle Scouts"
Copyright (C) 2023 The R Foundation for Statistical Computing
Platform: x86_64-pc-linux-gnu (64-bit)
R is free software and comes with ABSOLUTELY NO WARRANTY.
You are welcome to redistribute it under certain conditions.
Type 'license()' or 'licence()' for distribution details.
R is a collaborative project with many contributors.
Type 'contributors()' for more information and
'citation()' on how to cite R or R packages in publications.
Type 'demo()' for some demos, 'help()' for on-line help, or
'help.start()' for an HTML browser interface to help.
Type 'q()' to quit R.
> library(testthat)
> library(scRNAseq)
Loading required package: SingleCellExperiment
Loading required package: SummarizedExperiment
Loading required package: MatrixGenerics
Loading required package: matrixStats
Attaching package: 'MatrixGenerics'
The following objects are masked from 'package:matrixStats':
colAlls, colAnyNAs, colAnys, colAvgsPerRowSet, colCollapse,
colCounts, colCummaxs, colCummins, colCumprods, colCumsums,
colDiffs, colIQRDiffs, colIQRs, colLogSumExps, colMadDiffs,
colMads, colMaxs, colMeans2, colMedians, colMins, colOrderStats,
colProds, colQuantiles, colRanges, colRanks, colSdDiffs, colSds,
colSums2, colTabulates, colVarDiffs, colVars, colWeightedMads,
colWeightedMeans, colWeightedMedians, colWeightedSds,
colWeightedVars, rowAlls, rowAnyNAs, rowAnys, rowAvgsPerColSet,
rowCollapse, rowCounts, rowCummaxs, rowCummins, rowCumprods,
rowCumsums, rowDiffs, rowIQRDiffs, rowIQRs, rowLogSumExps,
rowMadDiffs, rowMads, rowMaxs, rowMeans2, rowMedians, rowMins,
rowOrderStats, rowProds, rowQuantiles, rowRanges, rowRanks,
rowSdDiffs, rowSds, rowSums2, rowTabulates, rowVarDiffs, rowVars,
rowWeightedMads, rowWeightedMeans, rowWeightedMedians,
rowWeightedSds, rowWeightedVars
Loading required package: GenomicRanges
Loading required package: stats4
Loading required package: BiocGenerics
Attaching package: 'BiocGenerics'
The following objects are masked from 'package:stats':
IQR, mad, sd, var, xtabs
The following objects are masked from 'package:base':
Filter, Find, Map, Position, Reduce, anyDuplicated, aperm, append,
as.data.frame, basename, cbind, colnames, dirname, do.call,
duplicated, eval, evalq, get, grep, grepl, intersect, is.unsorted,
lapply, mapply, match, mget, order, paste, pmax, pmax.int, pmin,
pmin.int, rank, rbind, rownames, sapply, setdiff, sort, table,
tapply, union, unique, unsplit, which.max, which.min
Loading required package: S4Vectors
Attaching package: 'S4Vectors'
The following object is masked from 'package:utils':
findMatches
The following objects are masked from 'package:base':
I, expand.grid, unname
Loading required package: IRanges
Loading required package: GenomeInfoDb
Loading required package: Biobase
Welcome to Bioconductor
Vignettes contain introductory material; view with
'browseVignettes()'. To cite Bioconductor, see
'citation("Biobase")', and for packages 'citation("pkgname")'.
Attaching package: 'Biobase'
The following object is masked from 'package:MatrixGenerics':
rowMedians
The following objects are masked from 'package:matrixStats':
anyMissing, rowMedians
> test_check("scRNAseq")
[ FAIL 0 | WARN 37 | SKIP 0 | PASS 120 ]
[ FAIL 0 | WARN 37 | SKIP 0 | PASS 120 ]
Warning message:
call dbDisconnect() when finished working with a connection
>
> proc.time()
user system elapsed
444.561 68.077 564.946
scRNAseq.Rcheck/scRNAseq-Ex.timings
| name | user | system | elapsed | |
| AztekinTailData | 7.471 | 0.827 | 8.762 | |
| BachMammaryData | 7.449 | 1.293 | 10.051 | |
| BacherTCellData | 20.712 | 3.017 | 24.176 | |
| BaronPancreasData | 5.896 | 0.619 | 7.258 | |
| BhaduriOrganoidData | 33.866 | 3.773 | 38.038 | |
| BuettnerESCData | 8.676 | 1.815 | 11.805 | |
| BunisHSPCData | 7.624 | 0.789 | 9.326 | |
| CampbellBrainData | 5.502 | 0.703 | 6.562 | |
| ChenBrainData | 4.276 | 0.647 | 5.309 | |
| DarmanisBrainData | 2.829 | 0.405 | 3.625 | |
| ERCCSpikeInConcentrations | 1.284 | 0.232 | 1.789 | |
| ErnstSpermatogenesisData | 19.047 | 2.449 | 22.474 | |
| FletcherOlfactoryData | 4.577 | 0.584 | 5.644 | |
| GiladiHSCData | 15.198 | 2.848 | 19.219 | |
| GrunHSCData | 1.773 | 0.192 | 2.252 | |
| GrunPancreasData | 3.464 | 0.454 | 4.462 | |
| HeOrganAtlasData | 50.035 | 15.290 | 68.329 | |
| HermannSpermatogenesisData | 4.026 | 0.451 | 4.915 | |
| HuCortexData | 4.324 | 0.585 | 5.629 | |
| JessaBrainData | 20.506 | 3.678 | 25.185 | |
| KolodziejczykESCData | 7.429 | 1.300 | 9.644 | |
| KotliarovPBMCData | 7.283 | 0.889 | 8.720 | |
| LaMannoBrainData | 13.267 | 1.689 | 16.934 | |
| LawlorPancreasData | 2.823 | 0.360 | 3.538 | |
| LedergorMyelomaData | 4.387 | 0.563 | 5.209 | |
| LengESCData | 2.616 | 0.295 | 3.275 | |
| LunSpikeInData | 14.626 | 2.497 | 19.303 | |
| MacoskoRetinaData | 5.123 | 0.648 | 6.187 | |
| MairPBMCData | 5.923 | 0.824 | 7.350 | |
| MarquesBrainData | 3.528 | 0.436 | 13.936 | |
| MessmerESCData | 9.270 | 1.579 | 12.211 | |
| MuraroPancreasData | 3.836 | 0.540 | 4.742 | |
| NestorowaHSCData | 8.227 | 1.406 | 10.333 | |
| NowakowskiCortexData | 4.785 | 0.634 | 5.890 | |
| PaulHSCData | 3.726 | 0.668 | 4.776 | |
| PollenGliaData | 2.505 | 0.396 | 3.270 | |
| ReprocessedData | 8.081 | 1.572 | 10.405 | |
| RichardTCellData | 7.692 | 1.560 | 10.187 | |
| RomanovBrainData | 3.498 | 0.446 | 4.308 | |
| SegerstolpePancreasData | 7.212 | 1.290 | 9.421 | |
| ShekharRetinaData | 5.075 | 0.752 | 6.201 | |
| StoeckiusHashingData | 13.928 | 1.742 | 17.101 | |
| TasicBrainData | 6.229 | 0.787 | 7.676 | |
| UsoskinBrainData | 4.280 | 0.712 | 5.484 | |
| WuKidneyData | 2.259 | 0.296 | 2.839 | |
| XinPancreasData | 4.473 | 0.453 | 5.328 | |
| ZeiselBrainData | 7.028 | 1.238 | 9.016 | |
| ZeiselNervousData | 37.804 | 5.912 | 44.749 | |
| ZhaoImmuneLiverData | 14.570 | 1.878 | 16.990 | |
| ZhongPrefrontalData | 3.391 | 0.304 | 4.068 | |
| ZilionisLungData | 11.452 | 1.063 | 13.218 | |
| listDatasets | 0.010 | 0.008 | 0.018 | |