| Back to Multiple platform build/check report for BioC 3.11 (small subset of software packages ONLY) |
This page was generated on 2020-01-24 03:57:03 -0500 (Fri, 24 Jan 2020).
| Package 25/41 | Hostname | OS / Arch | INSTALL | BUILD | CHECK | BUILD BIN | |||||
| HDF5Array 1.15.2 Hervé Pagès
| malbec2 | Linux (Ubuntu 18.04.3 LTS) / x86_64 | OK | [ OK ] | OK | ||||||
| tokay2 | Windows Server 2012 R2 Standard / x64 | OK | OK | WARNINGS | OK |
| Package: HDF5Array |
| Version: 1.15.2 |
| Command: /home/biocbuild/bbs-3.11-bioc/R/bin/R CMD build --keep-empty-dirs --no-resave-data HDF5Array |
| StartedAt: 2020-01-24 02:42:06 -0500 (Fri, 24 Jan 2020) |
| EndedAt: 2020-01-24 02:42:08 -0500 (Fri, 24 Jan 2020) |
| EllapsedTime: 2.0 seconds |
| RetCode: 0 |
| Status: OK |
| PackageFile: HDF5Array_1.15.2.tar.gz |
| PackageFileSize: 7.678 MiB |
############################################################################## ############################################################################## ### ### Running command: ### ### /home/biocbuild/bbs-3.11-bioc/R/bin/R CMD build --keep-empty-dirs --no-resave-data HDF5Array ### ############################################################################## ############################################################################## * checking for file ‘HDF5Array/DESCRIPTION’ ... OK * preparing ‘HDF5Array’: * checking DESCRIPTION meta-information ... OK * cleaning src * checking for LF line-endings in source and make files and shell scripts * checking for empty or unneeded directories * building ‘HDF5Array_1.15.2.tar.gz’