Back to Multiple platform build/check report for BioC 3.23:   simplified   long
ABCDEFGHIJKLMNOPQR[S]TUVWXYZ

This page was generated on 2025-11-20 11:39 -0500 (Thu, 20 Nov 2025).

HostnameOSArch (*)R versionInstalled pkgs
nebbiolo1Linux (Ubuntu 24.04.3 LTS)x86_64R Under development (unstable) (2025-10-20 r88955) -- "Unsuffered Consequences" 4827
lconwaymacOS 12.7.6 Montereyx86_64R Under development (unstable) (2025-10-21 r88958) -- "Unsuffered Consequences" 4600
kjohnson3macOS 13.7.7 Venturaarm64R Under development (unstable) (2025-11-04 r88984) -- "Unsuffered Consequences" 4564
Click on any hostname to see more info about the system (e.g. compilers)      (*) as reported by 'uname -p', except on Windows and Mac OS X

Package 2114/2325HostnameOS / ArchINSTALLBUILDCHECKBUILD BIN
structToolbox 1.23.0  (landing page)
Gavin Rhys Lloyd
Snapshot Date: 2025-11-19 13:40 -0500 (Wed, 19 Nov 2025)
git_url: https://git.bioconductor.org/packages/structToolbox
git_branch: devel
git_last_commit: e5436a2
git_last_commit_date: 2025-10-29 10:56:35 -0500 (Wed, 29 Oct 2025)
nebbiolo1Linux (Ubuntu 24.04.3 LTS) / x86_64  OK    OK    OK  NO, package depends on 'struct' which is not available
lconwaymacOS 12.7.6 Monterey / x86_64  OK    OK    OK    OK  NO, package depends on 'struct' which is not available
kjohnson3macOS 13.7.7 Ventura / arm64  OK    OK    OK    OK  NO, package depends on 'struct' which is not available


CHECK results for structToolbox on lconway

To the developers/maintainers of the structToolbox package:
- Allow up to 24 hours (and sometimes 48 hours) for your latest push to git@git.bioconductor.org:packages/structToolbox.git to reflect on this report. See Troubleshooting Build Report for more information.
- Use the following Renviron settings to reproduce errors and warnings.
- If 'R CMD check' started to fail recently on the Linux builder(s) over a missing dependency, add the missing dependency to 'Suggests:' in your DESCRIPTION file. See Renviron.bioc for more information.

raw results


Summary

Package: structToolbox
Version: 1.23.0
Command: /Library/Frameworks/R.framework/Resources/bin/R CMD check --install=check:structToolbox.install-out.txt --library=/Library/Frameworks/R.framework/Resources/library --no-vignettes --timings structToolbox_1.23.0.tar.gz
StartedAt: 2025-11-20 00:33:30 -0500 (Thu, 20 Nov 2025)
EndedAt: 2025-11-20 00:43:07 -0500 (Thu, 20 Nov 2025)
EllapsedTime: 577.6 seconds
RetCode: 0
Status:   OK  
CheckDir: structToolbox.Rcheck
Warnings: 0

Command output

##############################################################################
##############################################################################
###
### Running command:
###
###   /Library/Frameworks/R.framework/Resources/bin/R CMD check --install=check:structToolbox.install-out.txt --library=/Library/Frameworks/R.framework/Resources/library --no-vignettes --timings structToolbox_1.23.0.tar.gz
###
##############################################################################
##############################################################################


* using log directory ‘/Users/biocbuild/bbs-3.23-bioc/meat/structToolbox.Rcheck’
* using R Under development (unstable) (2025-10-21 r88958)
* using platform: x86_64-apple-darwin20
* R was compiled by
    Apple clang version 14.0.0 (clang-1400.0.29.202)
    GNU Fortran (GCC) 14.2.0
* running under: macOS Ventura 13.7.8
* using session charset: UTF-8
* using option ‘--no-vignettes’
* checking for file ‘structToolbox/DESCRIPTION’ ... OK
* checking extension type ... Package
* this is package ‘structToolbox’ version ‘1.23.0’
* package encoding: UTF-8
* checking package namespace information ... OK
* checking package dependencies ... OK
* checking if this is a source package ... OK
* checking if there is a namespace ... OK
* checking for hidden files and directories ... OK
* checking for portable file names ... OK
* checking for sufficient/correct file permissions ... OK
* checking whether package ‘structToolbox’ can be installed ... OK
* checking installed package size ... OK
* checking package directory ... OK
* checking ‘build’ directory ... OK
* checking DESCRIPTION meta-information ... OK
* checking top-level files ... OK
* checking for left-over files ... OK
* checking index information ... OK
* checking package subdirectories ... OK
* checking code files for non-ASCII characters ... OK
* checking R files for syntax errors ... OK
* checking whether the package can be loaded ... OK
* checking whether the package can be loaded with stated dependencies ... OK
* checking whether the package can be unloaded cleanly ... OK
* checking whether the namespace can be loaded with stated dependencies ... OK
* checking whether the namespace can be unloaded cleanly ... OK
* checking dependencies in R code ... OK
* checking S3 generic/method consistency ... OK
* checking replacement functions ... OK
* checking foreign function calls ... OK
* checking R code for possible problems ... OK
* checking Rd files ... OK
* checking Rd metadata ... OK
* checking Rd cross-references ... OK
* checking for missing documentation entries ... OK
* checking for code/documentation mismatches ... OK
* checking Rd \usage sections ... OK
* checking Rd contents ... OK
* checking for unstated dependencies in examples ... OK
* checking R/sysdata.rda ... OK
* checking files in ‘vignettes’ ... OK
* checking examples ... OK
Examples with CPU (user + system) or elapsed time > 5s
                            user system elapsed
fold_change_int           20.666  0.138  20.972
fold_change               13.875  0.082  14.039
fisher_exact              11.575  0.072  11.727
fs_line                    8.056  0.159   8.268
forward_selection_by_rank  6.965  0.135   7.145
compare_dist               5.556  0.213   5.805
* checking for unstated dependencies in ‘tests’ ... OK
* checking tests ...
  Running ‘testthat.R’
 OK
* checking for unstated dependencies in vignettes ... OK
* checking package vignettes ... OK
* checking running R code from vignettes ... SKIPPED
* checking re-building of vignette outputs ... SKIPPED
* checking PDF version of manual ... OK
* DONE

Status: OK


Installation output

structToolbox.Rcheck/00install.out

##############################################################################
##############################################################################
###
### Running command:
###
###   /Library/Frameworks/R.framework/Resources/bin/R CMD INSTALL structToolbox
###
##############################################################################
##############################################################################


* installing to library ‘/Library/Frameworks/R.framework/Versions/4.6-x86_64/Resources/library’
* installing *source* package ‘structToolbox’ ...
** this is package ‘structToolbox’ version ‘1.23.0’
** using staged installation
** R
** inst
** byte-compile and prepare package for lazy loading
** help
*** installing help indices
** building package indices
** installing vignettes
** testing if installed package can be loaded from temporary location
** testing if installed package can be loaded from final location
** testing if installed package keeps a record of temporary installation path
* DONE (structToolbox)

Tests output

structToolbox.Rcheck/tests/testthat.Rout


R Under development (unstable) (2025-10-21 r88958) -- "Unsuffered Consequences"
Copyright (C) 2025 The R Foundation for Statistical Computing
Platform: x86_64-apple-darwin20

R is free software and comes with ABSOLUTELY NO WARRANTY.
You are welcome to redistribute it under certain conditions.
Type 'license()' or 'licence()' for distribution details.

R is a collaborative project with many contributors.
Type 'contributors()' for more information and
'citation()' on how to cite R or R packages in publications.

Type 'demo()' for some demos, 'help()' for on-line help, or
'help.start()' for an HTML browser interface to help.
Type 'q()' to quit R.

> library(testthat)
> library(ggplot2)
> library(structToolbox)
Loading required package: struct
> 
> test_check("structToolbox")
[ FAIL 0 | WARN 6 | SKIP 0 | PASS 166 ]

[ FAIL 0 | WARN 6 | SKIP 0 | PASS 166 ]
> 
> proc.time()
   user  system elapsed 
220.440   2.953 225.152 

Example timings

structToolbox.Rcheck/structToolbox-Ex.timings

nameusersystemelapsed
ANOVA0.2300.0080.240
AUC2.3250.0902.427
DFA0.2030.0020.207
DatasetExperiment_boxplot0.9570.0340.997
DatasetExperiment_dist1.5730.0801.666
DatasetExperiment_factor_boxplot0.3830.0090.395
DatasetExperiment_heatmap1.3670.0361.413
HCA0.0620.0020.064
HSD0.3180.0230.349
HSDEM0.4060.0250.437
MTBLS79_DatasetExperiment0.0010.0000.001
OPLSDA0.0120.0010.012
OPLSR0.0100.0010.010
PCA0.0050.0000.005
PLSDA0.0150.0010.015
PLSR0.0100.0010.011
SVM0.0240.0010.025
as_data_frame0.1440.0010.147
autoscale0.0840.0010.085
balanced_accuracy1.9450.0211.977
blank_filter0.4010.0300.433
blank_filter_hist0.0010.0010.002
bootstrap0.0090.0010.010
calculate0.0060.0000.007
chart_plot0.0300.0010.031
classical_lsq0.3230.0030.326
compare_dist5.5560.2135.805
confounders_clsq3.3700.0313.425
confounders_lsq_barchart3.5940.0303.642
confounders_lsq_boxplot3.6410.0433.707
constant_sum_norm0.0080.0000.007
corr_coef0.2660.0030.269
dfa_scores_plot1.0830.0111.099
dratio_filter0.2650.0060.272
equal_split0.1420.0020.145
feature_boxplot0.0290.0010.030
feature_profile0.5730.0100.587
feature_profile_array0.7540.0090.769
filter_by_name0.0350.0010.036
filter_na_count1.0820.0511.142
filter_smeta0.0680.0000.069
fisher_exact11.575 0.07211.727
fold_change13.875 0.08214.039
fold_change_int20.666 0.13820.972
fold_change_plot0.0090.0000.009
forward_selection_by_rank6.9650.1357.145
fs_line8.0560.1598.268
glog_opt_plot0.6390.0090.652
glog_transform0.3650.0040.371
grid_search_1d3.7200.1153.863
gs_line0.0010.0000.002
hca_dendrogram0.0010.0000.001
kfold_xval3.8170.0383.880
kfoldxcv_grid4.4730.0564.566
kfoldxcv_metric0.0000.0000.001
knn_impute0.0110.0010.012
kw_p_hist0.0000.0000.001
kw_rank_sum0.0670.0010.068
linear_model0.0280.0000.028
log_transform0.0080.0000.008
mean_centre0.0020.0000.003
mean_of_medians0.1140.0010.115
mixed_effect0.1850.0030.188
model_apply0.0190.0010.020
model_predict0.0500.0010.052
model_reverse0.0300.0000.031
model_train0.0530.0010.056
mv_boxplot0.4300.0060.440
mv_feature_filter0.1090.0010.111
mv_feature_filter_hist0.0010.0000.001
mv_histogram0.3840.0060.391
mv_sample_filter0.0100.0010.011
mv_sample_filter_hist0.0000.0000.001
nroot_transform0.0070.0000.007
ontology_cache0.0010.0000.000
pairs_filter0.0090.0000.010
pareto_scale0.0720.0040.077
pca_biplot0.0160.0010.016
pca_correlation_plot0.0060.0000.006
pca_dstat_plot0.0080.0000.008
pca_loadings_plot0.0090.0010.009
pca_scores_plot0.7470.0070.758
pca_scree_plot0.0060.0010.006
permutation_test0.0090.0000.009
permutation_test_plot0.0030.0010.003
permute_sample_order0.0060.0000.006
pls_regcoeff_plot0.4850.0060.494
pls_scores_plot0.9600.0060.973
pls_vip_plot0.5370.0060.546
plsda_feature_importance_plot0.9560.0120.974
plsda_predicted_plot0.6960.0090.713
plsda_roc_plot1.3680.0111.385
plsr_cook_dist0.0080.0000.008
plsr_prediction_plot0.0060.0000.006
plsr_qq_plot0.0080.0010.009
plsr_residual_hist0.0090.0000.009
pqn_norm0.3820.0020.387
pqn_norm_hist0.0000.0000.001
prop_na0.010.000.01
r_squared0.0010.0000.001
resample0.0190.0000.019
resample_chart0.0030.0010.003
rsd_filter0.0130.0010.014
rsd_filter_hist0.0010.0000.001
run0.0300.0000.031
sb_corr0.0270.0010.028
scatter_chart0.5950.0050.602
split_data0.0090.0000.009
stratified_split0.1290.0010.130
svm_plot_2d0.9170.0220.947
tSNE0.0250.0010.025
tSNE_scatter0.0070.0000.008
tic_chart0.3520.0040.357
ttest0.0260.0010.027
vec_norm0.0010.0010.002
wilcox_p_hist0.0010.0000.001
wilcox_test0.0160.0000.016