| Back to Multiple platform build/check report for BioC 3.23: simplified long |
|
This page was generated on 2025-11-24 11:38 -0500 (Mon, 24 Nov 2025).
| Hostname | OS | Arch (*) | R version | Installed pkgs |
|---|---|---|---|---|
| nebbiolo1 | Linux (Ubuntu 24.04.3 LTS) | x86_64 | R Under development (unstable) (2025-10-20 r88955) -- "Unsuffered Consequences" | 4829 |
| lconway | macOS 12.7.6 Monterey | x86_64 | R Under development (unstable) (2025-10-21 r88958) -- "Unsuffered Consequences" | 4605 |
| kjohnson3 | macOS 13.7.7 Ventura | arm64 | R Under development (unstable) (2025-11-04 r88984) -- "Unsuffered Consequences" | 4568 |
| Click on any hostname to see more info about the system (e.g. compilers) (*) as reported by 'uname -p', except on Windows and Mac OS X | ||||
| Package 1962/2327 | Hostname | OS / Arch | INSTALL | BUILD | CHECK | BUILD BIN | ||||||||
| sesame 1.29.0 (landing page) Wanding Zhou
| nebbiolo1 | Linux (Ubuntu 24.04.3 LTS) / x86_64 | OK | OK | OK | |||||||||
| lconway | macOS 12.7.6 Monterey / x86_64 | OK | OK | OK | OK | |||||||||
| kjohnson3 | macOS 13.7.7 Ventura / arm64 | OK | OK | OK | OK | |||||||||
|
To the developers/maintainers of the sesame package: - Allow up to 24 hours (and sometimes 48 hours) for your latest push to git@git.bioconductor.org:packages/sesame.git to reflect on this report. See Troubleshooting Build Report for more information. - Use the following Renviron settings to reproduce errors and warnings. - If 'R CMD check' started to fail recently on the Linux builder(s) over a missing dependency, add the missing dependency to 'Suggests:' in your DESCRIPTION file. See Renviron.bioc for more information. |
| Package: sesame |
| Version: 1.29.0 |
| Command: /home/biocbuild/bbs-3.23-bioc/R/bin/R CMD check --install=check:sesame.install-out.txt --library=/home/biocbuild/bbs-3.23-bioc/R/site-library --timings sesame_1.29.0.tar.gz |
| StartedAt: 2025-11-24 03:53:26 -0500 (Mon, 24 Nov 2025) |
| EndedAt: 2025-11-24 04:09:51 -0500 (Mon, 24 Nov 2025) |
| EllapsedTime: 985.6 seconds |
| RetCode: 0 |
| Status: OK |
| CheckDir: sesame.Rcheck |
| Warnings: 0 |
##############################################################################
##############################################################################
###
### Running command:
###
### /home/biocbuild/bbs-3.23-bioc/R/bin/R CMD check --install=check:sesame.install-out.txt --library=/home/biocbuild/bbs-3.23-bioc/R/site-library --timings sesame_1.29.0.tar.gz
###
##############################################################################
##############################################################################
* using log directory ‘/home/biocbuild/bbs-3.23-bioc/meat/sesame.Rcheck’
* using R Under development (unstable) (2025-10-20 r88955)
* using platform: x86_64-pc-linux-gnu
* R was compiled by
gcc (Ubuntu 13.3.0-6ubuntu2~24.04) 13.3.0
GNU Fortran (Ubuntu 13.3.0-6ubuntu2~24.04) 13.3.0
* running under: Ubuntu 24.04.3 LTS
* using session charset: UTF-8
* checking for file ‘sesame/DESCRIPTION’ ... OK
* checking extension type ... Package
* this is package ‘sesame’ version ‘1.29.0’
* package encoding: UTF-8
* checking package namespace information ... OK
* checking package dependencies ... OK
* checking if this is a source package ... OK
* checking if there is a namespace ... OK
* checking for hidden files and directories ... OK
* checking for portable file names ... OK
* checking for sufficient/correct file permissions ... OK
* checking whether package ‘sesame’ can be installed ... OK
* checking installed package size ... OK
* checking package directory ... OK
* checking ‘build’ directory ... OK
* checking DESCRIPTION meta-information ... OK
* checking top-level files ... OK
* checking for left-over files ... OK
* checking index information ... OK
* checking package subdirectories ... OK
* checking code files for non-ASCII characters ... OK
* checking R files for syntax errors ... OK
* checking whether the package can be loaded ... OK
* checking whether the package can be loaded with stated dependencies ... OK
* checking whether the package can be unloaded cleanly ... OK
* checking whether the namespace can be loaded with stated dependencies ... OK
* checking whether the namespace can be unloaded cleanly ... OK
* checking loading without being on the library search path ... OK
* checking whether startup messages can be suppressed ... OK
* checking dependencies in R code ... OK
* checking S3 generic/method consistency ... OK
* checking replacement functions ... OK
* checking foreign function calls ... OK
* checking R code for possible problems ... OK
* checking Rd files ... OK
* checking Rd metadata ... OK
* checking Rd cross-references ... OK
* checking for missing documentation entries ... OK
* checking for code/documentation mismatches ... OK
* checking Rd \usage sections ... OK
* checking Rd contents ... OK
* checking for unstated dependencies in examples ... OK
* checking files in ‘vignettes’ ... OK
* checking examples ... OK
Examples with CPU (user + system) or elapsed time > 5s
user system elapsed
imputeBetasByGenomicNeighbors 31.481 0.983 32.471
inferSex 19.111 0.330 19.444
imputeBetas 17.339 0.901 18.243
sesameQC_calcStats 17.704 0.138 17.843
inferSpecies 15.635 0.947 16.587
sesameQC_plotHeatSNPs 15.215 0.190 15.406
ELBAR 13.193 0.267 13.465
diffRefSet 13.132 0.293 13.429
getRefSet 11.031 0.677 11.710
compareReference 11.357 0.330 11.693
sesameQC_plotBar 11.303 0.376 11.682
matchDesign 11.010 0.223 11.235
compareMouseStrainReference 10.780 0.195 10.976
inferStrain 8.667 0.700 9.368
visualizeGene 8.529 0.385 8.916
sesameQC_plotBetaByDesign 8.429 0.201 8.630
DMR 7.873 0.291 8.166
getMask 7.590 0.403 11.225
sdf_read_table 7.131 0.194 7.326
DML 6.352 0.387 6.741
dyeBiasNL 6.442 0.198 6.640
inferTissue 6.275 0.314 6.590
estimateLeukocyte 6.195 0.187 6.384
dyeBiasCorrMostBalanced 6.134 0.187 6.324
deIdentify 5.346 0.160 5.508
openSesame 5.253 0.202 5.459
createUCSCtrack 4.876 0.270 5.147
probeSuccessRate 4.900 0.221 5.120
* checking for unstated dependencies in ‘tests’ ... OK
* checking tests ...
Running ‘testthat.R’
OK
* checking for unstated dependencies in vignettes ... OK
* checking package vignettes ... OK
* checking re-building of vignette outputs ... OK
* checking PDF version of manual ... OK
* DONE
Status: OK
sesame.Rcheck/00install.out
############################################################################## ############################################################################## ### ### Running command: ### ### /home/biocbuild/bbs-3.23-bioc/R/bin/R CMD INSTALL sesame ### ############################################################################## ############################################################################## * installing to library ‘/home/biocbuild/bbs-3.23-bioc/R/site-library’ * installing *source* package ‘sesame’ ... ** this is package ‘sesame’ version ‘1.29.0’ ** using staged installation ** R ** inst ** byte-compile and prepare package for lazy loading ** help *** installing help indices ** building package indices ** installing vignettes ** testing if installed package can be loaded from temporary location ** testing if installed package can be loaded from final location ** testing if installed package keeps a record of temporary installation path * DONE (sesame)
sesame.Rcheck/tests/testthat.Rout
R Under development (unstable) (2025-10-20 r88955) -- "Unsuffered Consequences"
Copyright (C) 2025 The R Foundation for Statistical Computing
Platform: x86_64-pc-linux-gnu
R is free software and comes with ABSOLUTELY NO WARRANTY.
You are welcome to redistribute it under certain conditions.
Type 'license()' or 'licence()' for distribution details.
R is a collaborative project with many contributors.
Type 'contributors()' for more information and
'citation()' on how to cite R or R packages in publications.
Type 'demo()' for some demos, 'help()' for on-line help, or
'help.start()' for an HTML browser interface to help.
Type 'q()' to quit R.
> library(testthat)
> library(sesame)
Loading required package: sesameData
Loading required package: ExperimentHub
Loading required package: BiocGenerics
Loading required package: generics
Attaching package: 'generics'
The following objects are masked from 'package:base':
as.difftime, as.factor, as.ordered, intersect, is.element, setdiff,
setequal, union
Attaching package: 'BiocGenerics'
The following objects are masked from 'package:stats':
IQR, mad, sd, var, xtabs
The following objects are masked from 'package:base':
Filter, Find, Map, Position, Reduce, anyDuplicated, aperm, append,
as.data.frame, basename, cbind, colnames, dirname, do.call,
duplicated, eval, evalq, get, grep, grepl, is.unsorted, lapply,
mapply, match, mget, order, paste, pmax, pmax.int, pmin, pmin.int,
rank, rbind, rownames, sapply, saveRDS, table, tapply, unique,
unsplit, which.max, which.min
Loading required package: AnnotationHub
Loading required package: BiocFileCache
Loading required package: dbplyr
Loading sesameData.
----------------------------------------------------------
| SEnsible Step-wise Analysis of DNA MEthylation (SeSAMe)
| --------------------------------------------------------
| Please cache auxiliary data by "sesameDataCache()".
| This needs to be done only once per SeSAMe installation.
----------------------------------------------------------
>
> test_check("sesame")
[ FAIL 0 | WARN 0 | SKIP 0 | PASS 5 ]
>
> proc.time()
user system elapsed
18.101 1.037 19.126
sesame.Rcheck/sesame-Ex.timings
| name | user | system | elapsed | |
| BetaValueToMValue | 0 | 0 | 0 | |
| DML | 6.352 | 0.387 | 6.741 | |
| DMLpredict | 1.291 | 0.083 | 1.374 | |
| DMR | 7.873 | 0.291 | 8.166 | |
| ELBAR | 13.193 | 0.267 | 13.465 | |
| MValueToBetaValue | 0 | 0 | 0 | |
| SigDF | 0.293 | 0.041 | 0.334 | |
| addMask | 0.088 | 0.001 | 0.089 | |
| betasCollapseToPfx | 0.012 | 0.001 | 0.013 | |
| bisConversionControl | 4.286 | 0.158 | 4.446 | |
| calcEffectSize | 1.151 | 0.079 | 1.231 | |
| checkLevels | 2.993 | 0.097 | 3.091 | |
| cnSegmentation | 0.294 | 0.043 | 0.338 | |
| compareMouseStrainReference | 10.780 | 0.195 | 10.976 | |
| compareMouseTissueReference | 0 | 0 | 0 | |
| compareReference | 11.357 | 0.330 | 11.693 | |
| controls | 1.979 | 0.125 | 2.105 | |
| createUCSCtrack | 4.876 | 0.270 | 5.147 | |
| deIdentify | 5.346 | 0.160 | 5.508 | |
| detectionPnegEcdf | 0.860 | 0.017 | 0.877 | |
| diffRefSet | 13.132 | 0.293 | 13.429 | |
| dmContrasts | 1.996 | 0.077 | 2.074 | |
| dyeBiasCorr | 2.674 | 0.139 | 2.813 | |
| dyeBiasCorrMostBalanced | 6.134 | 0.187 | 6.324 | |
| dyeBiasL | 2.255 | 0.161 | 2.416 | |
| dyeBiasNL | 6.442 | 0.198 | 6.640 | |
| estimateLeukocyte | 6.195 | 0.187 | 6.384 | |
| formatVCF | 2.048 | 0.137 | 2.186 | |
| getAFTypeIbySumAlleles | 1.653 | 0.125 | 1.780 | |
| getAFs | 0.918 | 0.044 | 0.962 | |
| getBetas | 0.710 | 0.044 | 0.754 | |
| getMask | 7.590 | 0.403 | 11.225 | |
| getRefSet | 11.031 | 0.677 | 11.710 | |
| imputeBetas | 17.339 | 0.901 | 18.243 | |
| imputeBetasByGenomicNeighbors | 31.481 | 0.983 | 32.471 | |
| imputeBetasMatrixByMean | 0.001 | 0.001 | 0.001 | |
| inferEthnicity | 0.000 | 0.001 | 0.000 | |
| inferInfiniumIChannel | 0.240 | 0.562 | 0.801 | |
| inferSex | 19.111 | 0.330 | 19.444 | |
| inferSpecies | 15.635 | 0.947 | 16.587 | |
| inferStrain | 8.667 | 0.700 | 9.368 | |
| inferTissue | 6.275 | 0.314 | 6.590 | |
| initFileSet | 1.204 | 0.086 | 1.290 | |
| listAvailableMasks | 1.247 | 0.092 | 1.339 | |
| mLiftOver | 0.000 | 0.001 | 0.001 | |
| mapFileSet | 0.034 | 0.000 | 0.034 | |
| mapToMammal40 | 2.915 | 0.173 | 3.091 | |
| matchDesign | 11.010 | 0.223 | 11.235 | |
| meanIntensity | 2.520 | 0.161 | 2.680 | |
| medianTotalIntensity | 0.753 | 0.060 | 0.813 | |
| noMasked | 3.382 | 0.164 | 3.546 | |
| noob | 1.766 | 0.079 | 1.845 | |
| openSesame | 5.253 | 0.202 | 5.459 | |
| openSesameToFile | 1.256 | 0.011 | 1.267 | |
| pOOBAH | 1.153 | 0.022 | 1.175 | |
| palgen | 0.034 | 0.001 | 0.035 | |
| parseGEOsignalMU | 2.846 | 0.126 | 2.973 | |
| predictAge | 2.221 | 0.093 | 2.315 | |
| predictAgeHorvath353 | 0 | 0 | 0 | |
| predictAgeSkinBlood | 0.000 | 0.000 | 0.001 | |
| predictMouseAgeInMonth | 0 | 0 | 0 | |
| prefixMask | 0.543 | 0.000 | 0.543 | |
| prefixMaskButC | 0.159 | 0.001 | 0.159 | |
| prefixMaskButCG | 0.067 | 0.000 | 0.067 | |
| prepSesame | 3.518 | 0.098 | 3.616 | |
| prepSesameList | 0.002 | 0.000 | 0.001 | |
| print.DMLSummary | 2.908 | 0.147 | 3.055 | |
| print.fileSet | 1.158 | 0.087 | 1.245 | |
| probeID_designType | 0.001 | 0.000 | 0.000 | |
| probeSuccessRate | 4.900 | 0.221 | 5.120 | |
| qualityMask | 1.928 | 0.148 | 2.076 | |
| reIdentify | 4.046 | 0.107 | 4.154 | |
| readFileSet | 0.054 | 0.000 | 0.055 | |
| readIDATpair | 0.108 | 0.000 | 0.110 | |
| recommendedMaskNames | 0.000 | 0.000 | 0.001 | |
| resetMask | 0.364 | 0.049 | 0.413 | |
| scrub | 2.016 | 0.101 | 2.117 | |
| scrubSoft | 2.963 | 0.126 | 3.088 | |
| sdfPlatform | 0.278 | 0.043 | 0.321 | |
| sdf_read_table | 7.131 | 0.194 | 7.326 | |
| sdf_write_table | 1.597 | 0.102 | 1.734 | |
| searchIDATprefixes | 0.002 | 0.001 | 0.005 | |
| sesame-package | 2.352 | 0.078 | 2.432 | |
| sesameAnno_attachManifest | 0 | 0 | 0 | |
| sesameAnno_buildAddressFile | 0 | 0 | 0 | |
| sesameAnno_buildManifestGRanges | 0 | 0 | 0 | |
| sesameAnno_download | 0 | 0 | 0 | |
| sesameAnno_readManifestTSV | 0 | 0 | 0 | |
| sesameQC_calcStats | 17.704 | 0.138 | 17.843 | |
| sesameQC_getStats | 1.567 | 0.011 | 1.578 | |
| sesameQC_plotBar | 11.303 | 0.376 | 11.682 | |
| sesameQC_plotBetaByDesign | 8.429 | 0.201 | 8.630 | |
| sesameQC_plotHeatSNPs | 15.215 | 0.190 | 15.406 | |
| sesameQC_plotIntensVsBetas | 1.557 | 0.086 | 1.642 | |
| sesameQC_plotRedGrnQQ | 1.582 | 0.063 | 1.645 | |
| sesameQC_rankStats | 3.050 | 0.129 | 3.180 | |
| sesameQCtoDF | 1.687 | 0.016 | 1.705 | |
| sesame_checkVersion | 0.004 | 0.000 | 0.004 | |
| sesamize | 0.000 | 0.001 | 0.001 | |
| setMask | 0.085 | 0.000 | 0.086 | |
| signalMU | 0.841 | 0.052 | 0.894 | |
| sliceFileSet | 0.032 | 0.001 | 0.034 | |
| summaryExtractTest | 2.693 | 0.229 | 2.922 | |
| totalIntensities | 2.276 | 0.132 | 2.408 | |
| updateSigDF | 3.022 | 0.221 | 3.246 | |
| visualizeGene | 8.529 | 0.385 | 8.916 | |
| visualizeProbes | 1.868 | 0.030 | 1.898 | |
| visualizeRegion | 0.320 | 0.001 | 0.322 | |
| visualizeSegments | 1.395 | 0.151 | 1.546 | |