| Back to Multiple platform build/check report for BioC 3.23: simplified long |
|
This page was generated on 2025-11-24 11:40 -0500 (Mon, 24 Nov 2025).
| Hostname | OS | Arch (*) | R version | Installed pkgs |
|---|---|---|---|---|
| nebbiolo1 | Linux (Ubuntu 24.04.3 LTS) | x86_64 | R Under development (unstable) (2025-10-20 r88955) -- "Unsuffered Consequences" | 4829 |
| lconway | macOS 12.7.6 Monterey | x86_64 | R Under development (unstable) (2025-10-21 r88958) -- "Unsuffered Consequences" | 4605 |
| kjohnson3 | macOS 13.7.7 Ventura | arm64 | R Under development (unstable) (2025-11-04 r88984) -- "Unsuffered Consequences" | 4568 |
| Click on any hostname to see more info about the system (e.g. compilers) (*) as reported by 'uname -p', except on Windows and Mac OS X | ||||
| Package 1962/2327 | Hostname | OS / Arch | INSTALL | BUILD | CHECK | BUILD BIN | ||||||||
| sesame 1.29.0 (landing page) Wanding Zhou
| nebbiolo1 | Linux (Ubuntu 24.04.3 LTS) / x86_64 | OK | OK | OK | |||||||||
| lconway | macOS 12.7.6 Monterey / x86_64 | OK | OK | OK | OK | |||||||||
| kjohnson3 | macOS 13.7.7 Ventura / arm64 | OK | OK | OK | OK | |||||||||
|
To the developers/maintainers of the sesame package: - Allow up to 24 hours (and sometimes 48 hours) for your latest push to git@git.bioconductor.org:packages/sesame.git to reflect on this report. See Troubleshooting Build Report for more information. - Use the following Renviron settings to reproduce errors and warnings. - If 'R CMD check' started to fail recently on the Linux builder(s) over a missing dependency, add the missing dependency to 'Suggests:' in your DESCRIPTION file. See Renviron.bioc for more information. |
| Package: sesame |
| Version: 1.29.0 |
| Command: /Library/Frameworks/R.framework/Resources/bin/R CMD check --install=check:sesame.install-out.txt --library=/Library/Frameworks/R.framework/Resources/library --no-vignettes --timings sesame_1.29.0.tar.gz |
| StartedAt: 2025-11-23 22:30:28 -0500 (Sun, 23 Nov 2025) |
| EndedAt: 2025-11-23 22:35:47 -0500 (Sun, 23 Nov 2025) |
| EllapsedTime: 319.2 seconds |
| RetCode: 0 |
| Status: OK |
| CheckDir: sesame.Rcheck |
| Warnings: 0 |
##############################################################################
##############################################################################
###
### Running command:
###
### /Library/Frameworks/R.framework/Resources/bin/R CMD check --install=check:sesame.install-out.txt --library=/Library/Frameworks/R.framework/Resources/library --no-vignettes --timings sesame_1.29.0.tar.gz
###
##############################################################################
##############################################################################
* using log directory ‘/Users/biocbuild/bbs-3.23-bioc/meat/sesame.Rcheck’
* using R Under development (unstable) (2025-11-04 r88984)
* using platform: aarch64-apple-darwin20
* R was compiled by
Apple clang version 16.0.0 (clang-1600.0.26.6)
GNU Fortran (GCC) 14.2.0
* running under: macOS Ventura 13.7.8
* using session charset: UTF-8
* using option ‘--no-vignettes’
* checking for file ‘sesame/DESCRIPTION’ ... OK
* checking extension type ... Package
* this is package ‘sesame’ version ‘1.29.0’
* package encoding: UTF-8
* checking package namespace information ... OK
* checking package dependencies ... OK
* checking if this is a source package ... OK
* checking if there is a namespace ... OK
* checking for hidden files and directories ... OK
* checking for portable file names ... OK
* checking for sufficient/correct file permissions ... OK
* checking whether package ‘sesame’ can be installed ... OK
* checking installed package size ... OK
* checking package directory ... OK
* checking ‘build’ directory ... OK
* checking DESCRIPTION meta-information ... OK
* checking top-level files ... OK
* checking for left-over files ... OK
* checking index information ... OK
* checking package subdirectories ... OK
* checking code files for non-ASCII characters ... OK
* checking R files for syntax errors ... OK
* checking whether the package can be loaded ... OK
* checking whether the package can be loaded with stated dependencies ... OK
* checking whether the package can be unloaded cleanly ... OK
* checking whether the namespace can be loaded with stated dependencies ... OK
* checking whether the namespace can be unloaded cleanly ... OK
* checking whether startup messages can be suppressed ... OK
* checking dependencies in R code ... OK
* checking S3 generic/method consistency ... OK
* checking replacement functions ... OK
* checking foreign function calls ... OK
* checking R code for possible problems ... OK
* checking Rd files ... OK
* checking Rd metadata ... OK
* checking Rd cross-references ... OK
* checking for missing documentation entries ... OK
* checking for code/documentation mismatches ... OK
* checking Rd \usage sections ... OK
* checking Rd contents ... OK
* checking for unstated dependencies in examples ... OK
* checking files in ‘vignettes’ ... OK
* checking examples ... OK
Examples with CPU (user + system) or elapsed time > 5s
user system elapsed
imputeBetasByGenomicNeighbors 15.098 0.577 16.615
inferSex 9.736 0.550 11.003
sesameQC_calcStats 8.478 0.811 9.925
sesameQC_plotHeatSNPs 8.061 0.832 9.369
imputeBetas 7.710 0.681 9.102
ELBAR 5.853 1.318 7.816
inferSpecies 6.748 0.319 7.450
sesameQC_plotBar 6.821 0.202 7.557
diffRefSet 6.070 0.248 6.756
getRefSet 6.046 0.233 6.671
matchDesign 4.659 0.297 5.088
compareReference 4.646 0.224 5.043
getMask 2.402 0.222 5.610
* checking for unstated dependencies in ‘tests’ ... OK
* checking tests ...
Running ‘testthat.R’
OK
* checking for unstated dependencies in vignettes ... OK
* checking package vignettes ... OK
* checking running R code from vignettes ... SKIPPED
* checking re-building of vignette outputs ... SKIPPED
* checking PDF version of manual ... OK
* DONE
Status: OK
sesame.Rcheck/00install.out
############################################################################## ############################################################################## ### ### Running command: ### ### /Library/Frameworks/R.framework/Resources/bin/R CMD INSTALL sesame ### ############################################################################## ############################################################################## * installing to library ‘/Library/Frameworks/R.framework/Versions/4.6-arm64/Resources/library’ * installing *source* package ‘sesame’ ... ** this is package ‘sesame’ version ‘1.29.0’ ** using staged installation ** R ** inst ** byte-compile and prepare package for lazy loading ** help *** installing help indices ** building package indices ** installing vignettes ** testing if installed package can be loaded from temporary location ** testing if installed package can be loaded from final location ** testing if installed package keeps a record of temporary installation path * DONE (sesame)
sesame.Rcheck/tests/testthat.Rout
R Under development (unstable) (2025-11-04 r88984) -- "Unsuffered Consequences"
Copyright (C) 2025 The R Foundation for Statistical Computing
Platform: aarch64-apple-darwin20
R is free software and comes with ABSOLUTELY NO WARRANTY.
You are welcome to redistribute it under certain conditions.
Type 'license()' or 'licence()' for distribution details.
R is a collaborative project with many contributors.
Type 'contributors()' for more information and
'citation()' on how to cite R or R packages in publications.
Type 'demo()' for some demos, 'help()' for on-line help, or
'help.start()' for an HTML browser interface to help.
Type 'q()' to quit R.
> library(testthat)
> library(sesame)
Loading required package: sesameData
Loading required package: ExperimentHub
Loading required package: BiocGenerics
Loading required package: generics
Attaching package: 'generics'
The following objects are masked from 'package:base':
as.difftime, as.factor, as.ordered, intersect, is.element, setdiff,
setequal, union
Attaching package: 'BiocGenerics'
The following objects are masked from 'package:stats':
IQR, mad, sd, var, xtabs
The following objects are masked from 'package:base':
Filter, Find, Map, Position, Reduce, anyDuplicated, aperm, append,
as.data.frame, basename, cbind, colnames, dirname, do.call,
duplicated, eval, evalq, get, grep, grepl, is.unsorted, lapply,
mapply, match, mget, order, paste, pmax, pmax.int, pmin, pmin.int,
rank, rbind, rownames, sapply, saveRDS, table, tapply, unique,
unsplit, which.max, which.min
Loading required package: AnnotationHub
Loading required package: BiocFileCache
Loading required package: dbplyr
Loading sesameData.
----------------------------------------------------------
| SEnsible Step-wise Analysis of DNA MEthylation (SeSAMe)
| --------------------------------------------------------
| Please cache auxiliary data by "sesameDataCache()".
| This needs to be done only once per SeSAMe installation.
----------------------------------------------------------
>
> test_check("sesame")
[ FAIL 0 | WARN 0 | SKIP 0 | PASS 5 ]
>
> proc.time()
user system elapsed
8.121 0.300 8.854
sesame.Rcheck/sesame-Ex.timings
| name | user | system | elapsed | |
| BetaValueToMValue | 0 | 0 | 0 | |
| DML | 2.294 | 0.091 | 2.525 | |
| DMLpredict | 0.402 | 0.038 | 0.471 | |
| DMR | 3.283 | 0.081 | 3.693 | |
| ELBAR | 5.853 | 1.318 | 7.816 | |
| MValueToBetaValue | 0 | 0 | 0 | |
| SigDF | 0.101 | 0.019 | 0.137 | |
| addMask | 0.041 | 0.016 | 0.064 | |
| betasCollapseToPfx | 0.005 | 0.000 | 0.005 | |
| bisConversionControl | 2.241 | 0.119 | 2.593 | |
| calcEffectSize | 0.412 | 0.057 | 0.534 | |
| checkLevels | 1.693 | 0.090 | 1.898 | |
| cnSegmentation | 0.089 | 0.022 | 0.112 | |
| compareMouseStrainReference | 4.014 | 0.193 | 4.374 | |
| compareMouseTissueReference | 0 | 0 | 0 | |
| compareReference | 4.646 | 0.224 | 5.043 | |
| controls | 0.769 | 0.071 | 0.876 | |
| createUCSCtrack | 2.295 | 0.157 | 2.603 | |
| deIdentify | 2.103 | 0.175 | 2.415 | |
| detectionPnegEcdf | 0.428 | 0.008 | 0.441 | |
| diffRefSet | 6.070 | 0.248 | 6.756 | |
| dmContrasts | 0.762 | 0.088 | 0.948 | |
| dyeBiasCorr | 1.054 | 0.126 | 1.247 | |
| dyeBiasCorrMostBalanced | 3.435 | 0.155 | 3.892 | |
| dyeBiasL | 0.986 | 0.061 | 1.138 | |
| dyeBiasNL | 2.079 | 0.205 | 2.457 | |
| estimateLeukocyte | 2.820 | 0.177 | 3.174 | |
| formatVCF | 0.795 | 0.121 | 1.041 | |
| getAFTypeIbySumAlleles | 0.583 | 0.111 | 0.777 | |
| getAFs | 0.411 | 0.058 | 0.514 | |
| getBetas | 0.276 | 0.047 | 0.342 | |
| getMask | 2.402 | 0.222 | 5.610 | |
| getRefSet | 6.046 | 0.233 | 6.671 | |
| imputeBetas | 7.710 | 0.681 | 9.102 | |
| imputeBetasByGenomicNeighbors | 15.098 | 0.577 | 16.615 | |
| imputeBetasMatrixByMean | 0.000 | 0.000 | 0.001 | |
| inferEthnicity | 0.001 | 0.000 | 0.001 | |
| inferInfiniumIChannel | 0.147 | 0.222 | 0.396 | |
| inferSex | 9.736 | 0.550 | 11.003 | |
| inferSpecies | 6.748 | 0.319 | 7.450 | |
| inferStrain | 3.651 | 0.221 | 4.111 | |
| inferTissue | 2.417 | 0.358 | 3.010 | |
| initFileSet | 0.378 | 0.062 | 0.479 | |
| listAvailableMasks | 0.402 | 0.085 | 0.517 | |
| mLiftOver | 0.000 | 0.001 | 0.001 | |
| mapFileSet | 0.016 | 0.003 | 0.019 | |
| mapToMammal40 | 0.811 | 0.128 | 0.977 | |
| matchDesign | 4.659 | 0.297 | 5.088 | |
| meanIntensity | 1.018 | 0.137 | 1.177 | |
| medianTotalIntensity | 0.277 | 0.039 | 0.323 | |
| noMasked | 1.297 | 0.082 | 1.443 | |
| noob | 0.885 | 0.119 | 1.023 | |
| openSesame | 1.894 | 0.290 | 2.275 | |
| openSesameToFile | 0.614 | 0.082 | 0.726 | |
| pOOBAH | 0.535 | 0.021 | 0.579 | |
| palgen | 0.016 | 0.005 | 0.022 | |
| parseGEOsignalMU | 1.277 | 0.136 | 1.478 | |
| predictAge | 1.083 | 0.068 | 1.217 | |
| predictAgeHorvath353 | 0.000 | 0.001 | 0.000 | |
| predictAgeSkinBlood | 0 | 0 | 0 | |
| predictMouseAgeInMonth | 0.000 | 0.001 | 0.000 | |
| prefixMask | 0.203 | 0.003 | 0.211 | |
| prefixMaskButC | 0.051 | 0.000 | 0.051 | |
| prefixMaskButCG | 0.026 | 0.001 | 0.030 | |
| prepSesame | 1.328 | 0.133 | 1.509 | |
| prepSesameList | 0.000 | 0.000 | 0.001 | |
| print.DMLSummary | 1.409 | 0.189 | 1.705 | |
| print.fileSet | 0.363 | 0.039 | 0.426 | |
| probeID_designType | 0 | 0 | 0 | |
| probeSuccessRate | 2.139 | 0.174 | 2.415 | |
| qualityMask | 0.612 | 0.082 | 0.729 | |
| reIdentify | 1.688 | 0.071 | 1.816 | |
| readFileSet | 0.028 | 0.002 | 0.030 | |
| readIDATpair | 0.052 | 0.005 | 0.058 | |
| recommendedMaskNames | 0.000 | 0.000 | 0.001 | |
| resetMask | 0.113 | 0.020 | 0.141 | |
| scrub | 0.962 | 0.153 | 1.188 | |
| scrubSoft | 1.406 | 0.302 | 1.817 | |
| sdfPlatform | 0.100 | 0.022 | 0.134 | |
| sdf_read_table | 4.030 | 0.229 | 4.464 | |
| sdf_write_table | 1.210 | 0.071 | 1.327 | |
| searchIDATprefixes | 0.003 | 0.002 | 0.005 | |
| sesame-package | 0.943 | 0.098 | 1.119 | |
| sesameAnno_attachManifest | 0 | 0 | 0 | |
| sesameAnno_buildAddressFile | 0 | 0 | 0 | |
| sesameAnno_buildManifestGRanges | 0.000 | 0.001 | 0.000 | |
| sesameAnno_download | 0.000 | 0.000 | 0.001 | |
| sesameAnno_readManifestTSV | 0.000 | 0.001 | 0.000 | |
| sesameQC_calcStats | 8.478 | 0.811 | 9.925 | |
| sesameQC_getStats | 0.816 | 0.035 | 0.913 | |
| sesameQC_plotBar | 6.821 | 0.202 | 7.557 | |
| sesameQC_plotBetaByDesign | 3.794 | 0.498 | 4.625 | |
| sesameQC_plotHeatSNPs | 8.061 | 0.832 | 9.369 | |
| sesameQC_plotIntensVsBetas | 0.581 | 0.095 | 0.710 | |
| sesameQC_plotRedGrnQQ | 0.582 | 0.110 | 0.733 | |
| sesameQC_rankStats | 1.105 | 0.161 | 1.341 | |
| sesameQCtoDF | 0.922 | 0.069 | 1.076 | |
| sesame_checkVersion | 0.001 | 0.001 | 0.001 | |
| sesamize | 0 | 0 | 0 | |
| setMask | 0.031 | 0.004 | 0.036 | |
| signalMU | 0.321 | 0.044 | 0.383 | |
| sliceFileSet | 0.017 | 0.001 | 0.019 | |
| summaryExtractTest | 1.299 | 0.176 | 1.578 | |
| totalIntensities | 0.897 | 0.103 | 1.064 | |
| updateSigDF | 1.095 | 0.169 | 1.363 | |
| visualizeGene | 4.020 | 0.287 | 4.581 | |
| visualizeProbes | 0.487 | 0.026 | 0.522 | |
| visualizeRegion | 0.114 | 0.010 | 0.129 | |
| visualizeSegments | 0.903 | 0.093 | 1.047 | |