| Back to Multiple platform build/check report for BioC 3.23: simplified long |
|
This page was generated on 2025-11-20 11:38 -0500 (Thu, 20 Nov 2025).
| Hostname | OS | Arch (*) | R version | Installed pkgs |
|---|---|---|---|---|
| nebbiolo1 | Linux (Ubuntu 24.04.3 LTS) | x86_64 | R Under development (unstable) (2025-10-20 r88955) -- "Unsuffered Consequences" | 4827 |
| lconway | macOS 12.7.6 Monterey | x86_64 | R Under development (unstable) (2025-10-21 r88958) -- "Unsuffered Consequences" | 4600 |
| kjohnson3 | macOS 13.7.7 Ventura | arm64 | R Under development (unstable) (2025-11-04 r88984) -- "Unsuffered Consequences" | 4564 |
| Click on any hostname to see more info about the system (e.g. compilers) (*) as reported by 'uname -p', except on Windows and Mac OS X | ||||
| Package 1493/2325 | Hostname | OS / Arch | INSTALL | BUILD | CHECK | BUILD BIN | ||||||||
| ontoProc 2.5.0 (landing page) Vincent Carey
| nebbiolo1 | Linux (Ubuntu 24.04.3 LTS) / x86_64 | OK | OK | OK | |||||||||
| lconway | macOS 12.7.6 Monterey / x86_64 | OK | OK | OK | OK | |||||||||
| kjohnson3 | macOS 13.7.7 Ventura / arm64 | OK | OK | OK | OK | |||||||||
|
To the developers/maintainers of the ontoProc package: - Allow up to 24 hours (and sometimes 48 hours) for your latest push to git@git.bioconductor.org:packages/ontoProc.git to reflect on this report. See Troubleshooting Build Report for more information. - Use the following Renviron settings to reproduce errors and warnings. - If 'R CMD check' started to fail recently on the Linux builder(s) over a missing dependency, add the missing dependency to 'Suggests:' in your DESCRIPTION file. See Renviron.bioc for more information. |
| Package: ontoProc |
| Version: 2.5.0 |
| Command: /Library/Frameworks/R.framework/Resources/bin/R CMD check --install=check:ontoProc.install-out.txt --library=/Library/Frameworks/R.framework/Resources/library --no-vignettes --timings ontoProc_2.5.0.tar.gz |
| StartedAt: 2025-11-19 22:57:50 -0500 (Wed, 19 Nov 2025) |
| EndedAt: 2025-11-19 23:32:23 -0500 (Wed, 19 Nov 2025) |
| EllapsedTime: 2073.0 seconds |
| RetCode: 0 |
| Status: OK |
| CheckDir: ontoProc.Rcheck |
| Warnings: 0 |
##############################################################################
##############################################################################
###
### Running command:
###
### /Library/Frameworks/R.framework/Resources/bin/R CMD check --install=check:ontoProc.install-out.txt --library=/Library/Frameworks/R.framework/Resources/library --no-vignettes --timings ontoProc_2.5.0.tar.gz
###
##############################################################################
##############################################################################
* using log directory ‘/Users/biocbuild/bbs-3.23-bioc/meat/ontoProc.Rcheck’
* using R Under development (unstable) (2025-10-21 r88958)
* using platform: x86_64-apple-darwin20
* R was compiled by
Apple clang version 14.0.0 (clang-1400.0.29.202)
GNU Fortran (GCC) 14.2.0
* running under: macOS Ventura 13.7.8
* using session charset: UTF-8
* using option ‘--no-vignettes’
* checking for file ‘ontoProc/DESCRIPTION’ ... OK
* this is package ‘ontoProc’ version ‘2.5.0’
* package encoding: UTF-8
* checking package namespace information ... OK
* checking package dependencies ... OK
* checking if this is a source package ... OK
* checking if there is a namespace ... OK
* checking for hidden files and directories ... OK
* checking for portable file names ... OK
* checking for sufficient/correct file permissions ... OK
* checking whether package ‘ontoProc’ can be installed ... OK
* checking installed package size ... INFO
installed size is 11.5Mb
sub-directories of 1Mb or more:
app 1.9Mb
data 1.8Mb
ontoRda 2.8Mb
owl 3.8Mb
* checking package directory ... OK
* checking ‘build’ directory ... OK
* checking DESCRIPTION meta-information ... OK
* checking top-level files ... OK
* checking for left-over files ... OK
* checking index information ... OK
* checking package subdirectories ... OK
* checking code files for non-ASCII characters ... OK
* checking R files for syntax errors ... OK
* checking whether the package can be loaded ... OK
* checking whether the package can be loaded with stated dependencies ... OK
* checking whether the package can be unloaded cleanly ... OK
* checking whether the namespace can be loaded with stated dependencies ... OK
* checking whether the namespace can be unloaded cleanly ... OK
* checking dependencies in R code ... NOTE
':::' call which should be '::': ‘ontologyPlot:::remove_uninformative_terms’
See the note in ?`:::` about the use of this operator.
* checking S3 generic/method consistency ... OK
* checking replacement functions ... OK
* checking foreign function calls ... OK
* checking R code for possible problems ... NOTE
CLfeat : prupdate: no visible binding for global variable ‘PROSYM’
CLfeat : prupdate: no visible binding for global variable ‘PRID’
CLfeat : prupdate: no visible binding for global variable ‘SYMBOL’
ctmarks : server: no visible binding for global variable ‘text’
ctmarks : server: no visible binding for global variable ‘packDesc2022’
ctmarks : server: no visible binding for global variable ‘packDesc2021’
ctmarks: no visible binding for global variable ‘cumu’
dropStop: no visible binding for global variable ‘stopWords’
getOnto: no visible binding for global variable ‘rdatadateadded’
getOnto: no visible binding for global variable ‘title’
getOnto: no visible binding for global variable ‘description’
ldfToTerm: no visible binding for global variable ‘PROSYM’
sym2CellOnto: no visible binding for global variable ‘PROSYM’
sym2CellOnto: no visible binding for global variable ‘SYMBOL’
Undefined global functions or variables:
PRID PROSYM SYMBOL cumu description packDesc2021 packDesc2022
rdatadateadded stopWords text title
Consider adding
importFrom("graphics", "text", "title")
to your NAMESPACE file.
* checking Rd files ... OK
* checking Rd metadata ... OK
* checking Rd cross-references ... NOTE
Found the following Rd file(s) with Rd \link{} targets missing package
anchors:
findCommonAncestors.Rd: graph, DataFrame-class, List-class
Please provide package anchors for all Rd \link{} targets not in the
package itself and the base packages.
* checking for missing documentation entries ... OK
* checking for code/documentation mismatches ... OK
* checking Rd \usage sections ... NOTE
S3 methods shown with full name in Rd file 'plot.owlents.Rd':
‘plot.owlents’
The \usage entries for S3 methods should use the \method markup and not
their full name.
See chapter ‘Writing R documentation files’ in the ‘Writing R
Extensions’ manual.
* checking Rd contents ... OK
* checking for unstated dependencies in examples ... OK
* checking contents of ‘data’ directory ... OK
* checking data for non-ASCII characters ... OK
* checking data for ASCII and uncompressed saves ... OK
* checking files in ‘vignettes’ ... OK
* checking examples ... OK
Examples with CPU (user + system) or elapsed time > 5s
user system elapsed
sym2CellOnto 218.586 2.494 223.171
siblings_TAG 124.190 1.949 128.009
cleanCLOnames 103.154 1.318 119.852
nomenCheckup 90.763 0.904 92.467
CLfeats 82.970 2.456 119.029
fastGrep 60.990 1.147 62.807
getLeavesFromTerm 60.629 0.869 65.152
TermSet-class 48.900 1.353 64.014
common_classes 48.037 1.507 50.423
liberalMap 46.571 0.701 51.010
selectFromMap 46.194 0.777 47.665
findCommonAncestors 46.052 0.859 47.426
mapOneNaive 45.812 0.786 47.406
getOnto 45.363 0.729 46.509
make_graphNEL_from_ontology_plot 45.273 0.797 46.599
secLevGen 43.851 0.694 45.416
onto_plot2 43.579 0.705 44.694
ontoDiff 12.130 0.696 13.468
graph2paths 9.493 0.061 9.595
plot.owlents 6.088 0.669 95.782
search_labels 0.448 0.025 18.931
bioregistry_ols_resources 0.043 0.021 22.069
* checking for unstated dependencies in ‘tests’ ... OK
* checking tests ...
Running ‘test.R’
OK
* checking for unstated dependencies in vignettes ... OK
* checking package vignettes ... OK
* checking running R code from vignettes ... SKIPPED
* checking re-building of vignette outputs ... SKIPPED
* checking PDF version of manual ... OK
* DONE
Status: 4 NOTEs
See
‘/Users/biocbuild/bbs-3.23-bioc/meat/ontoProc.Rcheck/00check.log’
for details.
ontoProc.Rcheck/00install.out
############################################################################## ############################################################################## ### ### Running command: ### ### /Library/Frameworks/R.framework/Resources/bin/R CMD INSTALL ontoProc ### ############################################################################## ############################################################################## * installing to library ‘/Library/Frameworks/R.framework/Versions/4.6-x86_64/Resources/library’ * installing *source* package ‘ontoProc’ ... ** this is package ‘ontoProc’ version ‘2.5.0’ ** using staged installation ** R ** data ** inst ** byte-compile and prepare package for lazy loading ** help *** installing help indices ** building package indices ** installing vignettes ** testing if installed package can be loaded from temporary location ** testing if installed package can be loaded from final location ** testing if installed package keeps a record of temporary installation path * DONE (ontoProc)
ontoProc.Rcheck/tests/test.Rout
R Under development (unstable) (2025-10-21 r88958) -- "Unsuffered Consequences"
Copyright (C) 2025 The R Foundation for Statistical Computing
Platform: x86_64-apple-darwin20
R is free software and comes with ABSOLUTELY NO WARRANTY.
You are welcome to redistribute it under certain conditions.
Type 'license()' or 'licence()' for distribution details.
R is a collaborative project with many contributors.
Type 'contributors()' for more information and
'citation()' on how to cite R or R packages in publications.
Type 'demo()' for some demos, 'help()' for on-line help, or
'help.start()' for an HTML browser interface to help.
Type 'q()' to quit R.
>
> library(ontoProc)
Loading required package: ontologyIndex
> library(testthat)
>
> test_check("ontoProc")
[ FAIL 0 | WARN 0 | SKIP 0 | PASS 12 ]
>
>
> proc.time()
user system elapsed
292.533 5.711 302.177
ontoProc.Rcheck/ontoProc-Ex.timings
| name | user | system | elapsed | |
| CLfeats | 82.970 | 2.456 | 119.029 | |
| PROSYM | 0.288 | 0.010 | 0.303 | |
| TermSet-class | 48.900 | 1.353 | 64.014 | |
| allGOterms | 0.096 | 0.005 | 0.102 | |
| ancestors | 0.995 | 0.416 | 1.672 | |
| ancestors_names | 0.007 | 0.006 | 0.018 | |
| bioregistry_ols_resources | 0.043 | 0.021 | 22.069 | |
| cellTypeToGO | 2.091 | 0.278 | 3.085 | |
| children_names | 0.006 | 0.001 | 0.007 | |
| cleanCLOnames | 103.154 | 1.318 | 119.852 | |
| common_classes | 48.037 | 1.507 | 50.423 | |
| ctmarks | 0.001 | 0.000 | 0.001 | |
| cyclicSigset | 0.007 | 0.000 | 0.007 | |
| demoApp | 0 | 0 | 0 | |
| dropStop | 0.004 | 0.003 | 0.008 | |
| fastGrep | 60.990 | 1.147 | 62.807 | |
| findCommonAncestors | 46.052 | 0.859 | 47.426 | |
| formalize | 0.000 | 0.000 | 0.002 | |
| getLeavesFromTerm | 60.629 | 0.869 | 65.152 | |
| getOnto | 45.363 | 0.729 | 46.509 | |
| graph2paths | 9.493 | 0.061 | 9.595 | |
| humrna | 0.007 | 0.002 | 0.010 | |
| jowl2classgraph | 0.352 | 0.004 | 0.359 | |
| jowl2classgraph_nio | 0.819 | 0.009 | 0.832 | |
| labels.owlents | 0 | 0 | 0 | |
| ldfToTerms | 2.891 | 0.052 | 2.962 | |
| liberalMap | 46.571 | 0.701 | 51.010 | |
| makeSelectInput | 0.000 | 0.001 | 0.000 | |
| make_graphNEL_from_ontology_plot | 45.273 | 0.797 | 46.599 | |
| mapOneNaive | 45.812 | 0.786 | 47.406 | |
| minicorpus | 0.001 | 0.002 | 0.003 | |
| nomenCheckup | 90.763 | 0.904 | 92.467 | |
| ontoDiff | 12.130 | 0.696 | 13.468 | |
| onto_plot2 | 43.579 | 0.705 | 44.694 | |
| onto_roots | 0 | 0 | 0 | |
| owl2cache | 0.029 | 0.001 | 0.031 | |
| packDesc2019 | 0.002 | 0.002 | 0.005 | |
| packDesc2021 | 0.002 | 0.002 | 0.004 | |
| packDesc2022 | 0.002 | 0.003 | 0.005 | |
| packDesc2023 | 0.003 | 0.011 | 0.014 | |
| parents | 0.006 | 0.001 | 0.007 | |
| plot.owlents | 6.088 | 0.669 | 95.782 | |
| quickOnto | 0.401 | 0.034 | 0.439 | |
| recognizedPredicates | 0.001 | 0.001 | 0.001 | |
| search_labels | 0.448 | 0.025 | 18.931 | |
| secLevGen | 43.851 | 0.694 | 45.416 | |
| selectFromMap | 46.194 | 0.777 | 47.665 | |
| setup_entities | 0.005 | 0.002 | 0.007 | |
| setup_entities2 | 0.405 | 0.015 | 0.424 | |
| seur3kTab | 0.003 | 0.001 | 0.006 | |
| siblings_TAG | 124.190 | 1.949 | 128.009 | |
| stopWords | 0.001 | 0.001 | 0.003 | |
| subclasses | 0.006 | 0.001 | 0.007 | |
| sym2CellOnto | 218.586 | 2.494 | 223.171 | |
| valid_ontonames | 0.000 | 0.000 | 0.001 | |