Back to Multiple platform build/check report for BioC 3.23:   simplified   long
ABCDEFGHIJKLMNOPQRS[T]UVWXYZ

This page was generated on 2025-11-14 11:36 -0500 (Fri, 14 Nov 2025).

HostnameOSArch (*)R versionInstalled pkgs
nebbiolo1Linux (Ubuntu 24.04.3 LTS)x86_64R Under development (unstable) (2025-10-20 r88955) -- "Unsuffered Consequences" 4825
kjohnson3macOS 13.7.7 Venturaarm64R Under development (unstable) (2025-11-04 r88984) -- "Unsuffered Consequences" 4547
Click on any hostname to see more info about the system (e.g. compilers)      (*) as reported by 'uname -p', except on Windows and Mac OS X

Package 2154/2325HostnameOS / ArchINSTALLBUILDCHECKBUILD BIN
TargetSearch 2.13.0  (landing page)
Alvaro Cuadros-Inostroza
Snapshot Date: 2025-11-13 13:40 -0500 (Thu, 13 Nov 2025)
git_url: https://git.bioconductor.org/packages/TargetSearch
git_branch: devel
git_last_commit: ea1ec73
git_last_commit_date: 2025-10-29 10:02:47 -0500 (Wed, 29 Oct 2025)
nebbiolo1Linux (Ubuntu 24.04.3 LTS) / x86_64  OK    OK    OK  UNNEEDED, same version is already published
kjohnson3macOS 13.7.7 Ventura / arm64  OK    OK    OK    OK  UNNEEDED, same version is already published


CHECK results for TargetSearch on nebbiolo1

To the developers/maintainers of the TargetSearch package:
- Allow up to 24 hours (and sometimes 48 hours) for your latest push to git@git.bioconductor.org:packages/TargetSearch.git to reflect on this report. See Troubleshooting Build Report for more information.
- Use the following Renviron settings to reproduce errors and warnings.
- If 'R CMD check' started to fail recently on the Linux builder(s) over a missing dependency, add the missing dependency to 'Suggests:' in your DESCRIPTION file. See Renviron.bioc for more information.

raw results


Summary

Package: TargetSearch
Version: 2.13.0
Command: /home/biocbuild/bbs-3.23-bioc/R/bin/R CMD check --install=check:TargetSearch.install-out.txt --library=/home/biocbuild/bbs-3.23-bioc/R/site-library --timings TargetSearch_2.13.0.tar.gz
StartedAt: 2025-11-14 04:41:32 -0500 (Fri, 14 Nov 2025)
EndedAt: 2025-11-14 04:42:56 -0500 (Fri, 14 Nov 2025)
EllapsedTime: 84.2 seconds
RetCode: 0
Status:   OK  
CheckDir: TargetSearch.Rcheck
Warnings: 0

Command output

##############################################################################
##############################################################################
###
### Running command:
###
###   /home/biocbuild/bbs-3.23-bioc/R/bin/R CMD check --install=check:TargetSearch.install-out.txt --library=/home/biocbuild/bbs-3.23-bioc/R/site-library --timings TargetSearch_2.13.0.tar.gz
###
##############################################################################
##############################################################################


* using log directory ‘/home/biocbuild/bbs-3.23-bioc/meat/TargetSearch.Rcheck’
* using R Under development (unstable) (2025-10-20 r88955)
* using platform: x86_64-pc-linux-gnu
* R was compiled by
    gcc (Ubuntu 13.3.0-6ubuntu2~24.04) 13.3.0
    GNU Fortran (Ubuntu 13.3.0-6ubuntu2~24.04) 13.3.0
* running under: Ubuntu 24.04.3 LTS
* using session charset: UTF-8
* checking for file ‘TargetSearch/DESCRIPTION’ ... OK
* checking extension type ... Package
* this is package ‘TargetSearch’ version ‘2.13.0’
* checking package namespace information ... OK
* checking package dependencies ... OK
* checking if this is a source package ... OK
* checking if there is a namespace ... OK
* checking for hidden files and directories ... OK
* checking for portable file names ... OK
* checking for sufficient/correct file permissions ... OK
* checking whether package ‘TargetSearch’ can be installed ... OK
* used C compiler: ‘gcc (Ubuntu 13.3.0-6ubuntu2~24.04) 13.3.0’
* checking installed package size ... OK
* checking package directory ... OK
* checking ‘build’ directory ... OK
* checking DESCRIPTION meta-information ... OK
* checking top-level files ... OK
* checking for left-over files ... OK
* checking index information ... OK
* checking package subdirectories ... OK
* checking code files for non-ASCII characters ... OK
* checking R files for syntax errors ... OK
* checking whether the package can be loaded ... OK
* checking whether the package can be loaded with stated dependencies ... OK
* checking whether the package can be unloaded cleanly ... OK
* checking whether the namespace can be loaded with stated dependencies ... OK
* checking whether the namespace can be unloaded cleanly ... OK
* checking loading without being on the library search path ... OK
* checking dependencies in R code ... OK
* checking S3 generic/method consistency ... OK
* checking replacement functions ... OK
* checking foreign function calls ... OK
* checking R code for possible problems ... OK
* checking Rd files ... OK
* checking Rd metadata ... OK
* checking Rd cross-references ... OK
* checking for missing documentation entries ... OK
* checking for code/documentation mismatches ... OK
* checking Rd \usage sections ... OK
* checking Rd contents ... OK
* checking for unstated dependencies in examples ... OK
* checking contents of ‘data’ directory ... OK
* checking data for non-ASCII characters ... OK
* checking data for ASCII and uncompressed saves ... OK
* checking line endings in C/C++/Fortran sources/headers ... OK
* checking compiled code ... INFO
Note: information on .o files is not available
* checking sizes of PDF files under ‘inst/doc’ ...* checking installed files from ‘inst/doc’ ... OK
* checking files in ‘vignettes’ ... OK
* checking examples ... OK
Examples with CPU (user + system) or elapsed time > 5s
           user system elapsed
RIcorrect 8.795  0.907   9.755
* checking for unstated dependencies in ‘tests’ ... OK
* checking tests ...
  Running ‘tinytest.R’
 OK
* checking for unstated dependencies in vignettes ... OK
* checking package vignettes ... OK
* checking re-building of vignette outputs ... OK
* checking PDF version of manual ... OK
* DONE

Status: OK


Installation output

TargetSearch.Rcheck/00install.out

##############################################################################
##############################################################################
###
### Running command:
###
###   /home/biocbuild/bbs-3.23-bioc/R/bin/R CMD INSTALL TargetSearch
###
##############################################################################
##############################################################################


* installing to library ‘/home/biocbuild/bbs-3.23-bioc/R/site-library’
* installing *source* package ‘TargetSearch’ ...
** this is package ‘TargetSearch’ version ‘2.13.0’
** using staged installation
** libs
using C compiler: ‘gcc (Ubuntu 13.3.0-6ubuntu2~24.04) 13.3.0’
gcc -std=gnu2x -I"/home/biocbuild/bbs-3.23-bioc/R/include" -DNDEBUG   -I/usr/local/include    -fpic  -g -O2  -Wall -Werror=format-security -c Rinit.c -o Rinit.o
gcc -std=gnu2x -I"/home/biocbuild/bbs-3.23-bioc/R/include" -DNDEBUG   -I/usr/local/include    -fpic  -g -O2  -Wall -Werror=format-security -c baseline.c -o baseline.o
gcc -std=gnu2x -I"/home/biocbuild/bbs-3.23-bioc/R/include" -DNDEBUG   -I/usr/local/include    -fpic  -g -O2  -Wall -Werror=format-security -c detection.c -o detection.o
gcc -std=gnu2x -I"/home/biocbuild/bbs-3.23-bioc/R/include" -DNDEBUG   -I/usr/local/include    -fpic  -g -O2  -Wall -Werror=format-security -c file.c -o file.o
gcc -std=gnu2x -I"/home/biocbuild/bbs-3.23-bioc/R/include" -DNDEBUG   -I/usr/local/include    -fpic  -g -O2  -Wall -Werror=format-security -c find.c -o find.o
gcc -std=gnu2x -I"/home/biocbuild/bbs-3.23-bioc/R/include" -DNDEBUG   -I/usr/local/include    -fpic  -g -O2  -Wall -Werror=format-security -c get_line.c -o get_line.o
gcc -std=gnu2x -I"/home/biocbuild/bbs-3.23-bioc/R/include" -DNDEBUG   -I/usr/local/include    -fpic  -g -O2  -Wall -Werror=format-security -c hpf.c -o hpf.o
gcc -std=gnu2x -I"/home/biocbuild/bbs-3.23-bioc/R/include" -DNDEBUG   -I/usr/local/include    -fpic  -g -O2  -Wall -Werror=format-security -c matrix.c -o matrix.o
gcc -std=gnu2x -I"/home/biocbuild/bbs-3.23-bioc/R/include" -DNDEBUG   -I/usr/local/include    -fpic  -g -O2  -Wall -Werror=format-security -c ncdf.c -o ncdf.o
gcc -std=gnu2x -I"/home/biocbuild/bbs-3.23-bioc/R/include" -DNDEBUG   -I/usr/local/include    -fpic  -g -O2  -Wall -Werror=format-security -c peak.c -o peak.o
gcc -std=gnu2x -I"/home/biocbuild/bbs-3.23-bioc/R/include" -DNDEBUG   -I/usr/local/include    -fpic  -g -O2  -Wall -Werror=format-security -c spectrum.c -o spectrum.o
gcc -std=gnu2x -I"/home/biocbuild/bbs-3.23-bioc/R/include" -DNDEBUG   -I/usr/local/include    -fpic  -g -O2  -Wall -Werror=format-security -c strutils.c -o strutils.o
gcc -std=gnu2x -I"/home/biocbuild/bbs-3.23-bioc/R/include" -DNDEBUG   -I/usr/local/include    -fpic  -g -O2  -Wall -Werror=format-security -c utils.c -o utils.o
gcc -std=gnu2x -shared -L/home/biocbuild/bbs-3.23-bioc/R/lib -L/usr/local/lib -o TargetSearch.so Rinit.o baseline.o detection.o file.o find.o get_line.o hpf.o matrix.o ncdf.o peak.o spectrum.o strutils.o utils.o -L/home/biocbuild/bbs-3.23-bioc/R/lib -lR
installing to /home/biocbuild/bbs-3.23-bioc/R/site-library/00LOCK-TargetSearch/00new/TargetSearch/libs
** R
** data
** inst
** byte-compile and prepare package for lazy loading
** help
*** installing help indices
** building package indices
** installing vignettes
** testing if installed package can be loaded from temporary location
** checking absolute paths in shared objects and dynamic libraries
** testing if installed package can be loaded from final location
** testing if installed package keeps a record of temporary installation path
* DONE (TargetSearch)

Tests output

TargetSearch.Rcheck/tests/tinytest.Rout


R Under development (unstable) (2025-10-20 r88955) -- "Unsuffered Consequences"
Copyright (C) 2025 The R Foundation for Statistical Computing
Platform: x86_64-pc-linux-gnu

R is free software and comes with ABSOLUTELY NO WARRANTY.
You are welcome to redistribute it under certain conditions.
Type 'license()' or 'licence()' for distribution details.

R is a collaborative project with many contributors.
Type 'contributors()' for more information and
'citation()' on how to cite R or R packages in publications.

Type 'demo()' for some demos, 'help()' for on-line help, or
'help.start()' for an HTML browser interface to help.
Type 'q()' to quit R.

> if ( requireNamespace("tinytest", quietly=TRUE) && requireNamespace("TargetSearchData", quietly=TRUE)) {
+     tinytest::test_package("TargetSearch", color=FALSE, verbose=1)
+ }
Loading required package: TargetSearchData

test_FindAllPeaks.R...........   19 tests OK  0.8s
FAMEs were saved in /tmp/Rtmp7qKoV9/file2c59c6b8f2423.pdf
FAMEs were saved in /tmp/Rtmp7qKoV9/file2c59c6b8f2423.pdf
FAMEs were saved in /tmp/Rtmp7qKoV9/file2c59c6b8f2423.pdf
FAMEs were saved in /tmp/Rtmp7qKoV9/file2c59c6b8f2423.pdf

test_fameoutliers.R...........    5 tests OK  59ms

test_file.R...................    4 tests OK  56ms

test_import_fame.R............   14 tests OK  14ms

test_import_library.R.........   15 tests OK  93ms

test_ncdf4_plot_peak.R........    7 tests OK  0.3s

test_quantMatrix.R............    8 tests OK  28ms

test_ri_data_extract.R........    6 tests OK  3.6s

test_ri_plot_peak.R...........   22 tests OK  0.1s

test_ricorrect.R..............    5 tests OK  0.5s

test_tsLib.R..................   30 tests OK  96ms

test_tsProfile.R..............   12 tests OK  14ms

test_tsRim.R..................    9 tests OK  4ms

test_tsSample.R...............   19 tests OK  52ms

test_write_ri_file.R..........    6 tests OK  9ms
All ok, 181 results (5.8s)
> 
> proc.time()
   user  system elapsed 
  5.964   0.112   6.070 

Example timings

TargetSearch.Rcheck/TargetSearch-Ex.timings

nameusersystemelapsed
FAMEoutliers0.0580.0060.064
FindAllPeaks0.5780.0220.624
FindPeaks0.1030.0040.106
ImportFameSettings0.0080.0000.008
ImportLibrary0.0180.0000.019
ImportSamples0.0070.0030.010
NetCDFPeakFinding0.1200.0490.170
Profile0.5010.0110.512
ProfileCleanUp0.4080.0430.451
RIcorrect8.7950.9079.755
TSExample1.7310.1151.847
Write.Results0.0490.0010.050
baseline0.2110.0090.219
baselineCorrection0.2150.0030.218
baselineCorrectionQuant0.2690.0140.282
checkRimLim0.6020.0850.687
file0.0570.0030.060
fixRI0.6280.0660.694
makeIndex0.0040.0000.004
medianRILib0.2140.0030.217
ncdf4Convert-method0.0760.0170.093
ncdf4_convert0.0260.0050.031
ncdf4_convert_from_path1.5850.1381.725
ncdf4_data_extract0.3030.0160.321
ncdf4_plot_peak0.8130.0520.865
ncdf4_update_ri0.2120.0120.224
peakCDFextraction0.3310.0440.376
peakFind0.1190.0030.121
plotFAME0.0080.0000.008
plotPeak0.1250.0160.142
plotPeakRI0.4200.0100.431
plotPeakSimple0.2260.0220.247
plotRIdev0.2400.0080.248
plotRefSpectra0.0830.0010.083
plotSpectra0.1210.0030.124
quantMatrix0.3930.0080.402
ri2rt0.0030.0000.003
riMatrix0.5740.0580.632
ri_data_extract0.0270.0000.027
ri_plot_peak0.6120.0130.624
rt2ri0.0030.0000.004
sampleRI0.2260.0060.231
tsLib-class0.0250.0010.026
tsMSdata-class0.0140.0110.026
tsProfile-class0.0070.0030.010
tsRim-class0.0020.0000.003
tsSample-class0.0190.0020.022
tsUpdate-method000
updateRI0.9520.0791.031
writeLibText0.0180.0010.019
writeMSP0.0190.0010.019