| Back to Multiple platform build/check report for BioC 3.23: simplified long |
|
This page was generated on 2025-11-15 11:35 -0500 (Sat, 15 Nov 2025).
| Hostname | OS | Arch (*) | R version | Installed pkgs |
|---|---|---|---|---|
| nebbiolo1 | Linux (Ubuntu 24.04.3 LTS) | x86_64 | R Under development (unstable) (2025-10-20 r88955) -- "Unsuffered Consequences" | 4826 |
| kjohnson3 | macOS 13.7.7 Ventura | arm64 | R Under development (unstable) (2025-11-04 r88984) -- "Unsuffered Consequences" | 4561 |
| Click on any hostname to see more info about the system (e.g. compilers) (*) as reported by 'uname -p', except on Windows and Mac OS X | ||||
| Package 2154/2325 | Hostname | OS / Arch | INSTALL | BUILD | CHECK | BUILD BIN | ||||||||
| TargetSearch 2.13.0 (landing page) Alvaro Cuadros-Inostroza
| nebbiolo1 | Linux (Ubuntu 24.04.3 LTS) / x86_64 | OK | OK | OK | |||||||||
| kjohnson3 | macOS 13.7.7 Ventura / arm64 | OK | OK | OK | OK | |||||||||
|
To the developers/maintainers of the TargetSearch package: - Allow up to 24 hours (and sometimes 48 hours) for your latest push to git@git.bioconductor.org:packages/TargetSearch.git to reflect on this report. See Troubleshooting Build Report for more information. - Use the following Renviron settings to reproduce errors and warnings. - If 'R CMD check' started to fail recently on the Linux builder(s) over a missing dependency, add the missing dependency to 'Suggests:' in your DESCRIPTION file. See Renviron.bioc for more information. |
| Package: TargetSearch |
| Version: 2.13.0 |
| Command: /Library/Frameworks/R.framework/Resources/bin/R CMD check --install=check:TargetSearch.install-out.txt --library=/Library/Frameworks/R.framework/Resources/library --no-vignettes --timings TargetSearch_2.13.0.tar.gz |
| StartedAt: 2025-11-14 22:54:12 -0500 (Fri, 14 Nov 2025) |
| EndedAt: 2025-11-14 22:54:59 -0500 (Fri, 14 Nov 2025) |
| EllapsedTime: 46.6 seconds |
| RetCode: 0 |
| Status: OK |
| CheckDir: TargetSearch.Rcheck |
| Warnings: 0 |
##############################################################################
##############################################################################
###
### Running command:
###
### /Library/Frameworks/R.framework/Resources/bin/R CMD check --install=check:TargetSearch.install-out.txt --library=/Library/Frameworks/R.framework/Resources/library --no-vignettes --timings TargetSearch_2.13.0.tar.gz
###
##############################################################################
##############################################################################
* using log directory ‘/Users/biocbuild/bbs-3.23-bioc/meat/TargetSearch.Rcheck’
* using R Under development (unstable) (2025-11-04 r88984)
* using platform: aarch64-apple-darwin20
* R was compiled by
Apple clang version 16.0.0 (clang-1600.0.26.6)
GNU Fortran (GCC) 14.2.0
* running under: macOS Ventura 13.7.8
* using session charset: UTF-8
* using option ‘--no-vignettes’
* checking for file ‘TargetSearch/DESCRIPTION’ ... OK
* checking extension type ... Package
* this is package ‘TargetSearch’ version ‘2.13.0’
* checking package namespace information ... OK
* checking package dependencies ... OK
* checking if this is a source package ... OK
* checking if there is a namespace ... OK
* checking for hidden files and directories ... OK
* checking for portable file names ... OK
* checking for sufficient/correct file permissions ... OK
* checking whether package ‘TargetSearch’ can be installed ... OK
* used C compiler: ‘Apple clang version 15.0.0 (clang-1500.1.0.2.5)’
* used SDK: ‘MacOSX11.3.1.sdk’
* checking installed package size ... OK
* checking package directory ... OK
* checking ‘build’ directory ... OK
* checking DESCRIPTION meta-information ... OK
* checking top-level files ... OK
* checking for left-over files ... OK
* checking index information ... OK
* checking package subdirectories ... OK
* checking code files for non-ASCII characters ... OK
* checking R files for syntax errors ... OK
* checking whether the package can be loaded ... OK
* checking whether the package can be loaded with stated dependencies ... OK
* checking whether the package can be unloaded cleanly ... OK
* checking whether the namespace can be loaded with stated dependencies ... OK
* checking whether the namespace can be unloaded cleanly ... OK
* checking dependencies in R code ... OK
* checking S3 generic/method consistency ... OK
* checking replacement functions ... OK
* checking foreign function calls ... OK
* checking R code for possible problems ... OK
* checking Rd files ... OK
* checking Rd metadata ... OK
* checking Rd cross-references ... OK
* checking for missing documentation entries ... OK
* checking for code/documentation mismatches ... OK
* checking Rd \usage sections ... OK
* checking Rd contents ... OK
* checking for unstated dependencies in examples ... OK
* checking contents of ‘data’ directory ... OK
* checking data for non-ASCII characters ... OK
* checking data for ASCII and uncompressed saves ... OK
* checking line endings in C/C++/Fortran sources/headers ... OK
* checking compiled code ... INFO
Note: information on .o files is not available
* checking sizes of PDF files under ‘inst/doc’ ... OK
* checking installed files from ‘inst/doc’ ... OK
* checking files in ‘vignettes’ ... OK
* checking examples ... OK
Examples with CPU (user + system) or elapsed time > 5s
user system elapsed
RIcorrect 5.043 0.907 7.195
* checking for unstated dependencies in ‘tests’ ... OK
* checking tests ...
Running ‘tinytest.R’
OK
* checking for unstated dependencies in vignettes ... OK
* checking package vignettes ... OK
* checking running R code from vignettes ... SKIPPED
* checking re-building of vignette outputs ... SKIPPED
* checking PDF version of manual ... OK
* DONE
Status: OK
TargetSearch.Rcheck/00install.out
############################################################################## ############################################################################## ### ### Running command: ### ### /Library/Frameworks/R.framework/Resources/bin/R CMD INSTALL TargetSearch ### ############################################################################## ############################################################################## * installing to library ‘/Library/Frameworks/R.framework/Versions/4.6-arm64/Resources/library’ * installing *source* package ‘TargetSearch’ ... ** this is package ‘TargetSearch’ version ‘2.13.0’ ** using staged installation ** libs using C compiler: ‘Apple clang version 15.0.0 (clang-1500.1.0.2.5)’ using SDK: ‘MacOSX11.3.1.sdk’ clang -arch arm64 -std=gnu2x -I"/Library/Frameworks/R.framework/Resources/include" -DNDEBUG -I/opt/R/arm64/include -fPIC -falign-functions=64 -Wall -g -O2 -c Rinit.c -o Rinit.o clang -arch arm64 -std=gnu2x -I"/Library/Frameworks/R.framework/Resources/include" -DNDEBUG -I/opt/R/arm64/include -fPIC -falign-functions=64 -Wall -g -O2 -c baseline.c -o baseline.o clang -arch arm64 -std=gnu2x -I"/Library/Frameworks/R.framework/Resources/include" -DNDEBUG -I/opt/R/arm64/include -fPIC -falign-functions=64 -Wall -g -O2 -c detection.c -o detection.o clang -arch arm64 -std=gnu2x -I"/Library/Frameworks/R.framework/Resources/include" -DNDEBUG -I/opt/R/arm64/include -fPIC -falign-functions=64 -Wall -g -O2 -c file.c -o file.o clang -arch arm64 -std=gnu2x -I"/Library/Frameworks/R.framework/Resources/include" -DNDEBUG -I/opt/R/arm64/include -fPIC -falign-functions=64 -Wall -g -O2 -c find.c -o find.o clang -arch arm64 -std=gnu2x -I"/Library/Frameworks/R.framework/Resources/include" -DNDEBUG -I/opt/R/arm64/include -fPIC -falign-functions=64 -Wall -g -O2 -c get_line.c -o get_line.o clang -arch arm64 -std=gnu2x -I"/Library/Frameworks/R.framework/Resources/include" -DNDEBUG -I/opt/R/arm64/include -fPIC -falign-functions=64 -Wall -g -O2 -c hpf.c -o hpf.o clang -arch arm64 -std=gnu2x -I"/Library/Frameworks/R.framework/Resources/include" -DNDEBUG -I/opt/R/arm64/include -fPIC -falign-functions=64 -Wall -g -O2 -c matrix.c -o matrix.o clang -arch arm64 -std=gnu2x -I"/Library/Frameworks/R.framework/Resources/include" -DNDEBUG -I/opt/R/arm64/include -fPIC -falign-functions=64 -Wall -g -O2 -c ncdf.c -o ncdf.o clang -arch arm64 -std=gnu2x -I"/Library/Frameworks/R.framework/Resources/include" -DNDEBUG -I/opt/R/arm64/include -fPIC -falign-functions=64 -Wall -g -O2 -c peak.c -o peak.o clang -arch arm64 -std=gnu2x -I"/Library/Frameworks/R.framework/Resources/include" -DNDEBUG -I/opt/R/arm64/include -fPIC -falign-functions=64 -Wall -g -O2 -c spectrum.c -o spectrum.o clang -arch arm64 -std=gnu2x -I"/Library/Frameworks/R.framework/Resources/include" -DNDEBUG -I/opt/R/arm64/include -fPIC -falign-functions=64 -Wall -g -O2 -c strutils.c -o strutils.o clang -arch arm64 -std=gnu2x -I"/Library/Frameworks/R.framework/Resources/include" -DNDEBUG -I/opt/R/arm64/include -fPIC -falign-functions=64 -Wall -g -O2 -c utils.c -o utils.o clang -arch arm64 -std=gnu2x -dynamiclib -Wl,-headerpad_max_install_names -undefined dynamic_lookup -L/Library/Frameworks/R.framework/Resources/lib -L/opt/R/arm64/lib -o TargetSearch.so Rinit.o baseline.o detection.o file.o find.o get_line.o hpf.o matrix.o ncdf.o peak.o spectrum.o strutils.o utils.o -F/Library/Frameworks/R.framework/.. -framework R installing to /Library/Frameworks/R.framework/Versions/4.6-arm64/Resources/library/00LOCK-TargetSearch/00new/TargetSearch/libs ** R ** data ** inst ** byte-compile and prepare package for lazy loading ** help *** installing help indices ** building package indices ** installing vignettes ** testing if installed package can be loaded from temporary location ** checking absolute paths in shared objects and dynamic libraries ** testing if installed package can be loaded from final location ** testing if installed package keeps a record of temporary installation path * DONE (TargetSearch)
TargetSearch.Rcheck/tests/tinytest.Rout
R Under development (unstable) (2025-11-04 r88984) -- "Unsuffered Consequences"
Copyright (C) 2025 The R Foundation for Statistical Computing
Platform: aarch64-apple-darwin20
R is free software and comes with ABSOLUTELY NO WARRANTY.
You are welcome to redistribute it under certain conditions.
Type 'license()' or 'licence()' for distribution details.
R is a collaborative project with many contributors.
Type 'contributors()' for more information and
'citation()' on how to cite R or R packages in publications.
Type 'demo()' for some demos, 'help()' for on-line help, or
'help.start()' for an HTML browser interface to help.
Type 'q()' to quit R.
> if ( requireNamespace("tinytest", quietly=TRUE) && requireNamespace("TargetSearchData", quietly=TRUE)) {
+ tinytest::test_package("TargetSearch", color=FALSE, verbose=1)
+ }
Loading required package: TargetSearchData
test_FindAllPeaks.R........... 19 tests OK 0.7s
FAMEs were saved in /var/folders/r0/l4fjk6cj5xj0j3brt4bplpl40000gt/T//RtmpNSD0hf/file149624bd152f0.pdf
FAMEs were saved in /var/folders/r0/l4fjk6cj5xj0j3brt4bplpl40000gt/T//RtmpNSD0hf/file149624bd152f0.pdf
FAMEs were saved in /var/folders/r0/l4fjk6cj5xj0j3brt4bplpl40000gt/T//RtmpNSD0hf/file149624bd152f0.pdf
FAMEs were saved in /var/folders/r0/l4fjk6cj5xj0j3brt4bplpl40000gt/T//RtmpNSD0hf/file149624bd152f0.pdf
test_fameoutliers.R........... 5 tests OK 48ms
test_file.R................... 4 tests OK 46ms
test_import_fame.R............ 14 tests OK 7ms
test_import_library.R......... 15 tests OK 38ms
test_ncdf4_plot_peak.R........ 7 tests OK 0.1s
test_quantMatrix.R............ 8 tests OK 15ms
test_ri_data_extract.R........ 6 tests OK 1.8s
test_ri_plot_peak.R........... 22 tests OK 79ms
test_ricorrect.R.............. 5 tests OK 0.2s
test_tsLib.R.................. 30 tests OK 46ms
test_tsProfile.R.............. 12 tests OK 9ms
test_tsRim.R.................. 9 tests OK 3ms
test_tsSample.R............... 19 tests OK 10ms
test_write_ri_file.R.......... 6 tests OK 3ms
All ok, 181 results (3.2s)
>
> proc.time()
user system elapsed
2.983 0.159 3.560
TargetSearch.Rcheck/TargetSearch-Ex.timings
| name | user | system | elapsed | |
| FAMEoutliers | 0.034 | 0.009 | 0.049 | |
| FindAllPeaks | 0.514 | 0.024 | 0.552 | |
| FindPeaks | 0.089 | 0.004 | 0.093 | |
| ImportFameSettings | 0.003 | 0.001 | 0.005 | |
| ImportLibrary | 0.012 | 0.001 | 0.012 | |
| ImportSamples | 0.003 | 0.001 | 0.004 | |
| NetCDFPeakFinding | 0.113 | 0.013 | 0.131 | |
| Profile | 0.315 | 0.011 | 0.328 | |
| ProfileCleanUp | 0.307 | 0.011 | 0.321 | |
| RIcorrect | 5.043 | 0.907 | 7.195 | |
| TSExample | 0.683 | 0.134 | 0.910 | |
| Write.Results | 0.022 | 0.004 | 0.037 | |
| baseline | 0.129 | 0.019 | 0.164 | |
| baselineCorrection | 0.131 | 0.012 | 0.154 | |
| baselineCorrectionQuant | 0.194 | 0.012 | 0.216 | |
| checkRimLim | 0.461 | 0.042 | 0.534 | |
| file | 0.031 | 0.009 | 0.042 | |
| fixRI | 0.459 | 0.051 | 0.586 | |
| makeIndex | 0.002 | 0.002 | 0.002 | |
| medianRILib | 0.168 | 0.015 | 0.207 | |
| ncdf4Convert-method | 0.029 | 0.005 | 0.035 | |
| ncdf4_convert | 0.008 | 0.001 | 0.010 | |
| ncdf4_convert_from_path | 1.075 | 0.267 | 1.450 | |
| ncdf4_data_extract | 0.170 | 0.046 | 0.238 | |
| ncdf4_plot_peak | 0.498 | 0.066 | 0.586 | |
| ncdf4_update_ri | 0.131 | 0.029 | 0.170 | |
| peakCDFextraction | 0.224 | 0.033 | 0.271 | |
| peakFind | 0.089 | 0.007 | 0.105 | |
| plotFAME | 0.003 | 0.001 | 0.005 | |
| plotPeak | 0.095 | 0.010 | 0.124 | |
| plotPeakRI | 0.333 | 0.016 | 0.360 | |
| plotPeakSimple | 0.171 | 0.016 | 0.210 | |
| plotRIdev | 0.127 | 0.006 | 0.138 | |
| plotRefSpectra | 0.030 | 0.002 | 0.033 | |
| plotSpectra | 0.086 | 0.004 | 0.097 | |
| quantMatrix | 0.286 | 0.014 | 0.307 | |
| ri2rt | 0.001 | 0.000 | 0.001 | |
| riMatrix | 0.468 | 0.039 | 0.511 | |
| ri_data_extract | 0.028 | 0.002 | 0.031 | |
| ri_plot_peak | 0.517 | 0.033 | 0.558 | |
| rt2ri | 0.001 | 0.000 | 0.001 | |
| sampleRI | 0.201 | 0.012 | 0.216 | |
| tsLib-class | 0.008 | 0.002 | 0.010 | |
| tsMSdata-class | 0.005 | 0.011 | 0.015 | |
| tsProfile-class | 0.003 | 0.002 | 0.005 | |
| tsRim-class | 0.000 | 0.000 | 0.001 | |
| tsSample-class | 0.007 | 0.001 | 0.007 | |
| tsUpdate-method | 0 | 0 | 0 | |
| updateRI | 0.363 | 0.061 | 0.456 | |
| writeLibText | 0.009 | 0.000 | 0.011 | |
| writeMSP | 0.005 | 0.002 | 0.006 | |