Back to Multiple platform build/check report for BioC 3.22:   simplified   long
ABCDEFGHIJKLMNOPQR[S]TUVWXYZ

This page was generated on 2025-10-03 12:05 -0400 (Fri, 03 Oct 2025).

HostnameOSArch (*)R versionInstalled pkgs
nebbiolo2Linux (Ubuntu 24.04.3 LTS)x86_644.5.1 Patched (2025-08-23 r88802) -- "Great Square Root" 4845
lconwaymacOS 12.7.1 Montereyx86_644.5.1 Patched (2025-09-10 r88807) -- "Great Square Root" 4632
kjohnson3macOS 13.7.7 Venturaarm644.5.1 Patched (2025-09-10 r88807) -- "Great Square Root" 4577
taishanLinux (openEuler 24.03 LTS)aarch644.5.0 (2025-04-11) -- "How About a Twenty-Six" 4576
Click on any hostname to see more info about the system (e.g. compilers)      (*) as reported by 'uname -p', except on Windows and Mac OS X

Package 1920/2337HostnameOS / ArchINSTALLBUILDCHECKBUILD BIN
Sconify 1.29.0  (landing page)
Tyler J Burns
Snapshot Date: 2025-10-02 13:45 -0400 (Thu, 02 Oct 2025)
git_url: https://git.bioconductor.org/packages/Sconify
git_branch: devel
git_last_commit: d0d3ac0
git_last_commit_date: 2025-04-15 11:19:48 -0400 (Tue, 15 Apr 2025)
nebbiolo2Linux (Ubuntu 24.04.3 LTS) / x86_64  OK    OK    ERROR  
lconwaymacOS 12.7.1 Monterey / x86_64  OK    OK    ERROR    OK  
kjohnson3macOS 13.7.7 Ventura / arm64  OK    OK    ERROR    OK  
taishanLinux (openEuler 24.03 LTS) / aarch64  OK    OK    ERROR  


CHECK results for Sconify on lconway

To the developers/maintainers of the Sconify package:
- Allow up to 24 hours (and sometimes 48 hours) for your latest push to git@git.bioconductor.org:packages/Sconify.git to reflect on this report. See Troubleshooting Build Report for more information.
- Use the following Renviron settings to reproduce errors and warnings.
- If 'R CMD check' started to fail recently on the Linux builder(s) over a missing dependency, add the missing dependency to 'Suggests:' in your DESCRIPTION file. See Renviron.bioc for more information.

raw results


Summary

Package: Sconify
Version: 1.29.0
Command: /Library/Frameworks/R.framework/Resources/bin/R CMD check --install=check:Sconify.install-out.txt --library=/Library/Frameworks/R.framework/Resources/library --no-vignettes --timings Sconify_1.29.0.tar.gz
StartedAt: 2025-10-03 00:24:23 -0400 (Fri, 03 Oct 2025)
EndedAt: 2025-10-03 00:26:32 -0400 (Fri, 03 Oct 2025)
EllapsedTime: 129.5 seconds
RetCode: 1
Status:   ERROR  
CheckDir: Sconify.Rcheck
Warnings: NA

Command output

##############################################################################
##############################################################################
###
### Running command:
###
###   /Library/Frameworks/R.framework/Resources/bin/R CMD check --install=check:Sconify.install-out.txt --library=/Library/Frameworks/R.framework/Resources/library --no-vignettes --timings Sconify_1.29.0.tar.gz
###
##############################################################################
##############################################################################


* using log directory ‘/Users/biocbuild/bbs-3.22-bioc/meat/Sconify.Rcheck’
* using R version 4.5.1 Patched (2025-09-10 r88807)
* using platform: x86_64-apple-darwin20
* R was compiled by
    Apple clang version 14.0.0 (clang-1400.0.29.202)
    GNU Fortran (GCC) 14.2.0
* running under: macOS Monterey 12.7.6
* using session charset: UTF-8
* using option ‘--no-vignettes’
* checking for file ‘Sconify/DESCRIPTION’ ... OK
* checking extension type ... Package
* this is package ‘Sconify’ version ‘1.29.0’
* package encoding: UTF-8
* checking package namespace information ... OK
* checking package dependencies ... OK
* checking if this is a source package ... OK
* checking if there is a namespace ... OK
* checking for hidden files and directories ... OK
* checking for portable file names ... OK
* checking for sufficient/correct file permissions ... OK
* checking whether package ‘Sconify’ can be installed ... OK
* checking installed package size ... OK
* checking package directory ... OK
* checking ‘build’ directory ... OK
* checking DESCRIPTION meta-information ... OK
* checking top-level files ... OK
* checking for left-over files ... OK
* checking index information ... OK
* checking package subdirectories ... OK
* checking code files for non-ASCII characters ... OK
* checking R files for syntax errors ... OK
* checking whether the package can be loaded ... OK
* checking whether the package can be loaded with stated dependencies ... OK
* checking whether the package can be unloaded cleanly ... OK
* checking whether the namespace can be loaded with stated dependencies ... OK
* checking whether the namespace can be unloaded cleanly ... OK
* checking dependencies in R code ... OK
* checking S3 generic/method consistency ... OK
* checking replacement functions ... OK
* checking foreign function calls ... OK
* checking R code for possible problems ... OK
* checking Rd files ... OK
* checking Rd metadata ... OK
* checking Rd cross-references ... OK
* checking for missing documentation entries ... OK
* checking for code/documentation mismatches ... OK
* checking Rd \usage sections ... OK
* checking Rd contents ... OK
* checking for unstated dependencies in examples ... OK
* checking contents of ‘data’ directory ... OK
* checking data for non-ASCII characters ... OK
* checking LazyData ... OK
* checking data for ASCII and uncompressed saves ... OK
* checking files in ‘vignettes’ ... OK
* checking examples ... OK
Examples with CPU (user + system) or elapsed time > 5s
              user system elapsed
SconeValues 12.521  0.173  12.762
* checking for unstated dependencies in ‘tests’ ... OK
* checking tests ...
  Running ‘testthat.R’
 ERROR
Running the tests in ‘tests/testthat.R’ failed.
Last 13 lines of output:
  Iteration 900: error is 1.154244 (50 iterations in 0.12 seconds)
  Iteration 950: error is 1.152460 (50 iterations in 0.12 seconds)
  Iteration 1000: error is 1.151614 (50 iterations in 0.11 seconds)
  Fitting performed in 2.42 seconds.
  [ FAIL 2 | WARN 4 | SKIP 0 | PASS 70 ]
  
  ══ Failed tests ════════════════════════════════════════════════════════════════
  ── Failure ('test.post.processing.R:53:5'): Testing the output of the tSNE vis function ──
  TsneVis(...) has type 'object', not 'list'.
  ── Failure ('test.post.processing.R:60:5'): Testing the output of the make.hist function ──
  MakeHist(wand.final, 100, "IL7.fraction.cond.2", "fraction IL7") has type 'object', not 'list'.
  
  [ FAIL 2 | WARN 4 | SKIP 0 | PASS 70 ]
  Error: Test failures
  Execution halted
* checking for unstated dependencies in vignettes ... OK
* checking package vignettes ... OK
* checking running R code from vignettes ... SKIPPED
* checking re-building of vignette outputs ... SKIPPED
* checking PDF version of manual ... OK
* DONE

Status: 1 ERROR
See
  ‘/Users/biocbuild/bbs-3.22-bioc/meat/Sconify.Rcheck/00check.log’
for details.


Installation output

Sconify.Rcheck/00install.out

##############################################################################
##############################################################################
###
### Running command:
###
###   /Library/Frameworks/R.framework/Resources/bin/R CMD INSTALL Sconify
###
##############################################################################
##############################################################################


* installing to library ‘/Library/Frameworks/R.framework/Versions/4.5-x86_64/Resources/library’
* installing *source* package ‘Sconify’ ...
** this is package ‘Sconify’ version ‘1.29.0’
** using staged installation
** R
** data
*** moving datasets to lazyload DB
** inst
** byte-compile and prepare package for lazy loading
Note: wrong number of arguments to '/' 
Note: wrong number of arguments to 'asinh' 
** help
*** installing help indices
** building package indices
** installing vignettes
** testing if installed package can be loaded from temporary location
** testing if installed package can be loaded from final location
** testing if installed package keeps a record of temporary installation path
* DONE (Sconify)

Tests output

Sconify.Rcheck/tests/testthat.Rout.fail


R version 4.5.1 Patched (2025-09-10 r88807) -- "Great Square Root"
Copyright (C) 2025 The R Foundation for Statistical Computing
Platform: x86_64-apple-darwin20

R is free software and comes with ABSOLUTELY NO WARRANTY.
You are welcome to redistribute it under certain conditions.
Type 'license()' or 'licence()' for distribution details.

R is a collaborative project with many contributors.
Type 'contributors()' for more information and
'citation()' on how to cite R or R packages in publications.

Type 'demo()' for some demos, 'help()' for on-line help, or
'help.start()' for an HTML browser interface to help.
Type 'q()' to quit R.

> library(testthat)
> library(Sconify)
> 
> test_check("Sconify")
Read the 100 x 27 data matrix successfully!
Using no_dims = 2, perplexity = 30.000000, and theta = 0.500000
Computing input similarities...
Building tree...
Done in 0.01 seconds (sparsity = 0.963400)!
Learning embedding...
Iteration 50: error is 52.260047 (50 iterations in 0.01 seconds)
Iteration 100: error is 51.001271 (50 iterations in 0.01 seconds)
Iteration 150: error is 52.539034 (50 iterations in 0.01 seconds)
Iteration 200: error is 54.855752 (50 iterations in 0.01 seconds)
Iteration 250: error is 54.366237 (50 iterations in 0.01 seconds)
Iteration 300: error is 1.162582 (50 iterations in 0.01 seconds)
Iteration 350: error is 0.851404 (50 iterations in 0.01 seconds)
Iteration 400: error is 0.293750 (50 iterations in 0.01 seconds)
Iteration 450: error is 0.225541 (50 iterations in 0.01 seconds)
Iteration 500: error is 0.226164 (50 iterations in 0.01 seconds)
Iteration 550: error is 0.224270 (50 iterations in 0.01 seconds)
Iteration 600: error is 0.223757 (50 iterations in 0.01 seconds)
Iteration 650: error is 0.216354 (50 iterations in 0.01 seconds)
Iteration 700: error is 0.189096 (50 iterations in 0.01 seconds)
Iteration 750: error is 0.193078 (50 iterations in 0.01 seconds)
Iteration 800: error is 0.191851 (50 iterations in 0.01 seconds)
Iteration 850: error is 0.192174 (50 iterations in 0.01 seconds)
Iteration 900: error is 0.191570 (50 iterations in 0.01 seconds)
Iteration 950: error is 0.191690 (50 iterations in 0.01 seconds)
Iteration 1000: error is 0.191118 (50 iterations in 0.01 seconds)
Fitting performed in 0.16 seconds.
Read the 1000 x 27 data matrix successfully!
Using no_dims = 2, perplexity = 30.000000, and theta = 0.500000
Computing input similarities...
Building tree...
Done in 0.13 seconds (sparsity = 0.129120)!
Learning embedding...
Iteration 50: error is 64.450756 (50 iterations in 0.23 seconds)
Iteration 100: error is 60.678322 (50 iterations in 0.12 seconds)
Iteration 150: error is 60.334049 (50 iterations in 0.12 seconds)
Iteration 200: error is 60.206588 (50 iterations in 0.13 seconds)
Iteration 250: error is 60.136464 (50 iterations in 0.13 seconds)
Iteration 300: error is 1.333012 (50 iterations in 0.12 seconds)
Iteration 350: error is 1.223889 (50 iterations in 0.10 seconds)
Iteration 400: error is 1.195804 (50 iterations in 0.11 seconds)
Iteration 450: error is 1.184943 (50 iterations in 0.11 seconds)
Iteration 500: error is 1.177271 (50 iterations in 0.11 seconds)
Iteration 550: error is 1.169624 (50 iterations in 0.12 seconds)
Iteration 600: error is 1.166854 (50 iterations in 0.10 seconds)
Iteration 650: error is 1.164551 (50 iterations in 0.12 seconds)
Iteration 700: error is 1.161869 (50 iterations in 0.11 seconds)
Iteration 750: error is 1.159832 (50 iterations in 0.11 seconds)
Iteration 800: error is 1.158054 (50 iterations in 0.11 seconds)
Iteration 850: error is 1.155658 (50 iterations in 0.12 seconds)
Iteration 900: error is 1.154244 (50 iterations in 0.12 seconds)
Iteration 950: error is 1.152460 (50 iterations in 0.12 seconds)
Iteration 1000: error is 1.151614 (50 iterations in 0.11 seconds)
Fitting performed in 2.42 seconds.
[ FAIL 2 | WARN 4 | SKIP 0 | PASS 70 ]

══ Failed tests ════════════════════════════════════════════════════════════════
── Failure ('test.post.processing.R:53:5'): Testing the output of the tSNE vis function ──
TsneVis(...) has type 'object', not 'list'.
── Failure ('test.post.processing.R:60:5'): Testing the output of the make.hist function ──
MakeHist(wand.final, 100, "IL7.fraction.cond.2", "fraction IL7") has type 'object', not 'list'.

[ FAIL 2 | WARN 4 | SKIP 0 | PASS 70 ]
Error: Test failures
Execution halted

Example timings

Sconify.Rcheck/Sconify-Ex.timings

nameusersystemelapsed
FcsToTibble0.1440.0060.152
Fnn0.3250.9441.278
GetKnnDe0.0680.0090.078
GetMarkerNames0.0350.0020.038
ImputeTesting3.9390.0343.999
MakeHist0.6920.0130.709
MakeKnnList0.3190.0420.364
MeaningOfLife000
ParseMarkers0.2660.0330.314
PostProcessing0.0740.0030.076
ProcessMultipleFiles0.1190.0070.127
QuantNormalizeElements0.2330.0070.241
SconeValues12.521 0.17312.762
SplitFile0.0840.0020.087
StringToNumbers0.0000.0000.001
SubsampleAndTsne1.5230.0661.610
TsneVis0.2780.0060.285