Back to Multiple platform build/check report for BioC 3.23:   simplified   long
ABCDEFGHIJKLMNOPQR[S]TUVWXYZ

This page was generated on 2025-11-22 11:39 -0500 (Sat, 22 Nov 2025).

HostnameOSArch (*)R versionInstalled pkgs
nebbiolo1Linux (Ubuntu 24.04.3 LTS)x86_64R Under development (unstable) (2025-10-20 r88955) -- "Unsuffered Consequences" 4829
lconwaymacOS 12.7.6 Montereyx86_64R Under development (unstable) (2025-10-21 r88958) -- "Unsuffered Consequences" 4603
kjohnson3macOS 13.7.7 Venturaarm64R Under development (unstable) (2025-11-04 r88984) -- "Unsuffered Consequences" 4567
Click on any hostname to see more info about the system (e.g. compilers)      (*) as reported by 'uname -p', except on Windows and Mac OS X

Package 1914/2327HostnameOS / ArchINSTALLBUILDCHECKBUILD BIN
Sconify 1.31.0  (landing page)
Tyler J Burns
Snapshot Date: 2025-11-21 13:40 -0500 (Fri, 21 Nov 2025)
git_url: https://git.bioconductor.org/packages/Sconify
git_branch: devel
git_last_commit: 5f12fd9
git_last_commit_date: 2025-10-29 10:44:03 -0500 (Wed, 29 Oct 2025)
nebbiolo1Linux (Ubuntu 24.04.3 LTS) / x86_64  OK    OK    OK  UNNEEDED, same version is already published
lconwaymacOS 12.7.6 Monterey / x86_64  OK    OK    OK    OK  UNNEEDED, same version is already published
kjohnson3macOS 13.7.7 Ventura / arm64  OK    OK    OK    OK  UNNEEDED, same version is already published


CHECK results for Sconify on kjohnson3

To the developers/maintainers of the Sconify package:
- Allow up to 24 hours (and sometimes 48 hours) for your latest push to git@git.bioconductor.org:packages/Sconify.git to reflect on this report. See Troubleshooting Build Report for more information.
- Use the following Renviron settings to reproduce errors and warnings.
- If 'R CMD check' started to fail recently on the Linux builder(s) over a missing dependency, add the missing dependency to 'Suggests:' in your DESCRIPTION file. See Renviron.bioc for more information.

raw results


Summary

Package: Sconify
Version: 1.31.0
Command: /Library/Frameworks/R.framework/Resources/bin/R CMD check --install=check:Sconify.install-out.txt --library=/Library/Frameworks/R.framework/Resources/library --no-vignettes --timings Sconify_1.31.0.tar.gz
StartedAt: 2025-11-21 22:20:59 -0500 (Fri, 21 Nov 2025)
EndedAt: 2025-11-21 22:21:50 -0500 (Fri, 21 Nov 2025)
EllapsedTime: 51.7 seconds
RetCode: 0
Status:   OK  
CheckDir: Sconify.Rcheck
Warnings: 0

Command output

##############################################################################
##############################################################################
###
### Running command:
###
###   /Library/Frameworks/R.framework/Resources/bin/R CMD check --install=check:Sconify.install-out.txt --library=/Library/Frameworks/R.framework/Resources/library --no-vignettes --timings Sconify_1.31.0.tar.gz
###
##############################################################################
##############################################################################


* using log directory ‘/Users/biocbuild/bbs-3.23-bioc/meat/Sconify.Rcheck’
* using R Under development (unstable) (2025-11-04 r88984)
* using platform: aarch64-apple-darwin20
* R was compiled by
    Apple clang version 16.0.0 (clang-1600.0.26.6)
    GNU Fortran (GCC) 14.2.0
* running under: macOS Ventura 13.7.8
* using session charset: UTF-8
* using option ‘--no-vignettes’
* checking for file ‘Sconify/DESCRIPTION’ ... OK
* checking extension type ... Package
* this is package ‘Sconify’ version ‘1.31.0’
* package encoding: UTF-8
* checking package namespace information ... OK
* checking package dependencies ... OK
* checking if this is a source package ... OK
* checking if there is a namespace ... OK
* checking for hidden files and directories ... OK
* checking for portable file names ... OK
* checking for sufficient/correct file permissions ... OK
* checking whether package ‘Sconify’ can be installed ... OK
* checking installed package size ... OK
* checking package directory ... OK
* checking ‘build’ directory ... OK
* checking DESCRIPTION meta-information ... OK
* checking top-level files ... OK
* checking for left-over files ... OK
* checking index information ... OK
* checking package subdirectories ... OK
* checking code files for non-ASCII characters ... OK
* checking R files for syntax errors ... OK
* checking whether the package can be loaded ... OK
* checking whether the package can be loaded with stated dependencies ... OK
* checking whether the package can be unloaded cleanly ... OK
* checking whether the namespace can be loaded with stated dependencies ... OK
* checking whether the namespace can be unloaded cleanly ... OK
* checking dependencies in R code ... OK
* checking S3 generic/method consistency ... OK
* checking replacement functions ... OK
* checking foreign function calls ... OK
* checking R code for possible problems ... OK
* checking Rd files ... OK
* checking Rd metadata ... OK
* checking Rd cross-references ... OK
* checking for missing documentation entries ... OK
* checking for code/documentation mismatches ... OK
* checking Rd \usage sections ... OK
* checking Rd contents ... OK
* checking for unstated dependencies in examples ... OK
* checking contents of ‘data’ directory ... OK
* checking data for non-ASCII characters ... OK
* checking LazyData ... OK
* checking data for ASCII and uncompressed saves ... OK
* checking files in ‘vignettes’ ... OK
* checking examples ... OK
* checking for unstated dependencies in ‘tests’ ... OK
* checking tests ...
  Running ‘testthat.R’
 OK
* checking for unstated dependencies in vignettes ... OK
* checking package vignettes ... OK
* checking running R code from vignettes ... SKIPPED
* checking re-building of vignette outputs ... SKIPPED
* checking PDF version of manual ... OK
* DONE

Status: OK


Installation output

Sconify.Rcheck/00install.out

##############################################################################
##############################################################################
###
### Running command:
###
###   /Library/Frameworks/R.framework/Resources/bin/R CMD INSTALL Sconify
###
##############################################################################
##############################################################################


* installing to library ‘/Library/Frameworks/R.framework/Versions/4.6-arm64/Resources/library’
* installing *source* package ‘Sconify’ ...
** this is package ‘Sconify’ version ‘1.31.0’
** using staged installation
** R
** data
*** moving datasets to lazyload DB
** inst
** byte-compile and prepare package for lazy loading
Note: wrong number of arguments to '/' 
Note: wrong number of arguments to 'asinh' 
** help
*** installing help indices
** building package indices
** installing vignettes
** testing if installed package can be loaded from temporary location
** testing if installed package can be loaded from final location
** testing if installed package keeps a record of temporary installation path
* DONE (Sconify)

Tests output

Sconify.Rcheck/tests/testthat.Rout


R Under development (unstable) (2025-11-04 r88984) -- "Unsuffered Consequences"
Copyright (C) 2025 The R Foundation for Statistical Computing
Platform: aarch64-apple-darwin20

R is free software and comes with ABSOLUTELY NO WARRANTY.
You are welcome to redistribute it under certain conditions.
Type 'license()' or 'licence()' for distribution details.

R is a collaborative project with many contributors.
Type 'contributors()' for more information and
'citation()' on how to cite R or R packages in publications.

Type 'demo()' for some demos, 'help()' for on-line help, or
'help.start()' for an HTML browser interface to help.
Type 'q()' to quit R.

> library(testthat)
> library(Sconify)
> 
> test_check("Sconify")
Read the 100 x 27 data matrix successfully!
Using no_dims = 2, perplexity = 30.000000, and theta = 0.500000
Computing input similarities...
Building tree...
Done in 0.00 seconds (sparsity = 0.966000)!
Learning embedding...
Iteration 50: error is 50.249182 (50 iterations in 0.01 seconds)
Iteration 100: error is 48.557880 (50 iterations in 0.01 seconds)
Iteration 150: error is 52.726836 (50 iterations in 0.01 seconds)
Iteration 200: error is 51.281200 (50 iterations in 0.01 seconds)
Iteration 250: error is 55.313056 (50 iterations in 0.01 seconds)
Iteration 300: error is 1.336190 (50 iterations in 0.01 seconds)
Iteration 350: error is 0.539476 (50 iterations in 0.00 seconds)
Iteration 400: error is 0.192751 (50 iterations in 0.00 seconds)
Iteration 450: error is 0.182737 (50 iterations in 0.00 seconds)
Iteration 500: error is 0.183714 (50 iterations in 0.00 seconds)
Iteration 550: error is 0.183003 (50 iterations in 0.00 seconds)
Iteration 600: error is 0.173518 (50 iterations in 0.00 seconds)
Iteration 650: error is 0.175765 (50 iterations in 0.00 seconds)
Iteration 700: error is 0.179144 (50 iterations in 0.00 seconds)
Iteration 750: error is 0.179173 (50 iterations in 0.00 seconds)
Iteration 800: error is 0.178611 (50 iterations in 0.00 seconds)
Iteration 850: error is 0.176049 (50 iterations in 0.00 seconds)
Iteration 900: error is 0.178584 (50 iterations in 0.00 seconds)
Iteration 950: error is 0.175732 (50 iterations in 0.00 seconds)
Iteration 1000: error is 0.177117 (50 iterations in 0.00 seconds)
Fitting performed in 0.08 seconds.
Read the 1000 x 27 data matrix successfully!
Using no_dims = 2, perplexity = 30.000000, and theta = 0.500000
Computing input similarities...
Building tree...
Done in 0.06 seconds (sparsity = 0.129120)!
Learning embedding...
Iteration 50: error is 64.588392 (50 iterations in 0.12 seconds)
Iteration 100: error is 60.952551 (50 iterations in 0.10 seconds)
Iteration 150: error is 60.437339 (50 iterations in 0.09 seconds)
Iteration 200: error is 60.249183 (50 iterations in 0.09 seconds)
Iteration 250: error is 60.162658 (50 iterations in 0.09 seconds)
Iteration 300: error is 1.425480 (50 iterations in 0.08 seconds)
Iteration 350: error is 1.264385 (50 iterations in 0.08 seconds)
Iteration 400: error is 1.214088 (50 iterations in 0.08 seconds)
Iteration 450: error is 1.192106 (50 iterations in 0.07 seconds)
Iteration 500: error is 1.181249 (50 iterations in 0.07 seconds)
Iteration 550: error is 1.175268 (50 iterations in 0.07 seconds)
Iteration 600: error is 1.171472 (50 iterations in 0.07 seconds)
Iteration 650: error is 1.167220 (50 iterations in 0.07 seconds)
Iteration 700: error is 1.164548 (50 iterations in 0.07 seconds)
Iteration 750: error is 1.162660 (50 iterations in 0.07 seconds)
Iteration 800: error is 1.160271 (50 iterations in 0.07 seconds)
Iteration 850: error is 1.157924 (50 iterations in 0.07 seconds)
Iteration 900: error is 1.155592 (50 iterations in 0.07 seconds)
Iteration 950: error is 1.153792 (50 iterations in 0.07 seconds)
Iteration 1000: error is 1.151822 (50 iterations in 0.06 seconds)
Fitting performed in 1.57 seconds.
[ FAIL 0 | WARN 2 | SKIP 0 | PASS 72 ]

[ FAIL 0 | WARN 2 | SKIP 0 | PASS 72 ]
> 
> proc.time()
   user  system elapsed 
  7.347   0.329   8.250 

Example timings

Sconify.Rcheck/Sconify-Ex.timings

nameusersystemelapsed
FcsToTibble0.0450.0020.048
Fnn0.1370.3780.527
GetKnnDe0.0500.0050.056
GetMarkerNames0.0170.0020.018
ImputeTesting1.2180.0091.310
MakeHist0.2520.0040.271
MakeKnnList0.1210.0090.137
MeaningOfLife0.0000.0000.001
ParseMarkers0.0850.0120.106
PostProcessing0.0230.0000.026
ProcessMultipleFiles0.0350.0020.040
QuantNormalizeElements0.0610.0010.071
SconeValues4.0480.1064.503
SplitFile0.0230.0010.025
StringToNumbers000
SubsampleAndTsne0.6900.0610.793
TsneVis0.0500.0010.057