Back to Multiple platform build/check report for BioC 3.22:   simplified   long
ABCDEFGHIJKLMNOPQ[R]STUVWXYZ

This page was generated on 2025-09-30 12:03 -0400 (Tue, 30 Sep 2025).

HostnameOSArch (*)R versionInstalled pkgs
nebbiolo2Linux (Ubuntu 24.04.3 LTS)x86_644.5.1 Patched (2025-08-23 r88802) -- "Great Square Root" 4843
lconwaymacOS 12.7.1 Montereyx86_644.5.1 Patched (2025-09-10 r88807) -- "Great Square Root" 4631
kjohnson3macOS 13.7.7 Venturaarm644.5.1 Patched (2025-09-10 r88807) -- "Great Square Root" 4575
taishanLinux (openEuler 24.03 LTS)aarch644.5.0 (2025-04-11) -- "How About a Twenty-Six" 4576
Click on any hostname to see more info about the system (e.g. compilers)      (*) as reported by 'uname -p', except on Windows and Mac OS X

Package 1683/2337HostnameOS / ArchINSTALLBUILDCHECKBUILD BIN
RAIDS 1.7.2  (landing page)
Pascal Belleau
Snapshot Date: 2025-09-29 13:45 -0400 (Mon, 29 Sep 2025)
git_url: https://git.bioconductor.org/packages/RAIDS
git_branch: devel
git_last_commit: b753f2d
git_last_commit_date: 2025-07-31 13:55:01 -0400 (Thu, 31 Jul 2025)
nebbiolo2Linux (Ubuntu 24.04.3 LTS) / x86_64  OK    OK    ERROR  
lconwaymacOS 12.7.1 Monterey / x86_64  OK    OK    ERROR    OK  
kjohnson3macOS 13.7.7 Ventura / arm64  OK    OK    ERROR    OK  
taishanLinux (openEuler 24.03 LTS) / aarch64  OK    OK    ERROR  


CHECK results for RAIDS on nebbiolo2

To the developers/maintainers of the RAIDS package:
- Allow up to 24 hours (and sometimes 48 hours) for your latest push to git@git.bioconductor.org:packages/RAIDS.git to reflect on this report. See Troubleshooting Build Report for more information.
- Use the following Renviron settings to reproduce errors and warnings.
- If 'R CMD check' started to fail recently on the Linux builder(s) over a missing dependency, add the missing dependency to 'Suggests:' in your DESCRIPTION file. See Renviron.bioc for more information.

raw results


Summary

Package: RAIDS
Version: 1.7.2
Command: /home/biocbuild/bbs-3.22-bioc/R/bin/R CMD check --install=check:RAIDS.install-out.txt --library=/home/biocbuild/bbs-3.22-bioc/R/site-library --timings RAIDS_1.7.2.tar.gz
StartedAt: 2025-09-30 03:28:59 -0400 (Tue, 30 Sep 2025)
EndedAt: 2025-09-30 03:37:27 -0400 (Tue, 30 Sep 2025)
EllapsedTime: 507.7 seconds
RetCode: 1
Status:   ERROR  
CheckDir: RAIDS.Rcheck
Warnings: NA

Command output

##############################################################################
##############################################################################
###
### Running command:
###
###   /home/biocbuild/bbs-3.22-bioc/R/bin/R CMD check --install=check:RAIDS.install-out.txt --library=/home/biocbuild/bbs-3.22-bioc/R/site-library --timings RAIDS_1.7.2.tar.gz
###
##############################################################################
##############################################################################


* using log directory ‘/home/biocbuild/bbs-3.22-bioc/meat/RAIDS.Rcheck’
* using R version 4.5.1 Patched (2025-08-23 r88802)
* using platform: x86_64-pc-linux-gnu
* R was compiled by
    gcc (Ubuntu 13.3.0-6ubuntu2~24.04) 13.3.0
    GNU Fortran (Ubuntu 13.3.0-6ubuntu2~24.04) 13.3.0
* running under: Ubuntu 24.04.3 LTS
* using session charset: UTF-8
* checking for file ‘RAIDS/DESCRIPTION’ ... OK
* checking extension type ... Package
* this is package ‘RAIDS’ version ‘1.7.2’
* package encoding: UTF-8
* checking package namespace information ... OK
* checking package dependencies ... OK
* checking if this is a source package ... OK
* checking if there is a namespace ... OK
* checking for hidden files and directories ... OK
* checking for portable file names ... OK
* checking for sufficient/correct file permissions ... OK
* checking whether package ‘RAIDS’ can be installed ... OK
* checking installed package size ... OK
* checking package directory ... OK
* checking ‘build’ directory ... OK
* checking DESCRIPTION meta-information ... OK
* checking top-level files ... OK
* checking for left-over files ... OK
* checking index information ... OK
* checking package subdirectories ... OK
* checking code files for non-ASCII characters ... OK
* checking R files for syntax errors ... OK
* checking whether the package can be loaded ... OK
* checking whether the package can be loaded with stated dependencies ... OK
* checking whether the package can be unloaded cleanly ... OK
* checking whether the namespace can be loaded with stated dependencies ... OK
* checking whether the namespace can be unloaded cleanly ... OK
* checking loading without being on the library search path ... OK
* checking dependencies in R code ... OK
* checking S3 generic/method consistency ... OK
* checking replacement functions ... OK
* checking foreign function calls ... OK
* checking R code for possible problems ... OK
* checking Rd files ... OK
* checking Rd metadata ... OK
* checking Rd cross-references ... OK
* checking for missing documentation entries ... OK
* checking for code/documentation mismatches ... OK
* checking Rd \usage sections ... NOTE
Documented arguments not in \usage in Rd file 'wrapperAncestry.Rd':
  ‘pathGeno’

Functions with \usage entries need to have the appropriate \alias
entries, and all their arguments documented.
The \usage entries must correspond to syntactically valid R code.
See chapter ‘Writing R documentation files’ in the ‘Writing R
Extensions’ manual.
* checking Rd contents ... OK
* checking for unstated dependencies in examples ... OK
* checking contents of ‘data’ directory ... OK
* checking data for non-ASCII characters ... OK
* checking data for ASCII and uncompressed saves ... OK
* checking files in ‘vignettes’ ... OK
* checking examples ... OK
Examples with CPU (user + system) or elapsed time > 5s
                                  user system elapsed
computeAncestryFromSyntheticFile 5.078   0.12   5.198
* checking for unstated dependencies in ‘tests’ ... OK
* checking tests ...
  Running ‘testthat.R’
 ERROR
Running the tests in ‘tests/testthat.R’ failed.
Last 13 lines of output:
  [7] 0.0881 - 0.0882 == -9.38e-05
  [8] 0.0939 - 0.0940 == -1.55e-04
  ── Failure ('test-gdsWrapper_internal.R:146:5'): runIBDKING() must return expected results ──
  result$kinship not equal to `kinship`.
  6/9 mismatches (average diff: 0.000713)
  [2]  0.01548 -  0.01724 == -0.001756
  [3]  0.00108 -  0.00129 == -0.000214
  [4]  0.01548 -  0.01724 == -0.001756
  [6] -0.01417 - -0.01434 ==  0.000168
  [7]  0.00108 -  0.00129 == -0.000214
  [8] -0.01417 - -0.01434 ==  0.000168
  
  [ FAIL 2 | WARN 0 | SKIP 0 | PASS 443 ]
  Error: Test failures
  Execution halted
* checking for unstated dependencies in vignettes ... OK
* checking package vignettes ... OK
* checking re-building of vignette outputs ... OK
* checking PDF version of manual ... OK
* DONE

Status: 1 ERROR, 1 NOTE
See
  ‘/home/biocbuild/bbs-3.22-bioc/meat/RAIDS.Rcheck/00check.log’
for details.


Installation output

RAIDS.Rcheck/00install.out

##############################################################################
##############################################################################
###
### Running command:
###
###   /home/biocbuild/bbs-3.22-bioc/R/bin/R CMD INSTALL RAIDS
###
##############################################################################
##############################################################################


* installing to library ‘/home/biocbuild/bbs-3.22-bioc/R/site-library’
* installing *source* package ‘RAIDS’ ...
** this is package ‘RAIDS’ version ‘1.7.2’
** using staged installation
** R
** data
** inst
** byte-compile and prepare package for lazy loading
** help
*** installing help indices
** building package indices
** installing vignettes
** testing if installed package can be loaded from temporary location
** testing if installed package can be loaded from final location
** testing if installed package keeps a record of temporary installation path
* DONE (RAIDS)

Tests output

RAIDS.Rcheck/tests/testthat.Rout.fail


R version 4.5.1 Patched (2025-08-23 r88802) -- "Great Square Root"
Copyright (C) 2025 The R Foundation for Statistical Computing
Platform: x86_64-pc-linux-gnu

R is free software and comes with ABSOLUTELY NO WARRANTY.
You are welcome to redistribute it under certain conditions.
Type 'license()' or 'licence()' for distribution details.

R is a collaborative project with many contributors.
Type 'contributors()' for more information and
'citation()' on how to cite R or R packages in publications.

Type 'demo()' for some demos, 'help()' for on-line help, or
'help.start()' for an HTML browser interface to help.
Type 'q()' to quit R.

> library(testthat)
> library(RAIDS)
Loading required package: gdsfmt
Loading required package: SNPRelate
SNPRelate -- supported by Streaming SIMD Extensions 2 (SSE2)
Loading required package: GENESIS
Loading required package: dplyr

Attaching package: 'dplyr'

The following object is masked from 'package:testthat':

    matches

The following objects are masked from 'package:stats':

    filter, lag

The following objects are masked from 'package:base':

    intersect, setdiff, setequal, union

Loading required package: Rsamtools
Loading required package: Seqinfo
Loading required package: BiocGenerics
Loading required package: generics

Attaching package: 'generics'

The following object is masked from 'package:dplyr':

    explain

The following objects are masked from 'package:base':

    as.difftime, as.factor, as.ordered, intersect, is.element, setdiff,
    setequal, union


Attaching package: 'BiocGenerics'

The following object is masked from 'package:dplyr':

    combine

The following objects are masked from 'package:stats':

    IQR, mad, sd, var, xtabs

The following objects are masked from 'package:base':

    Filter, Find, Map, Position, Reduce, anyDuplicated, aperm, append,
    as.data.frame, basename, cbind, colnames, dirname, do.call,
    duplicated, eval, evalq, get, grep, grepl, is.unsorted, lapply,
    mapply, match, mget, order, paste, pmax, pmax.int, pmin, pmin.int,
    rank, rbind, rownames, sapply, saveRDS, table, tapply, unique,
    unsplit, which.max, which.min

Loading required package: GenomicRanges
Loading required package: stats4
Loading required package: S4Vectors

Attaching package: 'S4Vectors'

The following objects are masked from 'package:dplyr':

    first, rename

The following object is masked from 'package:utils':

    findMatches

The following objects are masked from 'package:base':

    I, expand.grid, unname

Loading required package: IRanges

Attaching package: 'IRanges'

The following objects are masked from 'package:dplyr':

    collapse, desc, slice

Loading required package: Biostrings
Loading required package: XVector

Attaching package: 'Biostrings'

The following object is masked from 'package:base':

    strsplit

> 
> ## Run all unit tests
> test_check("RAIDS")

Attaching package: 'Matrix'

The following object is masked from 'package:S4Vectors':

    expand

[ FAIL 2 | WARN 0 | SKIP 0 | PASS 443 ]

══ Failed tests ════════════════════════════════════════════════════════════════
── Failure ('test-gdsWrapper_internal.R:145:5'): runIBDKING() must return expected results ──
result$IBS0 not equal to `ibs0`.
6/9 mismatches (average diff: 0.000157)
[2] 0.0799 - 0.0797 ==  2.22e-04
[3] 0.0881 - 0.0882 == -9.38e-05
[4] 0.0799 - 0.0797 ==  2.22e-04
[6] 0.0939 - 0.0940 == -1.55e-04
[7] 0.0881 - 0.0882 == -9.38e-05
[8] 0.0939 - 0.0940 == -1.55e-04
── Failure ('test-gdsWrapper_internal.R:146:5'): runIBDKING() must return expected results ──
result$kinship not equal to `kinship`.
6/9 mismatches (average diff: 0.000713)
[2]  0.01548 -  0.01724 == -0.001756
[3]  0.00108 -  0.00129 == -0.000214
[4]  0.01548 -  0.01724 == -0.001756
[6] -0.01417 - -0.01434 ==  0.000168
[7]  0.00108 -  0.00129 == -0.000214
[8] -0.01417 - -0.01434 ==  0.000168

[ FAIL 2 | WARN 0 | SKIP 0 | PASS 443 ]
Error: Test failures
Execution halted

Example timings

RAIDS.Rcheck/RAIDS-Ex.timings

nameusersystemelapsed
add1KG2SampleGDS0.0460.0200.080
addBlockFromDetFile0.0020.0010.003
addBlockInGDSAnnot0.0040.0010.011
addGDS1KGLDBlock0.0010.0000.002
addGDSRef0.0000.0030.005
addGDSStudyPruning0.0010.0000.002
addGeneBlockGDSRefAnnot0.7690.0790.852
addGeneBlockRefAnnot0.0020.0000.002
addRef2GDS1KG0.0040.0000.004
addStudy1Kg0.0060.0020.020
addStudyGDSSample0.0060.0000.012
addUpdateLap0.0010.0010.002
addUpdateSegment0.0010.0000.002
appendGDSRefSample0.0070.0000.011
appendGDSSampleOnly0.0010.0010.003
appendGDSgenotype0.0130.0010.024
appendGDSgenotypeMat0.0000.0010.002
calcAFMLRNA0.0030.0020.005
computeAlleleFraction0.0020.0000.002
computeAllelicFractionDNA0.1290.0030.131
computeAllelicFractionRNA0.2390.0010.242
computeAllelicImbDNAChr0.0060.0000.006
computeAncestryFromSynthetic0.0150.0020.017
computeAncestryFromSyntheticFile5.0780.1205.198
computeKNNRefSample0.0170.0010.018
computeKNNRefSynthetic1.5660.0181.584
computeLOHBlocksDNAChr0.0090.0000.008
computePCAMultiSynthetic0.0080.0010.009
computePCARefRMMulti0.1640.0140.179
computePCARefSample0.1690.0010.169
computePoolSyntheticAncestryGr0.4610.0160.477
computeSyntheticConfMat0.0130.0020.015
computeSyntheticROC0.0510.0100.061
createAUROCGraph1.0200.0171.037
createAccuracyGraph2.0030.1612.164
createProfile0.0500.0010.063
createStudy2GDS1KG0.0470.0020.060
demoKnownSuperPop1KG1.4250.0021.427
demoPCA1KG0.0070.0000.007
demoPCASyntheticProfiles1.4390.0511.490
demoPedigreeEx10.0140.0000.014
estimateAllelicFraction0.0760.0010.078
extractNucleotide000
generateGDS1KG0.0080.0040.022
generateGDS1KGgenotypeFromSNPPileup0.0580.0030.072
generateGDSRefSample0.0050.0000.008
generateGDSSNPinfo0.0050.0000.012
generateGDSgenotype0.0120.0010.021
generateGeneBlock0.0010.0000.001
generateMapSnvSel0.0020.0000.003
generatePhase1KG2GDS0.0100.0030.023
generatePhaseRef0.0120.0010.021
generateProfileGDS0.0430.0020.054
getBlockIDs0.0030.0000.003
getRef1KGPop0.0030.0010.004
getRefSuperPop0.0040.0000.003
getTableSNV0.0170.0000.017
groupChr1KGSNV0.0470.0060.053
identifyRelative0.0070.0010.008
identifyRelativeRef0.0060.0000.006
inferAncestry0.0100.0020.012
inferAncestryDNA0.0120.0000.012
inferAncestryGeneAware0.0110.0010.012
matKNNSynthetic0.0370.0010.037
pedSynthetic0.0360.0010.037
prepPed1KG0.0040.0000.004
prepPedSynthetic1KG0.0040.0000.004
prepSynthetic0.0100.0030.014
processBlockChr0.0030.0000.004
processPileupChrBin3.3950.0633.458
profileAncestry0.0160.0010.016
pruning1KGbyChr0.0030.0000.004
pruningSample0.0360.0030.041
readSNVBAM0.0010.0000.001
readSNVFileGeneric0.0040.0000.004
readSNVPileupFile0.0320.0010.033
readSNVVCF4.8650.0214.887
runExomeAncestry0.0140.0000.014
runIBDKING0.0530.0000.054
runLDPruning0.0210.0010.022
runProfileAncestry0.0150.0000.016
runRNAAncestry0.0140.0000.014
runWrapperAncestry0.0140.0010.014
selParaPCAUpQuartile4.6440.0674.712
select1KGPop0.0050.0000.005
select1KGPopForSynthetic0.0050.0000.005
snpPositionDemo0.0020.0010.003
snvListVCF0.0030.0000.003
splitSelectByPop0.0010.0000.001
syntheticGeno0.0270.0010.031
tableBlockAF0.0190.0010.020
testAlleleFractionChange0.0010.0000.001
testEmptyBox0.0010.0000.001
validateAdd1KG2SampleGDS0.0020.0000.001
validateAddStudy1Kg0.0020.0000.001
validateCharacterString000
validateComputeAncestryFromSyntheticFile0.0020.0000.002
validateComputeKNNRefSample0.0040.0010.004
validateComputeKNNRefSynthetic0.0050.0000.005
validateComputePCAMultiSynthetic0.0030.0000.004
validateComputePCARefSample0.0010.0000.001
validateComputePoolSyntheticAncestryGr0.0010.0000.001
validateComputeSyntheticRoc0.0090.0020.011
validateCreateAccuracyGraph0.0010.0000.001
validateCreateStudy2GDS1KG0.0010.0010.002
validateDataRefSynParameter0.0000.0000.001
validateEstimateAllelicFraction0.0030.0000.003
validateGDSClass0.0010.0000.001
validateGenerateGDS1KG0.0010.0000.001
validateLogical000
validatePEDStudyParameter0.0010.0000.001
validatePepSynthetic0.0000.0010.001
validatePositiveIntegerVector000
validatePrepPed1KG0.0000.0010.001
validateProfileGDSExist0.0010.0000.001
validatePruningSample0.0010.0000.002
validateRunExomeOrRNAAncestry0.0040.0000.004
validateSingleRatio000
validateStudyDataFrameParameter000
validateSyntheticGeno0.0010.0000.002
validatecreateProfile0.0020.0000.002
wrapperAncestry0.0130.0010.015