| Back to Multiple platform build/check report for BioC 3.23: simplified long |
|
This page was generated on 2025-11-27 11:39 -0500 (Thu, 27 Nov 2025).
| Hostname | OS | Arch (*) | R version | Installed pkgs |
|---|---|---|---|---|
| nebbiolo1 | Linux (Ubuntu 24.04.3 LTS) | x86_64 | R Under development (unstable) (2025-10-20 r88955) -- "Unsuffered Consequences" | 4865 |
| lconway | macOS 12.7.6 Monterey | x86_64 | R Under development (unstable) (2025-10-21 r88958) -- "Unsuffered Consequences" | 4614 |
| kjohnson3 | macOS 13.7.7 Ventura | arm64 | R Under development (unstable) (2025-11-04 r88984) -- "Unsuffered Consequences" | 4571 |
| Click on any hostname to see more info about the system (e.g. compilers) (*) as reported by 'uname -p', except on Windows and Mac OS X | ||||
| Package 1682/2328 | Hostname | OS / Arch | INSTALL | BUILD | CHECK | BUILD BIN | ||||||||
| RAIDS 1.9.0 (landing page) Pascal Belleau
| nebbiolo1 | Linux (Ubuntu 24.04.3 LTS) / x86_64 | OK | OK | OK | |||||||||
| lconway | macOS 12.7.6 Monterey / x86_64 | OK | OK | OK | OK | |||||||||
| kjohnson3 | macOS 13.7.7 Ventura / arm64 | OK | OK | OK | OK | |||||||||
|
To the developers/maintainers of the RAIDS package: - Allow up to 24 hours (and sometimes 48 hours) for your latest push to git@git.bioconductor.org:packages/RAIDS.git to reflect on this report. See Troubleshooting Build Report for more information. - Use the following Renviron settings to reproduce errors and warnings. - If 'R CMD check' started to fail recently on the Linux builder(s) over a missing dependency, add the missing dependency to 'Suggests:' in your DESCRIPTION file. See Renviron.bioc for more information. |
| Package: RAIDS |
| Version: 1.9.0 |
| Command: /Library/Frameworks/R.framework/Resources/bin/R CMD check --install=check:RAIDS.install-out.txt --library=/Library/Frameworks/R.framework/Resources/library --no-vignettes --timings RAIDS_1.9.0.tar.gz |
| StartedAt: 2025-11-26 23:27:29 -0500 (Wed, 26 Nov 2025) |
| EndedAt: 2025-11-26 23:35:48 -0500 (Wed, 26 Nov 2025) |
| EllapsedTime: 498.8 seconds |
| RetCode: 0 |
| Status: OK |
| CheckDir: RAIDS.Rcheck |
| Warnings: 0 |
##############################################################################
##############################################################################
###
### Running command:
###
### /Library/Frameworks/R.framework/Resources/bin/R CMD check --install=check:RAIDS.install-out.txt --library=/Library/Frameworks/R.framework/Resources/library --no-vignettes --timings RAIDS_1.9.0.tar.gz
###
##############################################################################
##############################################################################
* using log directory ‘/Users/biocbuild/bbs-3.23-bioc/meat/RAIDS.Rcheck’
* using R Under development (unstable) (2025-10-21 r88958)
* using platform: x86_64-apple-darwin20
* R was compiled by
Apple clang version 14.0.0 (clang-1400.0.29.202)
GNU Fortran (GCC) 14.2.0
* running under: macOS Ventura 13.7.8
* using session charset: UTF-8
* using option ‘--no-vignettes’
* checking for file ‘RAIDS/DESCRIPTION’ ... OK
* checking extension type ... Package
* this is package ‘RAIDS’ version ‘1.9.0’
* package encoding: UTF-8
* checking package namespace information ... OK
* checking package dependencies ... OK
* checking if this is a source package ... OK
* checking if there is a namespace ... OK
* checking for hidden files and directories ... OK
* checking for portable file names ... OK
* checking for sufficient/correct file permissions ... OK
* checking whether package ‘RAIDS’ can be installed ... OK
* checking installed package size ... OK
* checking package directory ... OK
* checking ‘build’ directory ... OK
* checking DESCRIPTION meta-information ... OK
* checking top-level files ... OK
* checking for left-over files ... OK
* checking index information ... OK
* checking package subdirectories ... OK
* checking code files for non-ASCII characters ... OK
* checking R files for syntax errors ... OK
* checking whether the package can be loaded ... OK
* checking whether the package can be loaded with stated dependencies ... OK
* checking whether the package can be unloaded cleanly ... OK
* checking whether the namespace can be loaded with stated dependencies ... OK
* checking whether the namespace can be unloaded cleanly ... OK
* checking dependencies in R code ... OK
* checking S3 generic/method consistency ... OK
* checking replacement functions ... OK
* checking foreign function calls ... OK
* checking R code for possible problems ... OK
* checking Rd files ... OK
* checking Rd metadata ... OK
* checking Rd cross-references ... OK
* checking for missing documentation entries ... OK
* checking for code/documentation mismatches ... OK
* checking Rd \usage sections ... NOTE
Documented arguments not in \usage in Rd file 'wrapperAncestry.Rd':
‘pathGeno’
Functions with \usage entries need to have the appropriate \alias
entries, and all their arguments documented.
The \usage entries must correspond to syntactically valid R code.
See chapter ‘Writing R documentation files’ in the ‘Writing R
Extensions’ manual.
* checking Rd contents ... OK
* checking for unstated dependencies in examples ... OK
* checking contents of ‘data’ directory ... OK
* checking data for non-ASCII characters ... OK
* checking data for ASCII and uncompressed saves ... OK
* checking files in ‘vignettes’ ... OK
* checking examples ... OK
Examples with CPU (user + system) or elapsed time > 5s
user system elapsed
computeAncestryFromSyntheticFile 7.476 0.250 7.777
selParaPCAUpQuartile 6.279 0.047 6.359
readSNVVCF 6.197 0.073 6.308
readSNVBAM 5.700 0.034 5.770
* checking for unstated dependencies in ‘tests’ ... OK
* checking tests ...
Running ‘testthat.R’
OK
* checking for unstated dependencies in vignettes ... OK
* checking package vignettes ... OK
* checking running R code from vignettes ... SKIPPED
* checking re-building of vignette outputs ... SKIPPED
* checking PDF version of manual ... OK
* DONE
Status: 1 NOTE
See
‘/Users/biocbuild/bbs-3.23-bioc/meat/RAIDS.Rcheck/00check.log’
for details.
RAIDS.Rcheck/00install.out
############################################################################## ############################################################################## ### ### Running command: ### ### /Library/Frameworks/R.framework/Resources/bin/R CMD INSTALL RAIDS ### ############################################################################## ############################################################################## * installing to library ‘/Library/Frameworks/R.framework/Versions/4.6-x86_64/Resources/library’ * installing *source* package ‘RAIDS’ ... ** this is package ‘RAIDS’ version ‘1.9.0’ ** using staged installation ** R ** data ** inst ** byte-compile and prepare package for lazy loading ** help *** installing help indices ** building package indices ** installing vignettes ** testing if installed package can be loaded from temporary location ** testing if installed package can be loaded from final location ** testing if installed package keeps a record of temporary installation path * DONE (RAIDS)
RAIDS.Rcheck/tests/testthat.Rout
R Under development (unstable) (2025-10-21 r88958) -- "Unsuffered Consequences"
Copyright (C) 2025 The R Foundation for Statistical Computing
Platform: x86_64-apple-darwin20
R is free software and comes with ABSOLUTELY NO WARRANTY.
You are welcome to redistribute it under certain conditions.
Type 'license()' or 'licence()' for distribution details.
R is a collaborative project with many contributors.
Type 'contributors()' for more information and
'citation()' on how to cite R or R packages in publications.
Type 'demo()' for some demos, 'help()' for on-line help, or
'help.start()' for an HTML browser interface to help.
Type 'q()' to quit R.
> library(testthat)
> library(RAIDS)
Loading required package: gdsfmt
Loading required package: SNPRelate
SNPRelate -- supported by Streaming SIMD Extensions 2 (SSE2)
Loading required package: GENESIS
Loading required package: dplyr
Attaching package: 'dplyr'
The following objects are masked from 'package:stats':
filter, lag
The following objects are masked from 'package:base':
intersect, setdiff, setequal, union
Loading required package: Rsamtools
Loading required package: Seqinfo
Loading required package: BiocGenerics
Loading required package: generics
Attaching package: 'generics'
The following object is masked from 'package:dplyr':
explain
The following objects are masked from 'package:base':
as.difftime, as.factor, as.ordered, intersect, is.element, setdiff,
setequal, union
Attaching package: 'BiocGenerics'
The following object is masked from 'package:dplyr':
combine
The following objects are masked from 'package:stats':
IQR, mad, sd, var, xtabs
The following objects are masked from 'package:base':
Filter, Find, Map, Position, Reduce, anyDuplicated, aperm, append,
as.data.frame, basename, cbind, colnames, dirname, do.call,
duplicated, eval, evalq, get, grep, grepl, is.unsorted, lapply,
mapply, match, mget, order, paste, pmax, pmax.int, pmin, pmin.int,
rank, rbind, rownames, sapply, saveRDS, table, tapply, unique,
unsplit, which.max, which.min
Loading required package: GenomicRanges
Loading required package: stats4
Loading required package: S4Vectors
Attaching package: 'S4Vectors'
The following objects are masked from 'package:dplyr':
first, rename
The following object is masked from 'package:utils':
findMatches
The following objects are masked from 'package:base':
I, expand.grid, unname
Loading required package: IRanges
Attaching package: 'IRanges'
The following objects are masked from 'package:dplyr':
collapse, desc, slice
Loading required package: Biostrings
Loading required package: XVector
Attaching package: 'Biostrings'
The following object is masked from 'package:base':
strsplit
>
> ## Run all unit tests
> test_check("RAIDS")
Attaching package: 'Matrix'
The following object is masked from 'package:S4Vectors':
expand
[ FAIL 0 | WARN 0 | SKIP 0 | PASS 478 ]
>
> proc.time()
user system elapsed
42.725 2.833 46.146
RAIDS.Rcheck/RAIDS-Ex.timings
| name | user | system | elapsed | |
| add1KG2SampleGDS | 0.061 | 0.022 | 0.093 | |
| addBlockFromDetFile | 0.002 | 0.003 | 0.007 | |
| addBlockInGDSAnnot | 0.004 | 0.004 | 0.010 | |
| addGDS1KGLDBlock | 0.002 | 0.002 | 0.004 | |
| addGDSRef | 0.002 | 0.002 | 0.006 | |
| addGDSStudyPruning | 0.001 | 0.002 | 0.004 | |
| addGeneBlockGDSRefAnnot | 1.196 | 0.116 | 1.340 | |
| addGeneBlockRefAnnot | 0.003 | 0.002 | 0.005 | |
| addRef2GDS1KG | 0.006 | 0.005 | 0.012 | |
| addStudy1Kg | 0.011 | 0.009 | 0.022 | |
| addStudyGDSSample | 0.008 | 0.005 | 0.013 | |
| addUpdateLap | 0.001 | 0.002 | 0.004 | |
| addUpdateSegment | 0.001 | 0.001 | 0.003 | |
| appendGDSRefSample | 0.008 | 0.003 | 0.012 | |
| appendGDSSampleOnly | 0.001 | 0.001 | 0.003 | |
| appendGDSgenotype | 0.017 | 0.012 | 0.033 | |
| appendGDSgenotypeMat | 0.002 | 0.002 | 0.004 | |
| calcAFMLRNA | 0.007 | 0.004 | 0.011 | |
| computeAlleleFraction | 0.002 | 0.001 | 0.003 | |
| computeAllelicFractionDNA | 0.151 | 0.012 | 0.164 | |
| computeAllelicFractionRNA | 0.247 | 0.007 | 0.256 | |
| computeAllelicImbDNAChr | 0.009 | 0.002 | 0.010 | |
| computeAncestryFromSynthetic | 0.018 | 0.008 | 0.027 | |
| computeAncestryFromSyntheticFile | 7.476 | 0.250 | 7.777 | |
| computeKNNRefSample | 0.019 | 0.008 | 0.027 | |
| computeKNNRefSynthetic | 2.707 | 0.124 | 2.858 | |
| computeLOHBlocksDNAChr | 0.010 | 0.002 | 0.012 | |
| computePCAMultiSynthetic | 0.009 | 0.007 | 0.016 | |
| computePCARefRMMulti | 0.264 | 0.008 | 0.276 | |
| computePCARefSample | 0.310 | 0.005 | 0.317 | |
| computePoolSyntheticAncestryGr | 0.587 | 0.015 | 0.607 | |
| computeSyntheticConfMat | 0.014 | 0.006 | 0.021 | |
| computeSyntheticROC | 0.047 | 0.010 | 0.059 | |
| createAUROCGraph | 1.014 | 0.059 | 1.088 | |
| createAccuracyGraph | 0.918 | 0.009 | 0.934 | |
| createProfile | 0.073 | 0.019 | 0.104 | |
| createStudy2GDS1KG | 0.070 | 0.020 | 0.162 | |
| demoKnownSuperPop1KG | 1.758 | 0.062 | 1.995 | |
| demoPCA1KG | 0.007 | 0.006 | 0.013 | |
| demoPCASyntheticProfiles | 1.612 | 0.037 | 1.665 | |
| demoPedigreeEx1 | 0.020 | 0.007 | 0.027 | |
| estimateAllelicFraction | 0.086 | 0.007 | 0.100 | |
| extractNucleotide | 0.000 | 0.001 | 0.001 | |
| generateGDS1KG | 0.016 | 0.014 | 0.035 | |
| generateGDS1KGgenotypeFromSNPPileup | 0.056 | 0.017 | 0.083 | |
| generateGDSRefSample | 0.005 | 0.005 | 0.013 | |
| generateGDSSNPinfo | 0.004 | 0.006 | 0.020 | |
| generateGDSgenotype | 0.015 | 0.016 | 0.041 | |
| generateGeneBlock | 0.001 | 0.002 | 0.004 | |
| generateMapSnvSel | 0.004 | 0.004 | 0.008 | |
| generatePhase1KG2GDS | 0.014 | 0.015 | 0.033 | |
| generatePhaseRef | 0.015 | 0.013 | 0.039 | |
| generateProfileGDS | 0.060 | 0.015 | 0.080 | |
| getBlockIDs | 0.002 | 0.002 | 0.005 | |
| getRef1KGPop | 0.003 | 0.002 | 0.006 | |
| getRefSuperPop | 0.003 | 0.002 | 0.005 | |
| getTableSNV | 0.015 | 0.005 | 0.019 | |
| groupChr1KGSNV | 0.06 | 0.11 | 0.23 | |
| identifyRelative | 0.010 | 0.006 | 0.016 | |
| identifyRelativeRef | 0.008 | 0.005 | 0.018 | |
| inferAncestry | 0.015 | 0.003 | 0.019 | |
| inferAncestryDNA | 0.016 | 0.002 | 0.018 | |
| inferAncestryGeneAware | 0.016 | 0.002 | 0.018 | |
| matKNNSynthetic | 0.047 | 0.010 | 0.060 | |
| pedSynthetic | 0.051 | 0.007 | 0.063 | |
| prepPed1KG | 0.005 | 0.002 | 0.007 | |
| prepPedSynthetic1KG | 0.006 | 0.002 | 0.009 | |
| prepSynthetic | 0.012 | 0.006 | 0.020 | |
| processBlockChr | 0.003 | 0.001 | 0.004 | |
| processPileupChrBin | 3.357 | 0.070 | 3.462 | |
| profileAncestry | 0.023 | 0.006 | 0.029 | |
| pruning1KGbyChr | 0.003 | 0.002 | 0.006 | |
| pruningSample | 0.048 | 0.010 | 0.060 | |
| readSNVBAM | 5.700 | 0.034 | 5.770 | |
| readSNVFileGeneric | 0.005 | 0.002 | 0.007 | |
| readSNVPileupFile | 0.048 | 0.002 | 0.051 | |
| readSNVVCF | 6.197 | 0.073 | 6.308 | |
| runExomeAncestry | 0.015 | 0.006 | 0.022 | |
| runIBDKING | 0.044 | 0.006 | 0.054 | |
| runLDPruning | 0.021 | 0.010 | 0.032 | |
| runProfileAncestry | 0.018 | 0.005 | 0.024 | |
| runRNAAncestry | 0.016 | 0.005 | 0.021 | |
| runWrapperAncestry | 0.017 | 0.006 | 0.023 | |
| selParaPCAUpQuartile | 6.279 | 0.047 | 6.359 | |
| select1KGPop | 0.006 | 0.002 | 0.008 | |
| select1KGPopForSynthetic | 0.007 | 0.002 | 0.008 | |
| snpPositionDemo | 0.004 | 0.005 | 0.008 | |
| snvListVCF | 0.003 | 0.003 | 0.006 | |
| splitSelectByPop | 0.001 | 0.001 | 0.002 | |
| syntheticGeno | 0.035 | 0.008 | 0.049 | |
| tableBlockAF | 0.020 | 0.004 | 0.025 | |
| testAlleleFractionChange | 0.001 | 0.000 | 0.002 | |
| testEmptyBox | 0.001 | 0.000 | 0.001 | |
| validateAccuracyGraphInternal | 0.000 | 0.000 | 0.001 | |
| validateAdd1KG2SampleGDS | 0.001 | 0.001 | 0.002 | |
| validateAddStudy1Kg | 0.002 | 0.002 | 0.008 | |
| validateCharacterString | 0.000 | 0.001 | 0.000 | |
| validateComputeAncestryFromSyntheticFile | 0.002 | 0.002 | 0.004 | |
| validateComputeKNNRefSample | 0.004 | 0.007 | 0.012 | |
| validateComputeKNNRefSynthetic | 0.005 | 0.006 | 0.011 | |
| validateComputePCAMultiSynthetic | 0.004 | 0.004 | 0.008 | |
| validateComputePCARefSample | 0.002 | 0.001 | 0.007 | |
| validateComputePoolSyntheticAncestryGr | 0.002 | 0.001 | 0.004 | |
| validateComputeSyntheticRoc | 0.016 | 0.006 | 0.023 | |
| validateCreateAccuracyGraph | 0.001 | 0.001 | 0.001 | |
| validateCreateStudy2GDS1KG | 0.003 | 0.001 | 0.004 | |
| validateDataRefSynParameter | 0.001 | 0.000 | 0.001 | |
| validateEstimateAllelicFraction | 0.004 | 0.001 | 0.011 | |
| validateGDSClass | 0.002 | 0.001 | 0.003 | |
| validateGenerateGDS1KG | 0.002 | 0.001 | 0.002 | |
| validateLogical | 0.000 | 0.000 | 0.001 | |
| validatePEDStudyParameter | 0.000 | 0.000 | 0.001 | |
| validatePepSynthetic | 0.002 | 0.001 | 0.003 | |
| validatePositiveIntegerVector | 0.000 | 0.001 | 0.000 | |
| validatePrepPed1KG | 0.001 | 0.001 | 0.002 | |
| validateProfileGDSExist | 0.001 | 0.001 | 0.001 | |
| validatePruningSample | 0.002 | 0.001 | 0.002 | |
| validateRunExomeOrRNAAncestry | 0.005 | 0.002 | 0.006 | |
| validateSingleRatio | 0.001 | 0.000 | 0.001 | |
| validateStudyDataFrameParameter | 0.001 | 0.000 | 0.000 | |
| validateSyntheticGeno | 0.002 | 0.001 | 0.006 | |
| validatecreateAUROCGraph | 0.002 | 0.001 | 0.003 | |
| validatecreateProfile | 0.002 | 0.001 | 0.004 | |
| wrapperAncestry | 0.020 | 0.006 | 0.026 | |