Back to Multiple platform build/check report for BioC 3.22:   simplified   long
ABCDEFGHIJKL[M]NOPQRSTUVWXYZ

This page was generated on 2025-10-18 12:04 -0400 (Sat, 18 Oct 2025).

HostnameOSArch (*)R versionInstalled pkgs
nebbiolo2Linux (Ubuntu 24.04.3 LTS)x86_644.5.1 Patched (2025-08-23 r88802) -- "Great Square Root" 4887
lconwaymacOS 12.7.6 Montereyx86_644.5.1 Patched (2025-09-10 r88807) -- "Great Square Root" 4677
kjohnson3macOS 13.7.7 Venturaarm644.5.1 Patched (2025-09-10 r88807) -- "Great Square Root" 4622
taishanLinux (openEuler 24.03 LTS)aarch644.5.0 (2025-04-11) -- "How About a Twenty-Six" 4632
Click on any hostname to see more info about the system (e.g. compilers)      (*) as reported by 'uname -p', except on Windows and Mac OS X

Package 1389/2353HostnameOS / ArchINSTALLBUILDCHECKBUILD BIN
MsQuality 1.9.2  (landing page)
Thomas Naake
Snapshot Date: 2025-10-17 13:45 -0400 (Fri, 17 Oct 2025)
git_url: https://git.bioconductor.org/packages/MsQuality
git_branch: devel
git_last_commit: 4d444d5
git_last_commit_date: 2025-08-05 05:56:49 -0400 (Tue, 05 Aug 2025)
nebbiolo2Linux (Ubuntu 24.04.3 LTS) / x86_64  OK    OK    ERROR  
lconwaymacOS 12.7.6 Monterey / x86_64  OK    OK    ERROR    OK  
kjohnson3macOS 13.7.7 Ventura / arm64  OK    OK    ERROR    OK  
taishanLinux (openEuler 24.03 LTS) / aarch64  OK    OK    TIMEOUT  


CHECK results for MsQuality on nebbiolo2

To the developers/maintainers of the MsQuality package:
- Allow up to 24 hours (and sometimes 48 hours) for your latest push to git@git.bioconductor.org:packages/MsQuality.git to reflect on this report. See Troubleshooting Build Report for more information.
- Use the following Renviron settings to reproduce errors and warnings.
- If 'R CMD check' started to fail recently on the Linux builder(s) over a missing dependency, add the missing dependency to 'Suggests:' in your DESCRIPTION file. See Renviron.bioc for more information.

raw results


Summary

Package: MsQuality
Version: 1.9.2
Command: /home/biocbuild/bbs-3.22-bioc/R/bin/R CMD check --install=check:MsQuality.install-out.txt --library=/home/biocbuild/bbs-3.22-bioc/R/site-library --timings MsQuality_1.9.2.tar.gz
StartedAt: 2025-10-18 02:20:28 -0400 (Sat, 18 Oct 2025)
EndedAt: 2025-10-18 02:26:46 -0400 (Sat, 18 Oct 2025)
EllapsedTime: 378.3 seconds
RetCode: 1
Status:   ERROR  
CheckDir: MsQuality.Rcheck
Warnings: NA

Command output

##############################################################################
##############################################################################
###
### Running command:
###
###   /home/biocbuild/bbs-3.22-bioc/R/bin/R CMD check --install=check:MsQuality.install-out.txt --library=/home/biocbuild/bbs-3.22-bioc/R/site-library --timings MsQuality_1.9.2.tar.gz
###
##############################################################################
##############################################################################


* using log directory ‘/home/biocbuild/bbs-3.22-bioc/meat/MsQuality.Rcheck’
* using R version 4.5.1 Patched (2025-08-23 r88802)
* using platform: x86_64-pc-linux-gnu
* R was compiled by
    gcc (Ubuntu 13.3.0-6ubuntu2~24.04) 13.3.0
    GNU Fortran (Ubuntu 13.3.0-6ubuntu2~24.04) 13.3.0
* running under: Ubuntu 24.04.3 LTS
* using session charset: UTF-8
* checking for file ‘MsQuality/DESCRIPTION’ ... OK
* checking extension type ... Package
* this is package ‘MsQuality’ version ‘1.9.2’
* package encoding: UTF-8
* checking package namespace information ... OK
* checking package dependencies ... OK
* checking if this is a source package ... OK
* checking if there is a namespace ... OK
* checking for hidden files and directories ... OK
* checking for portable file names ... OK
* checking for sufficient/correct file permissions ... OK
* checking whether package ‘MsQuality’ can be installed ... OK
* checking installed package size ... OK
* checking package directory ... OK
* checking ‘build’ directory ... OK
* checking DESCRIPTION meta-information ... OK
* checking top-level files ... OK
* checking for left-over files ... OK
* checking index information ... OK
* checking package subdirectories ... OK
* checking code files for non-ASCII characters ... OK
* checking R files for syntax errors ... OK
* checking whether the package can be loaded ... OK
* checking whether the package can be loaded with stated dependencies ... OK
* checking whether the package can be unloaded cleanly ... OK
* checking whether the namespace can be loaded with stated dependencies ... OK
* checking whether the namespace can be unloaded cleanly ... OK
* checking loading without being on the library search path ... OK
* checking dependencies in R code ... OK
* checking S3 generic/method consistency ... OK
* checking replacement functions ... OK
* checking foreign function calls ... OK
* checking R code for possible problems ... OK
* checking Rd files ... OK
* checking Rd metadata ... OK
* checking Rd cross-references ... OK
* checking for missing documentation entries ... OK
* checking for code/documentation mismatches ... OK
* checking Rd \usage sections ... OK
* checking Rd contents ... OK
* checking for unstated dependencies in examples ... OK
* checking contents of ‘data’ directory ... OK
* checking data for non-ASCII characters ... OK
* checking data for ASCII and uncompressed saves ... OK
* checking files in ‘vignettes’ ... OK
* checking examples ... OK
Examples with CPU (user + system) or elapsed time > 5s
                                  user system elapsed
calculateMetricsFromSpectra      8.325  1.688   7.353
calculateMetrics                 5.037  0.740   5.460
calculateMetricsFromMsExperiment 3.960  1.054   2.732
* checking for unstated dependencies in ‘tests’ ... OK
* checking tests ...
  Running ‘testthat.R’
 ERROR
Running the tests in ‘tests/testthat.R’ failed.
Last 13 lines of output:
  
  Backtrace:
      ▆
   1. ├─testthat::expect_equal(...) at test_function_calculateMetrics_from_Spectra.R:509:5
   2. │ └─testthat::quasi_label(enquo(object), label, arg = "object")
   3. │   └─rlang::eval_bare(expr, quo_get_env(quo))
   4. └─MsQuality::calculateMetrics(...)
   5.   └─MsQuality::calculateMetricsFromSpectra(...)
   6.     ├─BiocParallel::bplapply(...)
   7.     └─BiocParallel::bplapply(...)
   8.       └─BiocParallel:::.bpinit(...)
  
  [ FAIL 3 | WARN 0 | SKIP 0 | PASS 747 ]
  Error: Test failures
  Execution halted
* checking for unstated dependencies in vignettes ... OK
* checking package vignettes ... OK
* checking re-building of vignette outputs ... OK
* checking PDF version of manual ... OK
* DONE

Status: 1 ERROR
See
  ‘/home/biocbuild/bbs-3.22-bioc/meat/MsQuality.Rcheck/00check.log’
for details.


Installation output

MsQuality.Rcheck/00install.out

##############################################################################
##############################################################################
###
### Running command:
###
###   /home/biocbuild/bbs-3.22-bioc/R/bin/R CMD INSTALL MsQuality
###
##############################################################################
##############################################################################


* installing to library ‘/home/biocbuild/bbs-3.22-bioc/R/site-library’
* installing *source* package ‘MsQuality’ ...
** this is package ‘MsQuality’ version ‘1.9.2’
** using staged installation
** R
** data
** inst
** byte-compile and prepare package for lazy loading
** help
*** installing help indices
** building package indices
** installing vignettes
** testing if installed package can be loaded from temporary location
** testing if installed package can be loaded from final location
** testing if installed package keeps a record of temporary installation path
* DONE (MsQuality)

Tests output

MsQuality.Rcheck/tests/testthat.Rout.fail


R version 4.5.1 Patched (2025-08-23 r88802) -- "Great Square Root"
Copyright (C) 2025 The R Foundation for Statistical Computing
Platform: x86_64-pc-linux-gnu

R is free software and comes with ABSOLUTELY NO WARRANTY.
You are welcome to redistribute it under certain conditions.
Type 'license()' or 'licence()' for distribution details.

R is a collaborative project with many contributors.
Type 'contributors()' for more information and
'citation()' on how to cite R or R packages in publications.

Type 'demo()' for some demos, 'help()' for on-line help, or
'help.start()' for an HTML browser interface to help.
Type 'q()' to quit R.

> library("testthat")
> library("MsQuality")
> library("Spectra")
Loading required package: S4Vectors
Loading required package: stats4
Loading required package: BiocGenerics
Loading required package: generics

Attaching package: 'generics'

The following objects are masked from 'package:base':

    as.difftime, as.factor, as.ordered, intersect, is.element, setdiff,
    setequal, union


Attaching package: 'BiocGenerics'

The following objects are masked from 'package:stats':

    IQR, mad, sd, var, xtabs

The following objects are masked from 'package:base':

    Filter, Find, Map, Position, Reduce, anyDuplicated, aperm, append,
    as.data.frame, basename, cbind, colnames, dirname, do.call,
    duplicated, eval, evalq, get, grep, grepl, is.unsorted, lapply,
    mapply, match, mget, order, paste, pmax, pmax.int, pmin, pmin.int,
    rank, rbind, rownames, sapply, saveRDS, table, tapply, unique,
    unsplit, which.max, which.min


Attaching package: 'S4Vectors'

The following object is masked from 'package:utils':

    findMatches

The following objects are masked from 'package:base':

    I, expand.grid, unname

Loading required package: BiocParallel
> library("MsExperiment")
Loading required package: ProtGenerics

Attaching package: 'ProtGenerics'

The following object is masked from 'package:stats':

    smooth

> library("msdata")
> library("S4Vectors")
> 
> test_check("MsQuality")
trying URL 'https://api.github.com/repos/HUPO-PSI/psi-ms-CV/releases/latest'
Content type 'application/json; charset=utf-8' length 7693 bytes
==================================================
downloaded 7693 bytes

trying URL 'https://github.com/HUPO-PSI/psi-ms-CV/releases/download/v4.1.205/psi-ms.obo'
Content type 'application/octet-stream' length 1053531 bytes (1.0 MB)
==================================================
downloaded 1.0 MB

[ FAIL 3 | WARN 0 | SKIP 0 | PASS 747 ]

══ Failed tests ════════════════════════════════════════════════════════════════
── Error ('test_function_calculateMetrics_from_Spectra.R:156:5'): calculateMetricsFromOneSampleSpectra ──
Error in `h(simpleError(msg, call))`: error in evaluating the argument 'object' in selecting a method for function 'filterEmptySpectra': error in evaluating the argument 'object' in selecting a method for function 'filterIntensity': error in evaluating the argument 'i' in selecting a method for function 'extractByIndex': values must be length 1,
 but FUN(X[[3]]) result is length 0
Backtrace:
     ▆
  1. ├─testthat::expect_equal(...) at test_function_calculateMetrics_from_Spectra.R:156:5
  2. │ └─testthat::quasi_label(enquo(object), label, arg = "object")
  3. │   └─rlang::eval_bare(expr, quo_get_env(quo))
  4. ├─MsQuality:::calculateMetricsFromOneSampleSpectra(...)
  5. │ ├─ProtGenerics::filterEmptySpectra(...)
  6. │ ├─ProtGenerics::filterIntensity(...)
  7. │ ├─ProtGenerics::filterEmptySpectra(spectra)
  8. │ └─Spectra::filterEmptySpectra(spectra)
  9. │   └─Spectra (local) .local(object, ...)
 10. │     ├─ProtGenerics::extractByIndex(object@backend, which(as.logical(lengths(object))))
 11. │     ├─base::which(as.logical(lengths(object)))
 12. │     └─base::lengths(object)
 13. │       ├─methods (local) lengths(x, use.names)
 14. │       └─Spectra (local) lengths(x, use.names)
 15. │         └─base::lengths(x@backend, use.names = use.names)
 16. │           ├─methods (local) lengths(x, use.names)
 17. │           └─Spectra (local) lengths(x, use.names)
 18. │             └─base::vapply(peaksData(x), nrow, NA_integer_)
 19. ├─base::.handleSimpleError(...)
 20. │ └─base (local) h(simpleError(msg, call))
 21. ├─base::.handleSimpleError(...)
 22. │ └─base (local) h(simpleError(msg, call))
 23. └─base::.handleSimpleError(...)
 24.   └─base (local) h(simpleError(msg, call))
── Error ('test_function_calculateMetrics_from_Spectra.R:273:5'): calculateMetricsFromSpectra ──
<bplist_error/bperror/error/condition>
Error: BiocParallel errors
  1 remote errors, element index: 1
  0 unevaluated and other errors
  first remote error:
Error in h(simpleError(msg, call)): error in evaluating the argument 'object' in selecting a method for function 'filterEmptySpectra': error in evaluating the argument 'object' in selecting a method for function 'filterIntensity': error in evaluating the argument 'i' in selecting a method for function 'extractByIndex': values must be length 1,
 but FUN(X[[3]]) result is length 0

Backtrace:
    ▆
 1. ├─testthat::expect_equal(...) at test_function_calculateMetrics_from_Spectra.R:273:5
 2. │ └─testthat::quasi_label(enquo(object), label, arg = "object")
 3. │   └─rlang::eval_bare(expr, quo_get_env(quo))
 4. └─MsQuality::calculateMetricsFromSpectra(...)
 5.   ├─BiocParallel::bplapply(...)
 6.   └─BiocParallel::bplapply(...)
 7.     └─BiocParallel:::.bpinit(...)
── Error ('test_function_calculateMetrics_from_Spectra.R:509:5'): calculateMetrics ──
<bplist_error/bperror/error/condition>
Error: BiocParallel errors
  1 remote errors, element index: 1
  0 unevaluated and other errors
  first remote error:
Error in h(simpleError(msg, call)): error in evaluating the argument 'object' in selecting a method for function 'filterEmptySpectra': error in evaluating the argument 'object' in selecting a method for function 'filterIntensity': error in evaluating the argument 'i' in selecting a method for function 'extractByIndex': values must be length 1,
 but FUN(X[[3]]) result is length 0

Backtrace:
    ▆
 1. ├─testthat::expect_equal(...) at test_function_calculateMetrics_from_Spectra.R:509:5
 2. │ └─testthat::quasi_label(enquo(object), label, arg = "object")
 3. │   └─rlang::eval_bare(expr, quo_get_env(quo))
 4. └─MsQuality::calculateMetrics(...)
 5.   └─MsQuality::calculateMetricsFromSpectra(...)
 6.     ├─BiocParallel::bplapply(...)
 7.     └─BiocParallel::bplapply(...)
 8.       └─BiocParallel:::.bpinit(...)

[ FAIL 3 | WARN 0 | SKIP 0 | PASS 747 ]
Error: Test failures
Execution halted

Example timings

MsQuality.Rcheck/MsQuality-Ex.timings

nameusersystemelapsed
MsQuality-package000
areaUnderTic0.1560.0120.168
areaUnderTicRtQuantiles0.1520.0020.154
calculateMetrics5.0370.7405.460
calculateMetricsFromMsExperiment3.9601.0542.732
calculateMetricsFromOneSampleSpectra3.5740.6582.060
calculateMetricsFromSpectra8.3251.6887.353
chromatographyDuration0.9150.1890.090
dot-rtOrderSpectra0.0950.0070.102
extentIdentifiedPrecursorIntensity0.0780.0050.083
meanCharge0.0770.0050.080
medianCharge0.0720.0070.080
medianPrecursorMz0.0800.0040.084
medianTicOfRtRange0.0850.0020.086
medianTicRtIqr0.0820.0060.089
msSignal10xChange0.0900.0000.089
mzAcquisitionRange0.0820.0000.083
numberEmptyScans0.0880.0030.091
numberSpectra0.0800.0020.082
plotMetric2.7170.7802.672
plotMetricTibble2.3240.8741.721
precursorIntensityMean0.0920.0110.103
precursorIntensityQuartiles0.0840.0070.091
precursorIntensityRange0.0830.0070.090
precursorIntensitySd0.0850.0040.089
qualityMetrics0.0820.0060.088
ratioCharge1over20.0900.0150.105
ratioCharge3over20.0860.0080.094
ratioCharge4over20.0870.0080.095
rtAcquisitionRange0.0860.0050.091
rtIqr0.0880.0050.093
rtIqrRate0.0910.0030.094
rtOverMsQuarters0.0910.0040.095
shinyMsQuality1.3400.5831.811
ticQuantileRtFraction1.0770.3500.115
ticQuartileToQuartileLogRatio0.0870.0100.097
transformIntoMzQC1.2590.6001.675