Back to Multiple platform build/check report for BioC 3.22:   simplified   long
ABCDEFGHIJKL[M]NOPQRSTUVWXYZ

This page was generated on 2025-10-28 12:04 -0400 (Tue, 28 Oct 2025).

HostnameOSArch (*)R versionInstalled pkgs
nebbiolo2Linux (Ubuntu 24.04.3 LTS)x86_644.5.1 Patched (2025-08-23 r88802) -- "Great Square Root" 4901
lconwaymacOS 12.7.6 Montereyx86_644.5.1 Patched (2025-09-10 r88807) -- "Great Square Root" 4691
kjohnson3macOS 13.7.7 Venturaarm644.5.1 Patched (2025-09-10 r88807) -- "Great Square Root" 4637
Click on any hostname to see more info about the system (e.g. compilers)      (*) as reported by 'uname -p', except on Windows and Mac OS X

Package 1395/2361HostnameOS / ArchINSTALLBUILDCHECKBUILD BIN
MsQuality 1.9.3  (landing page)
Thomas Naake
Snapshot Date: 2025-10-27 13:45 -0400 (Mon, 27 Oct 2025)
git_url: https://git.bioconductor.org/packages/MsQuality
git_branch: devel
git_last_commit: 03649c6
git_last_commit_date: 2025-10-23 15:25:07 -0400 (Thu, 23 Oct 2025)
nebbiolo2Linux (Ubuntu 24.04.3 LTS) / x86_64  OK    OK    OK  UNNEEDED, same version is already published
lconwaymacOS 12.7.6 Monterey / x86_64  OK    OK    OK    OK  UNNEEDED, same version is already published
kjohnson3macOS 13.7.7 Ventura / arm64  OK    OK    OK    OK  UNNEEDED, same version is already published


CHECK results for MsQuality on lconway

To the developers/maintainers of the MsQuality package:
- Allow up to 24 hours (and sometimes 48 hours) for your latest push to git@git.bioconductor.org:packages/MsQuality.git to reflect on this report. See Troubleshooting Build Report for more information.
- Use the following Renviron settings to reproduce errors and warnings.
- If 'R CMD check' started to fail recently on the Linux builder(s) over a missing dependency, add the missing dependency to 'Suggests:' in your DESCRIPTION file. See Renviron.bioc for more information.

raw results


Summary

Package: MsQuality
Version: 1.9.3
Command: /Library/Frameworks/R.framework/Resources/bin/R CMD check --install=check:MsQuality.install-out.txt --library=/Library/Frameworks/R.framework/Resources/library --no-vignettes --timings MsQuality_1.9.3.tar.gz
StartedAt: 2025-10-27 23:16:00 -0400 (Mon, 27 Oct 2025)
EndedAt: 2025-10-27 23:22:43 -0400 (Mon, 27 Oct 2025)
EllapsedTime: 402.6 seconds
RetCode: 0
Status:   OK  
CheckDir: MsQuality.Rcheck
Warnings: 0

Command output

##############################################################################
##############################################################################
###
### Running command:
###
###   /Library/Frameworks/R.framework/Resources/bin/R CMD check --install=check:MsQuality.install-out.txt --library=/Library/Frameworks/R.framework/Resources/library --no-vignettes --timings MsQuality_1.9.3.tar.gz
###
##############################################################################
##############################################################################


* using log directory ‘/Users/biocbuild/bbs-3.22-bioc/meat/MsQuality.Rcheck’
* using R version 4.5.1 Patched (2025-09-10 r88807)
* using platform: x86_64-apple-darwin20
* R was compiled by
    Apple clang version 14.0.0 (clang-1400.0.29.202)
    GNU Fortran (GCC) 14.2.0
* running under: macOS Monterey 12.7.6
* using session charset: UTF-8
* using option ‘--no-vignettes’
* checking for file ‘MsQuality/DESCRIPTION’ ... OK
* checking extension type ... Package
* this is package ‘MsQuality’ version ‘1.9.3’
* package encoding: UTF-8
* checking package namespace information ... OK
* checking package dependencies ... OK
* checking if this is a source package ... OK
* checking if there is a namespace ... OK
* checking for hidden files and directories ... OK
* checking for portable file names ... OK
* checking for sufficient/correct file permissions ... OK
* checking whether package ‘MsQuality’ can be installed ... OK
* checking installed package size ... OK
* checking package directory ... OK
* checking ‘build’ directory ... OK
* checking DESCRIPTION meta-information ... OK
* checking top-level files ... OK
* checking for left-over files ... OK
* checking index information ... OK
* checking package subdirectories ... OK
* checking code files for non-ASCII characters ... OK
* checking R files for syntax errors ... OK
* checking whether the package can be loaded ... OK
* checking whether the package can be loaded with stated dependencies ... OK
* checking whether the package can be unloaded cleanly ... OK
* checking whether the namespace can be loaded with stated dependencies ... OK
* checking whether the namespace can be unloaded cleanly ... OK
* checking dependencies in R code ... OK
* checking S3 generic/method consistency ... OK
* checking replacement functions ... OK
* checking foreign function calls ... OK
* checking R code for possible problems ... OK
* checking Rd files ... OK
* checking Rd metadata ... OK
* checking Rd cross-references ... OK
* checking for missing documentation entries ... OK
* checking for code/documentation mismatches ... OK
* checking Rd \usage sections ... OK
* checking Rd contents ... OK
* checking for unstated dependencies in examples ... OK
* checking contents of ‘data’ directory ... OK
* checking data for non-ASCII characters ... OK
* checking data for ASCII and uncompressed saves ... OK
* checking files in ‘vignettes’ ... OK
* checking examples ... OK
Examples with CPU (user + system) or elapsed time > 5s
                                       user system elapsed
calculateMetricsFromSpectra          10.534  3.133   9.100
calculateMetrics                      5.955  1.075   6.787
calculateMetricsFromMsExperiment      4.529  1.790   3.540
calculateMetricsFromOneSampleSpectra  3.963  1.135   2.480
* checking for unstated dependencies in ‘tests’ ... OK
* checking tests ...
  Running ‘testthat.R’
 OK
* checking for unstated dependencies in vignettes ... OK
* checking package vignettes ... OK
* checking running R code from vignettes ... SKIPPED
* checking re-building of vignette outputs ... SKIPPED
* checking PDF version of manual ... OK
* DONE

Status: OK


Installation output

MsQuality.Rcheck/00install.out

##############################################################################
##############################################################################
###
### Running command:
###
###   /Library/Frameworks/R.framework/Resources/bin/R CMD INSTALL MsQuality
###
##############################################################################
##############################################################################


* installing to library ‘/Library/Frameworks/R.framework/Versions/4.5-x86_64/Resources/library’
* installing *source* package ‘MsQuality’ ...
** this is package ‘MsQuality’ version ‘1.9.3’
** using staged installation
** R
** data
** inst
** byte-compile and prepare package for lazy loading
** help
*** installing help indices
** building package indices
** installing vignettes
** testing if installed package can be loaded from temporary location
** testing if installed package can be loaded from final location
** testing if installed package keeps a record of temporary installation path
* DONE (MsQuality)

Tests output

MsQuality.Rcheck/tests/testthat.Rout


R version 4.5.1 Patched (2025-09-10 r88807) -- "Great Square Root"
Copyright (C) 2025 The R Foundation for Statistical Computing
Platform: x86_64-apple-darwin20

R is free software and comes with ABSOLUTELY NO WARRANTY.
You are welcome to redistribute it under certain conditions.
Type 'license()' or 'licence()' for distribution details.

R is a collaborative project with many contributors.
Type 'contributors()' for more information and
'citation()' on how to cite R or R packages in publications.

Type 'demo()' for some demos, 'help()' for on-line help, or
'help.start()' for an HTML browser interface to help.
Type 'q()' to quit R.

> library("testthat")
> library("MsQuality")
> library("Spectra")
Loading required package: S4Vectors
Loading required package: stats4
Loading required package: BiocGenerics
Loading required package: generics

Attaching package: 'generics'

The following objects are masked from 'package:base':

    as.difftime, as.factor, as.ordered, intersect, is.element, setdiff,
    setequal, union


Attaching package: 'BiocGenerics'

The following objects are masked from 'package:stats':

    IQR, mad, sd, var, xtabs

The following objects are masked from 'package:base':

    Filter, Find, Map, Position, Reduce, anyDuplicated, aperm, append,
    as.data.frame, basename, cbind, colnames, dirname, do.call,
    duplicated, eval, evalq, get, grep, grepl, is.unsorted, lapply,
    mapply, match, mget, order, paste, pmax, pmax.int, pmin, pmin.int,
    rank, rbind, rownames, sapply, saveRDS, table, tapply, unique,
    unsplit, which.max, which.min


Attaching package: 'S4Vectors'

The following object is masked from 'package:utils':

    findMatches

The following objects are masked from 'package:base':

    I, expand.grid, unname

Loading required package: BiocParallel
> library("MsExperiment")
Loading required package: ProtGenerics

Attaching package: 'ProtGenerics'

The following object is masked from 'package:stats':

    smooth

> library("msdata")
> library("S4Vectors")
> 
> test_check("MsQuality")
trying URL 'https://api.github.com/repos/HUPO-PSI/psi-ms-CV/releases/latest'
Content type 'application/json; charset=utf-8' length 7703 bytes
==================================================
downloaded 7703 bytes

trying URL 'https://github.com/HUPO-PSI/psi-ms-CV/releases/download/v4.1.206/psi-ms.obo'
Content type 'application/octet-stream' length 1064556 bytes (1.0 MB)
==================================================
downloaded 1.0 MB

[ FAIL 0 | WARN 0 | SKIP 0 | PASS 860 ]
> 
> proc.time()
   user  system elapsed 
108.879  29.436  92.109 

Example timings

MsQuality.Rcheck/MsQuality-Ex.timings

nameusersystemelapsed
MsQuality-package0.0000.0000.001
areaUnderTic0.2430.0220.267
areaUnderTicRtQuantiles0.2390.0090.250
calculateMetrics5.9551.0756.787
calculateMetricsFromMsExperiment4.5291.7903.540
calculateMetricsFromOneSampleSpectra3.9631.1352.480
calculateMetricsFromSpectra10.534 3.133 9.100
chromatographyDuration0.1520.0240.178
dot-rtOrderSpectra0.1620.0170.180
extentIdentifiedPrecursorIntensity0.1500.0150.169
meanCharge0.1460.0140.161
medianCharge0.1460.0130.159
medianPrecursorMz0.1320.0120.144
medianTicOfRtRange0.1410.0120.153
medianTicRtIqr0.1430.0140.161
msSignal10xChange0.1440.0120.157
mzAcquisitionRange0.1480.0140.163
numberEmptyScans0.1630.0130.181
numberSpectra0.1500.0120.166
plotMetric3.0591.0863.294
plotMetricTibble2.5011.0052.044
precursorIntensityMean0.1500.0180.170
precursorIntensityQuartiles0.1530.0140.168
precursorIntensityRange0.1460.0160.164
precursorIntensitySd0.1450.0140.160
qualityMetrics0.1460.0130.160
ratioCharge1over20.1480.0120.162
ratioCharge3over20.1450.0130.160
ratioCharge4over20.1480.0130.162
rtAcquisitionRange0.1460.0130.160
rtIqr0.1420.0120.155
rtIqrRate0.1600.0120.172
rtOverMsQuarters0.1520.0110.164
shinyMsQuality0.5310.2302.026
ticQuantileRtFraction2.2410.9160.266
ticQuartileToQuartileLogRatio0.1650.0190.185
transformIntoMzQC2.3000.9901.881