Back to Multiple platform build/check report for BioC 3.23:   simplified   long
ABCDE[F]GHIJKLMNOPQRSTUVWXYZ

This page was generated on 2025-11-19 10:13 -0500 (Wed, 19 Nov 2025).

HostnameOSArch (*)R versionInstalled pkgs
nebbiolo1Linux (Ubuntu 24.04.3 LTS)x86_64R Under development (unstable) (2025-10-20 r88955) -- "Unsuffered Consequences" 4827
lconwaymacOS 12.7.6 Montereyx86_64R Under development (unstable) (2025-10-21 r88958) -- "Unsuffered Consequences" 4600
kjohnson3macOS 13.7.7 Venturaarm64R Under development (unstable) (2025-11-04 r88984) -- "Unsuffered Consequences" 4564
Click on any hostname to see more info about the system (e.g. compilers)      (*) as reported by 'uname -p', except on Windows and Mac OS X

Package 755/2325HostnameOS / ArchINSTALLBUILDCHECKBUILD BIN
FlowSOM 2.19.0  (landing page)
Sofie Van Gassen
Snapshot Date: 2025-11-18 13:40 -0500 (Tue, 18 Nov 2025)
git_url: https://git.bioconductor.org/packages/FlowSOM
git_branch: devel
git_last_commit: 3c00c1d
git_last_commit_date: 2025-10-29 10:23:19 -0500 (Wed, 29 Oct 2025)
nebbiolo1Linux (Ubuntu 24.04.3 LTS) / x86_64  OK    OK    OK  UNNEEDED, same version is already published
lconwaymacOS 12.7.6 Monterey / x86_64  OK    OK    OK    OK  YES
kjohnson3macOS 13.7.7 Ventura / arm64  OK    OK    OK    OK  UNNEEDED, same version is already published


CHECK results for FlowSOM on lconway

To the developers/maintainers of the FlowSOM package:
- Allow up to 24 hours (and sometimes 48 hours) for your latest push to git@git.bioconductor.org:packages/FlowSOM.git to reflect on this report. See Troubleshooting Build Report for more information.
- Use the following Renviron settings to reproduce errors and warnings.
- If 'R CMD check' started to fail recently on the Linux builder(s) over a missing dependency, add the missing dependency to 'Suggests:' in your DESCRIPTION file. See Renviron.bioc for more information.

raw results


Summary

Package: FlowSOM
Version: 2.19.0
Command: /Library/Frameworks/R.framework/Resources/bin/R CMD check --install=check:FlowSOM.install-out.txt --library=/Library/Frameworks/R.framework/Resources/library --no-vignettes --timings FlowSOM_2.19.0.tar.gz
StartedAt: 2025-11-18 21:07:17 -0500 (Tue, 18 Nov 2025)
EndedAt: 2025-11-18 21:17:37 -0500 (Tue, 18 Nov 2025)
EllapsedTime: 620.4 seconds
RetCode: 0
Status:   OK  
CheckDir: FlowSOM.Rcheck
Warnings: 0

Command output

##############################################################################
##############################################################################
###
### Running command:
###
###   /Library/Frameworks/R.framework/Resources/bin/R CMD check --install=check:FlowSOM.install-out.txt --library=/Library/Frameworks/R.framework/Resources/library --no-vignettes --timings FlowSOM_2.19.0.tar.gz
###
##############################################################################
##############################################################################


* using log directory ‘/Users/biocbuild/bbs-3.23-bioc/meat/FlowSOM.Rcheck’
* using R Under development (unstable) (2025-10-21 r88958)
* using platform: x86_64-apple-darwin20
* R was compiled by
    Apple clang version 14.0.0 (clang-1400.0.29.202)
    GNU Fortran (GCC) 14.2.0
* running under: macOS Ventura 13.7.8
* using session charset: UTF-8
* using option ‘--no-vignettes’
* checking for file ‘FlowSOM/DESCRIPTION’ ... OK
* this is package ‘FlowSOM’ version ‘2.19.0’
* package encoding: UTF-8
* checking package namespace information ... OK
* checking package dependencies ... OK
* checking if this is a source package ... OK
* checking if there is a namespace ... OK
* checking for hidden files and directories ... OK
* checking for portable file names ... OK
* checking for sufficient/correct file permissions ... OK
* checking whether package ‘FlowSOM’ can be installed ... OK
* used C compiler: ‘Apple clang version 14.0.3 (clang-1403.0.22.14.1)’
* used SDK: ‘MacOSX11.3.1.sdk’
* checking installed package size ... OK
* checking package directory ... OK
* checking ‘build’ directory ... OK
* checking DESCRIPTION meta-information ... OK
* checking top-level files ... OK
* checking for left-over files ... OK
* checking index information ... OK
* checking package subdirectories ... OK
* checking code files for non-ASCII characters ... OK
* checking R files for syntax errors ... OK
* checking whether the package can be loaded ... OK
* checking whether the package can be loaded with stated dependencies ... OK
* checking whether the package can be unloaded cleanly ... OK
* checking whether the namespace can be loaded with stated dependencies ... OK
* checking whether the namespace can be unloaded cleanly ... OK
* checking whether startup messages can be suppressed ... OK
* checking dependencies in R code ... OK
* checking S3 generic/method consistency ... OK
* checking replacement functions ... OK
* checking foreign function calls ... OK
* checking R code for possible problems ... OK
* checking Rd files ... NOTE
checkRd: (-1) PlotDimRed.Rd:55: Lost braces
    55 | of the dimred default = function(dimred){dimred$Y}.}
       |                                         ^
* checking Rd metadata ... OK
* checking Rd cross-references ... NOTE
Non-topic package-anchored link(s) in Rd file 'pipe.Rd':
  ‘[magrittr:pipe]{%>%}’

See section 'Cross-references' in the 'Writing R Extensions' manual.
* checking for missing documentation entries ... OK
* checking for code/documentation mismatches ... OK
* checking Rd \usage sections ... OK
* checking Rd contents ... OK
* checking for unstated dependencies in examples ... OK
* checking line endings in C/C++/Fortran sources/headers ... OK
* checking compiled code ... INFO
Note: information on .o files is not available
* checking sizes of PDF files under ‘inst/doc’ ... OK
* checking files in ‘vignettes’ ... OK
* checking examples ... OK
Examples with CPU (user + system) or elapsed time > 5s
                                    user system elapsed
FlowSOMmary                       52.786  2.078  55.129
PlotDimRed                        39.628  2.172  42.308
PlotOutliers                      35.782  0.892  37.147
PlotMarker                        19.956  1.117  21.437
UpdateMetaclusters                18.551  1.244  20.098
PlotStars                         16.732  0.997  18.001
GroupStats                        13.978  0.844  14.991
FlowSOM                           13.282  1.032  14.483
PlotGroups                        12.018  1.020  13.175
QueryMultiple                     11.334  0.499  12.015
Plot2DScatters                    10.430  0.684  11.259
query_multiple                    10.664  0.427  11.241
AddAnnotation                      9.971  0.654  10.738
PlotManualBars                     8.942  0.794   9.850
GetFlowJoLabels                    8.078  0.555   8.711
PlotPies                           7.838  0.765   8.737
PlotNode                           7.594  0.832   8.568
QueryStarPlot                      8.089  0.324   8.520
PlotVariable                       7.407  0.791   8.340
PlotNumbers                        7.221  0.702   8.046
CountGroups                        6.193  0.602   6.890
UpdateNodeSize                     6.467  0.277   6.830
PlotLabels                         6.034  0.644   6.760
GetFeatures                        6.057  0.468   6.601
PlotFlowSOM                        5.859  0.597   6.534
MetaclusterMFIs                    5.567  0.781   6.485
SaveClustersToFCS                  5.438  0.718   6.250
NMetaclusters                      5.291  0.746   6.110
MetaclusterCVs                     5.355  0.675   6.114
NClusters                          5.352  0.643   6.073
PlotOverview2D                     5.281  0.499   5.881
TestOutliers                       4.858  0.578   5.526
GetMFIs                            4.752  0.637   5.450
GetMetaclusterCVs                  4.601  0.625   5.304
GetMetaclusterPercentagesPositive  4.563  0.587   5.206
GetCounts                          4.677  0.461   5.188
GetPercentages                     4.547  0.587   5.208
GetMetaclusters                    4.593  0.538   5.222
GetMetaclusterMFIs                 4.541  0.552   5.153
print.FlowSOM                      4.421  0.646   5.158
* checking for unstated dependencies in vignettes ... OK
* checking package vignettes ... OK
* checking running R code from vignettes ... SKIPPED
* checking re-building of vignette outputs ... SKIPPED
* checking PDF version of manual ... OK
* DONE

Status: 2 NOTEs
See
  ‘/Users/biocbuild/bbs-3.23-bioc/meat/FlowSOM.Rcheck/00check.log’
for details.


Installation output

FlowSOM.Rcheck/00install.out

##############################################################################
##############################################################################
###
### Running command:
###
###   /Library/Frameworks/R.framework/Resources/bin/R CMD INSTALL FlowSOM
###
##############################################################################
##############################################################################


* installing to library ‘/Library/Frameworks/R.framework/Versions/4.6-x86_64/Resources/library’
* installing *source* package ‘FlowSOM’ ...
** this is package ‘FlowSOM’ version ‘2.19.0’
** using staged installation
** libs
using C compiler: ‘Apple clang version 14.0.3 (clang-1403.0.22.14.1)’
using SDK: ‘MacOSX11.3.1.sdk’
clang -arch x86_64 -I"/Library/Frameworks/R.framework/Resources/include" -DNDEBUG   -I/opt/R/x86_64/include    -fPIC  -falign-functions=64 -Wall -g -O2  -c som.c -o som.o
clang -arch x86_64 -dynamiclib -Wl,-headerpad_max_install_names -undefined dynamic_lookup -L/Library/Frameworks/R.framework/Resources/lib -L/opt/R/x86_64/lib -o FlowSOM.so som.o -F/Library/Frameworks/R.framework/.. -framework R
installing to /Library/Frameworks/R.framework/Versions/4.6-x86_64/Resources/library/00LOCK-FlowSOM/00new/FlowSOM/libs
** R
** inst
** byte-compile and prepare package for lazy loading
** help
*** installing help indices
** building package indices
** installing vignettes
** testing if installed package can be loaded from temporary location
** checking absolute paths in shared objects and dynamic libraries
** testing if installed package can be loaded from final location
** testing if installed package keeps a record of temporary installation path
* DONE (FlowSOM)

Tests output


Example timings

FlowSOM.Rcheck/FlowSOM-Ex.timings

nameusersystemelapsed
AddAnnotation 9.971 0.65410.738
AggregateFlowFrames0.1080.0060.117
BuildMST1.3670.0851.476
BuildSOM1.3520.0761.449
CountGroups6.1930.6026.890
FMeasure0.0010.0000.002
FlowSOM13.282 1.03214.483
FlowSOMSubset4.3790.4794.926
FlowSOMmary52.786 2.07855.129
GetChannels0.0430.0040.048
GetClusterMFIs4.3240.4554.836
GetClusterPercentagesPositive4.4040.5094.966
GetClusters4.3330.4474.826
GetCounts4.6770.4615.188
GetFeatures6.0570.4686.601
GetFlowJoLabels8.0780.5558.711
GetMFIs4.7520.6375.450
GetMarkers0.0460.0030.049
GetMetaclusterCVs4.6010.6255.304
GetMetaclusterMFIs4.5410.5525.153
GetMetaclusterPercentagesPositive4.5630.5875.206
GetMetaclusters4.5930.5385.222
GetPercentages4.5470.5875.208
GroupStats13.978 0.84414.991
Initialize_KWSP0.0040.0000.004
Initialize_PCA0.0010.0000.001
MetaClustering3.3240.5353.918
MetaclusterCVs5.3550.6756.114
MetaclusterMFIs5.5670.7816.485
NClusters5.3520.6436.073
NMetaclusters5.2910.7466.110
NewData4.0960.5044.686
Plot2DScatters10.430 0.68411.259
PlotCenters1.2980.0761.389
PlotClusters2D1.2090.0991.320
PlotDimRed39.628 2.17242.308
PlotFileScatters1.3050.0551.372
PlotFlowSOM5.8590.5976.534
PlotGroups12.018 1.02013.175
PlotLabels6.0340.6446.760
PlotManualBars8.9420.7949.850
PlotMarker19.956 1.11721.437
PlotNode7.5940.8328.568
PlotNumbers7.2210.7028.046
PlotOutliers35.782 0.89237.147
PlotOverview2D5.2810.4995.881
PlotPies7.8380.7658.737
PlotSD2.3150.1402.482
PlotStars16.732 0.99718.001
PlotVariable7.4070.7918.340
Purity0.0010.0010.001
QueryMultiple11.334 0.49912.015
QueryStarPlot8.0890.3248.520
ReadInput3.3460.5603.972
SaveClustersToFCS5.4380.7186.250
TestOutliers4.8580.5785.526
UpdateMetaclusters18.551 1.24420.098
UpdateNodeSize6.4670.2776.830
get_channels0.0410.0020.044
get_markers0.0420.0030.047
metaClustering_consensus2.6380.4943.186
plotStarLegend0.5200.0050.531
print.FlowSOM4.4210.6465.158
query_multiple10.664 0.42711.241