Back to Build/check report for BioC 3.23:   simplified   long
ABCDE[F]GHIJKLMNOPQRSTUVWXYZ

This page was generated on 2025-11-08 11:32 -0500 (Sat, 08 Nov 2025).

HostnameOSArch (*)R versionInstalled pkgs
nebbiolo1Linux (Ubuntu 24.04.3 LTS)x86_64R Under development (unstable) (2025-10-20 r88955) -- "Unsuffered Consequences" 4821
Click on any hostname to see more info about the system (e.g. compilers)      (*) as reported by 'uname -p', except on Windows and Mac OS X

Package 755/2323HostnameOS / ArchINSTALLBUILDCHECKBUILD BIN
FlowSOM 2.19.0  (landing page)
Sofie Van Gassen
Snapshot Date: 2025-11-07 13:40 -0500 (Fri, 07 Nov 2025)
git_url: https://git.bioconductor.org/packages/FlowSOM
git_branch: devel
git_last_commit: 3c00c1d
git_last_commit_date: 2025-10-29 10:23:19 -0500 (Wed, 29 Oct 2025)
nebbiolo1Linux (Ubuntu 24.04.3 LTS) / x86_64  OK    OK    OK  UNNEEDED, same version is already published


CHECK results for FlowSOM on nebbiolo1

To the developers/maintainers of the FlowSOM package:
- Allow up to 24 hours (and sometimes 48 hours) for your latest push to git@git.bioconductor.org:packages/FlowSOM.git to reflect on this report. See Troubleshooting Build Report for more information.
- Use the following Renviron settings to reproduce errors and warnings.
- If 'R CMD check' started to fail recently on the Linux builder(s) over a missing dependency, add the missing dependency to 'Suggests:' in your DESCRIPTION file. See Renviron.bioc for more information.

raw results


Summary

Package: FlowSOM
Version: 2.19.0
Command: /home/biocbuild/bbs-3.23-bioc/R/bin/R CMD check --install=check:FlowSOM.install-out.txt --library=/home/biocbuild/bbs-3.23-bioc/R/site-library --timings FlowSOM_2.19.0.tar.gz
StartedAt: 2025-11-07 23:39:25 -0500 (Fri, 07 Nov 2025)
EndedAt: 2025-11-07 23:49:42 -0500 (Fri, 07 Nov 2025)
EllapsedTime: 616.9 seconds
RetCode: 0
Status:   OK  
CheckDir: FlowSOM.Rcheck
Warnings: 0

Command output

##############################################################################
##############################################################################
###
### Running command:
###
###   /home/biocbuild/bbs-3.23-bioc/R/bin/R CMD check --install=check:FlowSOM.install-out.txt --library=/home/biocbuild/bbs-3.23-bioc/R/site-library --timings FlowSOM_2.19.0.tar.gz
###
##############################################################################
##############################################################################


* using log directory ‘/home/biocbuild/bbs-3.23-bioc/meat/FlowSOM.Rcheck’
* using R Under development (unstable) (2025-10-20 r88955)
* using platform: x86_64-pc-linux-gnu
* R was compiled by
    gcc (Ubuntu 13.3.0-6ubuntu2~24.04) 13.3.0
    GNU Fortran (Ubuntu 13.3.0-6ubuntu2~24.04) 13.3.0
* running under: Ubuntu 24.04.3 LTS
* using session charset: UTF-8
* checking for file ‘FlowSOM/DESCRIPTION’ ... OK
* this is package ‘FlowSOM’ version ‘2.19.0’
* package encoding: UTF-8
* checking package namespace information ... OK
* checking package dependencies ... OK
* checking if this is a source package ... OK
* checking if there is a namespace ... OK
* checking for hidden files and directories ... OK
* checking for portable file names ... OK
* checking for sufficient/correct file permissions ... OK
* checking whether package ‘FlowSOM’ can be installed ... OK
* used C compiler: ‘gcc (Ubuntu 13.3.0-6ubuntu2~24.04) 13.3.0’
* checking installed package size ... OK
* checking package directory ... OK
* checking ‘build’ directory ... OK
* checking DESCRIPTION meta-information ... OK
* checking top-level files ... OK
* checking for left-over files ... OK
* checking index information ... OK
* checking package subdirectories ... OK
* checking code files for non-ASCII characters ... OK
* checking R files for syntax errors ... OK
* checking whether the package can be loaded ... OK
* checking whether the package can be loaded with stated dependencies ... OK
* checking whether the package can be unloaded cleanly ... OK
* checking whether the namespace can be loaded with stated dependencies ... OK
* checking whether the namespace can be unloaded cleanly ... OK
* checking loading without being on the library search path ... OK
* checking whether startup messages can be suppressed ... OK
* checking dependencies in R code ... OK
* checking S3 generic/method consistency ... OK
* checking replacement functions ... OK
* checking foreign function calls ... OK
* checking R code for possible problems ... OK
* checking Rd files ... NOTE
checkRd: (-1) PlotDimRed.Rd:55: Lost braces
    55 | of the dimred default = function(dimred){dimred$Y}.}
       |                                         ^
* checking Rd metadata ... OK
* checking Rd cross-references ... NOTE
Non-topic package-anchored link(s) in Rd file 'pipe.Rd':
  ‘[magrittr:pipe]{%>%}’

See section 'Cross-references' in the 'Writing R Extensions' manual.
* checking for missing documentation entries ... OK
* checking for code/documentation mismatches ... OK
* checking Rd \usage sections ... OK
* checking Rd contents ... OK
* checking for unstated dependencies in examples ... OK
* checking line endings in C/C++/Fortran sources/headers ... OK
* checking compiled code ... INFO
Note: information on .o files is not available
* checking sizes of PDF files under ‘inst/doc’ ...* checking files in ‘vignettes’ ... OK
* checking examples ... OK
Examples with CPU (user + system) or elapsed time > 5s
                     user system elapsed
FlowSOMmary        51.414  0.304  51.387
PlotDimRed         45.031  0.192  45.205
PlotOutliers       30.962  0.069  31.031
PlotMarker         18.266  0.053  18.324
UpdateMetaclusters 15.695  0.039  15.735
PlotStars          14.392  0.061  14.454
GroupStats         12.107  0.067  12.176
PlotGroups         11.384  0.022  11.407
FlowSOM            11.018  0.030  11.048
QueryMultiple       9.887  0.017   9.907
query_multiple      9.688  0.013   9.702
Plot2DScatters      9.429  0.018   9.436
AddAnnotation       8.425  0.202   8.628
PlotPies            8.226  0.100   8.326
PlotManualBars      8.058  0.010   8.073
QueryStarPlot       7.939  0.009   7.947
GetFlowJoLabels     7.632  0.088   7.725
PlotNode            7.615  0.014   7.629
PlotNumbers         7.015  0.017   7.034
PlotVariable        6.729  0.049   6.780
UpdateNodeSize      6.213  0.004   6.217
PlotFlowSOM         5.727  0.046   5.773
SaveClustersToFCS   5.746  0.016   5.762
PlotOverview2D      5.583  0.060   5.643
CountGroups         5.572  0.063   5.637
PlotLabels          5.558  0.014   5.572
NMetaclusters       5.256  0.036   5.292
GetFeatures         5.180  0.045   5.225
NClusters           5.193  0.008   5.203
* checking for unstated dependencies in vignettes ... OK
* checking package vignettes ... OK
* checking re-building of vignette outputs ... OK
* checking PDF version of manual ... OK
* DONE

Status: 2 NOTEs
See
  ‘/home/biocbuild/bbs-3.23-bioc/meat/FlowSOM.Rcheck/00check.log’
for details.


Installation output

FlowSOM.Rcheck/00install.out

##############################################################################
##############################################################################
###
### Running command:
###
###   /home/biocbuild/bbs-3.23-bioc/R/bin/R CMD INSTALL FlowSOM
###
##############################################################################
##############################################################################


* installing to library ‘/home/biocbuild/bbs-3.23-bioc/R/site-library’
* installing *source* package ‘FlowSOM’ ...
** this is package ‘FlowSOM’ version ‘2.19.0’
** using staged installation
** libs
using C compiler: ‘gcc (Ubuntu 13.3.0-6ubuntu2~24.04) 13.3.0’
gcc -std=gnu2x -I"/home/biocbuild/bbs-3.23-bioc/R/include" -DNDEBUG   -I/usr/local/include    -fpic  -g -O2  -Wall -Werror=format-security -c som.c -o som.o
gcc -std=gnu2x -shared -L/home/biocbuild/bbs-3.23-bioc/R/lib -L/usr/local/lib -o FlowSOM.so som.o -L/home/biocbuild/bbs-3.23-bioc/R/lib -lR
installing to /home/biocbuild/bbs-3.23-bioc/R/site-library/00LOCK-FlowSOM/00new/FlowSOM/libs
** R
** inst
** byte-compile and prepare package for lazy loading
** help
*** installing help indices
** building package indices
** installing vignettes
** testing if installed package can be loaded from temporary location
** checking absolute paths in shared objects and dynamic libraries
** testing if installed package can be loaded from final location
** testing if installed package keeps a record of temporary installation path
* DONE (FlowSOM)

Tests output


Example timings

FlowSOM.Rcheck/FlowSOM-Ex.timings

nameusersystemelapsed
AddAnnotation8.4250.2028.628
AggregateFlowFrames0.0690.0070.076
BuildMST1.2850.0241.309
BuildSOM1.0240.0261.049
CountGroups5.5720.0635.637
FMeasure0.0020.0000.001
FlowSOM11.018 0.03011.048
FlowSOMSubset4.2110.0154.228
FlowSOMmary51.414 0.30451.387
GetChannels0.0260.0020.027
GetClusterMFIs4.0070.0174.024
GetClusterPercentagesPositive3.9680.0454.014
GetClusters4.1720.0304.203
GetCounts4.1930.0244.217
GetFeatures5.1800.0455.225
GetFlowJoLabels7.6320.0887.725
GetMFIs4.4400.0114.452
GetMarkers0.0280.0000.029
GetMetaclusterCVs4.2900.0474.337
GetMetaclusterMFIs4.4220.0344.457
GetMetaclusterPercentagesPositive4.7950.0704.866
GetMetaclusters4.3340.0124.348
GetPercentages4.4410.0434.485
GroupStats12.107 0.06712.176
Initialize_KWSP0.0040.0000.004
Initialize_PCA0.0010.0000.001
MetaClustering3.1340.0473.181
MetaclusterCVs4.5500.0094.560
MetaclusterMFIs4.8980.0634.962
NClusters5.1930.0085.203
NMetaclusters5.2560.0365.292
NewData3.6050.0073.612
Plot2DScatters9.4290.0189.436
PlotCenters1.0530.0011.054
PlotClusters2D1.0190.0311.051
PlotDimRed45.031 0.19245.205
PlotFileScatters1.1830.0071.190
PlotFlowSOM5.7270.0465.773
PlotGroups11.384 0.02211.407
PlotLabels5.5580.0145.572
PlotManualBars8.0580.0108.073
PlotMarker18.266 0.05318.324
PlotNode7.6150.0147.629
PlotNumbers7.0150.0177.034
PlotOutliers30.962 0.06931.031
PlotOverview2D5.5830.0605.643
PlotPies8.2260.1008.326
PlotSD1.9260.0161.943
PlotStars14.392 0.06114.454
PlotVariable6.7290.0496.780
Purity0.0010.0000.001
QueryMultiple9.8870.0179.907
QueryStarPlot7.9390.0097.947
ReadInput3.2500.0413.292
SaveClustersToFCS5.7460.0165.762
TestOutliers4.8930.0084.901
UpdateMetaclusters15.695 0.03915.735
UpdateNodeSize6.2130.0046.217
get_channels0.0290.0000.029
get_markers0.0460.0010.047
metaClustering_consensus2.2460.0062.252
plotStarLegend0.4690.0030.472
print.FlowSOM4.6460.0154.661
query_multiple9.6880.0139.702