Back to Multiple platform build/check report for BioC 3.22:   simplified   long
ABC[D]EFGHIJKLMNOPQRSTUVWXYZ

This page was generated on 2025-10-18 12:03 -0400 (Sat, 18 Oct 2025).

HostnameOSArch (*)R versionInstalled pkgs
nebbiolo2Linux (Ubuntu 24.04.3 LTS)x86_644.5.1 Patched (2025-08-23 r88802) -- "Great Square Root" 4887
lconwaymacOS 12.7.6 Montereyx86_644.5.1 Patched (2025-09-10 r88807) -- "Great Square Root" 4677
kjohnson3macOS 13.7.7 Venturaarm644.5.1 Patched (2025-09-10 r88807) -- "Great Square Root" 4622
taishanLinux (openEuler 24.03 LTS)aarch644.5.0 (2025-04-11) -- "How About a Twenty-Six" 4632
Click on any hostname to see more info about the system (e.g. compilers)      (*) as reported by 'uname -p', except on Windows and Mac OS X

Package 520/2353HostnameOS / ArchINSTALLBUILDCHECKBUILD BIN
DAPAR 1.41.0  (landing page)
Samuel Wieczorek
Snapshot Date: 2025-10-17 13:45 -0400 (Fri, 17 Oct 2025)
git_url: https://git.bioconductor.org/packages/DAPAR
git_branch: devel
git_last_commit: c47beab
git_last_commit_date: 2025-04-15 10:53:48 -0400 (Tue, 15 Apr 2025)
nebbiolo2Linux (Ubuntu 24.04.3 LTS) / x86_64  OK    OK    OK  UNNEEDED, same version is already published
lconwaymacOS 12.7.6 Monterey / x86_64  OK    OK    OK    OK  UNNEEDED, same version is already published
kjohnson3macOS 13.7.7 Ventura / arm64  OK    OK    OK    OK  UNNEEDED, same version is already published
taishanLinux (openEuler 24.03 LTS) / aarch64  OK    OK    OK  


CHECK results for DAPAR on nebbiolo2

To the developers/maintainers of the DAPAR package:
- Allow up to 24 hours (and sometimes 48 hours) for your latest push to git@git.bioconductor.org:packages/DAPAR.git to reflect on this report. See Troubleshooting Build Report for more information.
- Use the following Renviron settings to reproduce errors and warnings.
- If 'R CMD check' started to fail recently on the Linux builder(s) over a missing dependency, add the missing dependency to 'Suggests:' in your DESCRIPTION file. See Renviron.bioc for more information.

raw results


Summary

Package: DAPAR
Version: 1.41.0
Command: /home/biocbuild/bbs-3.22-bioc/R/bin/R CMD check --install=check:DAPAR.install-out.txt --library=/home/biocbuild/bbs-3.22-bioc/R/site-library --timings DAPAR_1.41.0.tar.gz
StartedAt: 2025-10-17 22:49:13 -0400 (Fri, 17 Oct 2025)
EndedAt: 2025-10-17 22:57:34 -0400 (Fri, 17 Oct 2025)
EllapsedTime: 500.4 seconds
RetCode: 0
Status:   OK  
CheckDir: DAPAR.Rcheck
Warnings: 0

Command output

##############################################################################
##############################################################################
###
### Running command:
###
###   /home/biocbuild/bbs-3.22-bioc/R/bin/R CMD check --install=check:DAPAR.install-out.txt --library=/home/biocbuild/bbs-3.22-bioc/R/site-library --timings DAPAR_1.41.0.tar.gz
###
##############################################################################
##############################################################################


* using log directory ‘/home/biocbuild/bbs-3.22-bioc/meat/DAPAR.Rcheck’
* using R version 4.5.1 Patched (2025-08-23 r88802)
* using platform: x86_64-pc-linux-gnu
* R was compiled by
    gcc (Ubuntu 13.3.0-6ubuntu2~24.04) 13.3.0
    GNU Fortran (Ubuntu 13.3.0-6ubuntu2~24.04) 13.3.0
* running under: Ubuntu 24.04.3 LTS
* using session charset: UTF-8
* checking for file ‘DAPAR/DESCRIPTION’ ... OK
* checking extension type ... Package
* this is package ‘DAPAR’ version ‘1.41.0’
* package encoding: UTF-8
* checking package namespace information ... OK
* checking package dependencies ... INFO
Vignette dependency required without any vignettes: ‘knitr’
* checking if this is a source package ... OK
* checking if there is a namespace ... OK
* checking for hidden files and directories ... OK
* checking for portable file names ... OK
* checking for sufficient/correct file permissions ... OK
* checking whether package ‘DAPAR’ can be installed ... OK
* checking installed package size ... OK
* checking package directory ... OK
* checking DESCRIPTION meta-information ... OK
* checking top-level files ... OK
* checking for left-over files ... OK
* checking index information ... OK
* checking package subdirectories ... OK
* checking code files for non-ASCII characters ... OK
* checking R files for syntax errors ... OK
* checking whether the package can be loaded ... OK
* checking whether the package can be loaded with stated dependencies ... OK
* checking whether the package can be unloaded cleanly ... OK
* checking whether the namespace can be loaded with stated dependencies ... OK
* checking whether the namespace can be unloaded cleanly ... OK
* checking loading without being on the library search path ... OK
* checking whether startup messages can be suppressed ... OK
* checking dependencies in R code ... OK
* checking S3 generic/method consistency ... OK
* checking replacement functions ... OK
* checking foreign function calls ... OK
* checking R code for possible problems ... NOTE
Check_Dataset_Validity: no visible global function definition for
  ‘exprs’
OWAnova: no visible global function definition for ‘aov’
aggregateIterParallel: no visible binding for global variable ‘cond’
averageIntensities: no visible binding for global variable ‘condition’
averageIntensities: no visible binding for global variable ‘feature’
averageIntensities: no visible binding for global variable ‘intensity’
createMSnset: no visible global function definition for
  ‘installed.packages’
createMSnset: no visible binding for global variable ‘Prostar.loc’
createMSnset2: no visible global function definition for
  ‘installed.packages’
createMSnset2: no visible binding for global variable ‘Prostar.loc’
diffAnaVolcanoplot_rCharts: no visible binding for global variable ‘x’
diffAnaVolcanoplot_rCharts: no visible binding for global variable ‘y’
diffAnaVolcanoplot_rCharts: no visible binding for global variable ‘g’
display.CC.visNet: no visible binding for global variable
  ‘layout_nicely’
getTextForGOAnalysis: no visible binding for global variable
  ‘textGOParams’
getTextForGOAnalysis: no visible binding for global variable ‘input’
globalAdjPval: no visible global function definition for ‘stack’
heatmapForMissingValues: no visible binding for global variable ‘par’
limmaCompleteTest: no visible binding for global variable ‘A’
limmaCompleteTest: no visible binding for global variable ‘B’
limmaCompleteTest: no visible binding for global variable ‘P.Value’
pepa.test: no visible global function definition for ‘nodes<-’
testAnovaModels : <anonymous>: no visible global function definition
  for ‘TukeyHSD’
visualizeClusters: no visible binding for global variable
  ‘adjusted_pvalues’
visualizeClusters: no visible binding for global variable ‘Condition’
visualizeClusters: no visible binding for global variable ‘Intensity’
visualizeClusters: no visible binding for global variable
  ‘FDR_threshold’
visualizeClusters: no visible binding for global variable ‘feature’
wrapperClassic1wayAnova: no visible binding for global variable
  ‘Pr(>F)1’
wrapperRunClustering: no visible global function definition for ‘str_c’
Undefined global functions or variables:
  A B Condition FDR_threshold Intensity P.Value Pr(>F)1 Prostar.loc
  TukeyHSD adjusted_pvalues aov cond condition exprs feature g input
  installed.packages intensity layout_nicely nodes<- par stack str_c
  textGOParams x y
Consider adding
  importFrom("graphics", "par")
  importFrom("stats", "TukeyHSD", "aov")
  importFrom("utils", "installed.packages", "stack")
to your NAMESPACE file.
* checking Rd files ... OK
* checking Rd metadata ... OK
* checking Rd cross-references ... OK
* checking for missing documentation entries ... OK
* checking for code/documentation mismatches ... OK
* checking Rd \usage sections ... OK
* checking Rd contents ... OK
* checking for unstated dependencies in examples ... OK
* checking examples ... OK
Examples with CPU (user + system) or elapsed time > 5s
                                   user system elapsed
wrapper.compareNormalizationD_HC 36.650 12.607  49.615
wrapper.dapar.impute.mi          13.082  0.323  13.421
barplotEnrichGO_HC                6.730  0.691   7.490
* checking for unstated dependencies in ‘tests’ ... OK
* checking tests ...
  Running ‘testthat.R’
 OK
* checking PDF version of manual ... OK
* DONE

Status: 1 NOTE
See
  ‘/home/biocbuild/bbs-3.22-bioc/meat/DAPAR.Rcheck/00check.log’
for details.


Installation output

DAPAR.Rcheck/00install.out

##############################################################################
##############################################################################
###
### Running command:
###
###   /home/biocbuild/bbs-3.22-bioc/R/bin/R CMD INSTALL DAPAR
###
##############################################################################
##############################################################################


* installing to library ‘/home/biocbuild/bbs-3.22-bioc/R/site-library’
* installing *source* package ‘DAPAR’ ...
** this is package ‘DAPAR’ version ‘1.41.0’
** using staged installation
** R
** inst
** byte-compile and prepare package for lazy loading
** help
*** installing help indices
** building package indices
** testing if installed package can be loaded from temporary location
** testing if installed package can be loaded from final location
** testing if installed package keeps a record of temporary installation path
* DONE (DAPAR)

Tests output

DAPAR.Rcheck/tests/testthat.Rout


R version 4.5.1 Patched (2025-08-23 r88802) -- "Great Square Root"
Copyright (C) 2025 The R Foundation for Statistical Computing
Platform: x86_64-pc-linux-gnu

R is free software and comes with ABSOLUTELY NO WARRANTY.
You are welcome to redistribute it under certain conditions.
Type 'license()' or 'licence()' for distribution details.

R is a collaborative project with many contributors.
Type 'contributors()' for more information and
'citation()' on how to cite R or R packages in publications.

Type 'demo()' for some demos, 'help()' for on-line help, or
'help.start()' for an HTML browser interface to help.
Type 'q()' to quit R.

> library(testthat)
> library(DAPAR)

This is the 'DAPAR' version 1.41.0.

  To get started, visit
    http://www.prostar-proteomics.org/


> 
> test_check("DAPAR")

 Iterations: 

 1 / 1  - Imputation MNAR OK - 
Imputation MCAR in progress - 
3 % - 6 % - 9 % - 12 % - 15 % - 18 % - 21 % - 24 % - 27 % - 30 % - 33 % - 36 % - 39 % - 42 % - 45 % - 48 % - 51 % - 54 % - 57 % - 60 % - 63 % - 66 % - 69 % - 72 % - 75 % - 78 % - 81 % - 84 % - 87 % - 90 % - 93 % - 96 % - 99 % - 
 Iterations: 

 1 / 1  - Imputation MNAR OK - 
Imputation MCAR in progress - 
3 % - 6 % - 9 % - 12 % - 15 % - 18 % - 21 % - 24 % - 27 % - 30 % - 33 % - 36 % - 39 % - 42 % - 45 % - 48 % - 51 % - 54 % - 57 % - 60 % - 63 % - 66 % - 69 % - 72 % - 75 % - 78 % - 81 % - 84 % - 87 % - 90 % - 93 % - 96 % - 99 % - 
 Imputation in condition  1 ...
 In progress: 10 % - 20 % - 30 % - 40 % - 50 % - 60 % - 70 % - 80 % - 90 % - 100 % - 
 Imputation in condition  2 ...
 In progress: 10 % - 20 % - 30 % - 40 % - 50 % - 60 % - 70 % - 80 % - 90 % - 100 % - [ FAIL 0 | WARN 17 | SKIP 0 | PASS 66 ]

[ FAIL 0 | WARN 17 | SKIP 0 | PASS 66 ]
> 
> proc.time()
   user  system elapsed 
 30.849   1.069  31.912 

Example timings

DAPAR.Rcheck/DAPAR-Ex.timings

nameusersystemelapsed
AggregateMetacell0.5890.0200.610
BuildAdjacencyMatrix0.4670.0060.473
BuildColumnToProteinDataset0.5240.0130.538
BuildMetaCell0.5680.0050.576
CVDistD_HC2.8060.0902.919
Children0.0040.0000.004
CountPep0.4610.0160.477
ExtendPalette0.0230.0000.023
GOAnalysisSave000
GetCC2.1340.0802.214
GetColorsForConditions0.4270.0080.435
GetDetailedNbPeptides0.4490.0060.455
GetDetailedNbPeptidesUsed000
GetIndices_BasedOnConditions0.4440.0090.452
GetIndices_MetacellFiltering0.4500.0060.456
GetIndices_WholeLine0.4460.0210.467
GetIndices_WholeMatrix0.4400.0150.455
GetKeyId0.4320.0090.442
GetMatAdj0.4710.0160.488
GetMetacell000
GetMetacellTags0.4400.0130.453
GetNbPeptidesUsed0.4400.0160.456
GetNbTags0.0010.0000.000
GetSoftAvailables000
GetTypeofData0.4350.0070.442
Get_AllComparisons0.2600.0070.267
GlobalQuantileAlignment0.4640.0130.477
GraphPepProt0.4550.0160.470
LH0000
LH0.lm000
LH1000
LH1.lm000
LOESS1.1440.0231.166
MeanCentering0.4590.0150.474
MetaCellFiltering0.5880.0120.601
MetacellFilteringScope000
Metacell_DIA_NN0.4680.0040.472
Metacell_generic0.3790.0020.381
Metacell_maxquant0.4000.0000.399
Metacell_proline0.3690.0000.369
NumericalFiltering0.4730.0090.483
NumericalgetIndicesOfLinesToRemove0.4390.0080.447
OWAnova0.0060.0000.005
QuantileCentering0.4560.0100.466
SetCC2.3520.0572.410
SetMatAdj0.4720.0100.482
Set_POV_MEC_tags0.4360.0110.447
StringBasedFiltering0.4660.0060.471
StringBasedFiltering20.4600.0110.470
SumByColumns1.2060.1251.330
SymFilteringOperators000
UpdateMetacellAfterImputation0.4530.0070.459
aggregateIter0.5820.0030.585
aggregateIterParallel000
aggregateMean0.5090.0130.522
aggregateSum0.5430.0020.545
aggregateTopn0.5010.0110.511
applyAnovasOnProteins0.1310.0030.133
averageIntensities0.4400.0460.487
barplotEnrichGO_HC6.7300.6917.490
barplotGroupGO_HC4.0480.2414.308
boxPlotD_HC0.2730.0260.300
buildGraph1.5450.0411.589
check.conditions0.4150.0090.424
check.design0.4190.0040.423
checkClusterability2.3081.0303.367
classic1wayAnova000
compareNormalizationD_HC0.1630.0100.173
compute.selection.table0.6210.0650.688
compute_t_tests0.9680.0931.064
corrMatrixD_HC0.5130.0280.541
createMSnset1.4830.0731.556
createMSnset21.4790.0391.519
dapar_hc_ExportMenu0.1110.0270.139
dapar_hc_chart0.0520.0050.056
deleteLinesFromIndices0.4770.0130.490
densityPlotD_HC2.4170.7243.160
diffAnaComputeAdjustedPValues0.2310.0130.245
diffAnaComputeFDR000
diffAnaGetSignificant0.2590.0230.283
diffAnaSave0.2410.0200.262
diffAnaVolcanoplot0.1800.0090.190
diffAnaVolcanoplot_rCharts0.3370.0320.371
display.CC.visNet1.6770.1641.844
enrich_GO3.9510.4134.370
finalizeAggregation000
findMECBlock0.5240.0110.535
formatHSDResults000
formatLimmaResult0.1740.0110.185
formatPHResults000
formatPHTResults000
fudge2LRT0.0000.0010.000
get.pep.prot.cc1.6090.1481.757
getDesignLevel0.4190.0200.439
getIndicesConditions0.4190.0140.433
getIndicesOfLinesToRemove0.4380.0150.453
getListNbValuesInLines0.4280.0190.448
getNumberOf0.4380.0130.451
getNumberOfEmptyLines0.4470.0240.472
getPourcentageOfMV0.4360.0190.456
getProcessingInfo0.4250.0090.434
getProteinsStats0.4550.0160.471
getQuantile4Imp0.1200.0080.128
getTextForAggregation000
getTextForAnaDiff0.0010.0000.000
getTextForFiltering000
getTextForGOAnalysis000
getTextForHypothesisTest0.0010.0000.000
getTextForNewDataset0.0010.0010.002
getTextForNormalization000
getTextForpeptideImputation000
getTextForproteinImputation000
globalAdjPval0.4260.0410.467
group_GO3.9540.3404.301
hc_logFC_DensityPlot0.6320.1570.792
hc_mvTypePlot20.8020.1510.956
heatmapD0.7040.0430.748
heatmapForMissingValues0.2000.0110.210
histPValue_HC0.2290.0190.249
impute.pa20.4860.0190.506
inner.aggregate.iter0.4890.0240.514
inner.aggregate.topn0.4650.0170.483
inner.mean0.4610.0120.473
inner.sum0.4840.0320.515
is.subset0.0010.0000.000
limmaCompleteTest1.2860.0691.355
listSheets000
make.contrast0.4450.0090.454
make.design.10.4510.0100.461
make.design.20.4570.0040.460
make.design.30.4540.0030.456
make.design0.4810.0150.497
match.metacell0.4620.0210.483
metacell.def0.0040.0000.004
metacellHisto_HC0.4920.0230.515
metacellPerLinesHistoPerCondition_HC0.5970.0210.618
metacellPerLinesHisto_HC0.6730.0500.724
metacombine0.1670.0060.173
mvImage2.0090.0882.098
my_hc_ExportMenu0.1130.0180.131
my_hc_chart0.1080.0220.131
nonzero0.0160.0000.017
normalizeMethods.dapar000
pepa.test0.4730.0110.484
pkgs.require000
plotJitter1.6550.1901.846
plotJitter_rCharts1.6160.0741.691
plotPCA_Eigen0.4940.0170.510
plotPCA_Eigen_hc0.4310.0040.435
plotPCA_Ind0.4280.0090.437
plotPCA_Var0.4230.0130.436
postHocTest000
proportionConRev_HC0.0390.0100.048
rbindMSnset0.4910.0290.520
reIntroduceMEC0.4740.0180.491
readExcel000
removeLines0.4570.0180.475
samLRT000
saveParameters0.4230.0090.432
scatterplotEnrichGO_HC3.8570.1904.052
search.metacell.tags0.0050.0020.007
separateAdjPval0.1940.0060.202
splitAdjacencyMat0.4670.0240.492
test.design0.4520.0070.460
testAnovaModels0.1380.0070.146
thresholdpval4fdr0.0010.0000.000
translatedRandomBeta0.0000.0020.002
univ_AnnotDbPkg0.1380.0160.154
violinPlotD0.3260.0130.340
visualizeClusters1.2830.1091.397
vsn0.6630.0130.676
wrapper.CVDistD_HC1.6060.4082.028
wrapper.compareNormalizationD_HC36.65012.60749.615
wrapper.corrMatrixD_HC0.5150.0230.539
wrapper.dapar.impute.mi13.082 0.32313.421
wrapper.heatmapD0.6350.0170.652
wrapper.impute.KNN0.4520.0200.473
wrapper.impute.detQuant0.4960.0170.513
wrapper.impute.fixedValue0.5160.0260.543
wrapper.impute.mle0.4630.0130.476
wrapper.impute.pa0.1540.0060.161
wrapper.impute.pa20.4580.0210.480
wrapper.impute.slsa0.5810.0320.613
wrapper.mvImage0.1690.0120.182
wrapper.normalizeD0.4840.0090.493
wrapper.pca0.1640.0120.177
wrapperCalibrationPlot0.1940.0200.215
wrapperClassic1wayAnova000
wrapperRunClustering1.9720.1892.166
write.excel0.8030.0680.873
writeMSnsetToCSV0.4480.0130.462
writeMSnsetToExcel0.9140.1161.034