Back to Multiple platform build/check report for BioC 3.23:   simplified   long
ABC[D]EFGHIJKLMNOPQRSTUVWXYZ

This page was generated on 2025-11-26 11:39 -0500 (Wed, 26 Nov 2025).

HostnameOSArch (*)R versionInstalled pkgs
nebbiolo1Linux (Ubuntu 24.04.3 LTS)x86_64R Under development (unstable) (2025-10-20 r88955) -- "Unsuffered Consequences" 4830
lconwaymacOS 12.7.6 Montereyx86_64R Under development (unstable) (2025-10-21 r88958) -- "Unsuffered Consequences" 4609
kjohnson3macOS 13.7.7 Venturaarm64R Under development (unstable) (2025-11-04 r88984) -- "Unsuffered Consequences" 4569
Click on any hostname to see more info about the system (e.g. compilers)      (*) as reported by 'uname -p', except on Windows and Mac OS X

Package 515/2328HostnameOS / ArchINSTALLBUILDCHECKBUILD BIN
DAPAR 1.43.0  (landing page)
Samuel Wieczorek
Snapshot Date: 2025-11-25 13:40 -0500 (Tue, 25 Nov 2025)
git_url: https://git.bioconductor.org/packages/DAPAR
git_branch: devel
git_last_commit: 47a1b73
git_last_commit_date: 2025-10-29 10:28:00 -0500 (Wed, 29 Oct 2025)
nebbiolo1Linux (Ubuntu 24.04.3 LTS) / x86_64  OK    OK    OK  UNNEEDED, same version is already published
lconwaymacOS 12.7.6 Monterey / x86_64  OK    OK    ERROR    OK  
kjohnson3macOS 13.7.7 Ventura / arm64  OK    OK    OK    OK  YES


CHECK results for DAPAR on kjohnson3

To the developers/maintainers of the DAPAR package:
- Allow up to 24 hours (and sometimes 48 hours) for your latest push to git@git.bioconductor.org:packages/DAPAR.git to reflect on this report. See Troubleshooting Build Report for more information.
- Use the following Renviron settings to reproduce errors and warnings.
- If 'R CMD check' started to fail recently on the Linux builder(s) over a missing dependency, add the missing dependency to 'Suggests:' in your DESCRIPTION file. See Renviron.bioc for more information.

raw results


Summary

Package: DAPAR
Version: 1.43.0
Command: /Library/Frameworks/R.framework/Resources/bin/R CMD check --install=check:DAPAR.install-out.txt --library=/Library/Frameworks/R.framework/Resources/library --no-vignettes --timings DAPAR_1.43.0.tar.gz
StartedAt: 2025-11-25 19:26:19 -0500 (Tue, 25 Nov 2025)
EndedAt: 2025-11-25 19:32:30 -0500 (Tue, 25 Nov 2025)
EllapsedTime: 371.5 seconds
RetCode: 0
Status:   OK  
CheckDir: DAPAR.Rcheck
Warnings: 0

Command output

##############################################################################
##############################################################################
###
### Running command:
###
###   /Library/Frameworks/R.framework/Resources/bin/R CMD check --install=check:DAPAR.install-out.txt --library=/Library/Frameworks/R.framework/Resources/library --no-vignettes --timings DAPAR_1.43.0.tar.gz
###
##############################################################################
##############################################################################


* using log directory ‘/Users/biocbuild/bbs-3.23-bioc/meat/DAPAR.Rcheck’
* using R Under development (unstable) (2025-11-04 r88984)
* using platform: aarch64-apple-darwin20
* R was compiled by
    Apple clang version 16.0.0 (clang-1600.0.26.6)
    GNU Fortran (GCC) 14.2.0
* running under: macOS Ventura 13.7.8
* using session charset: UTF-8
* using option ‘--no-vignettes’
* checking for file ‘DAPAR/DESCRIPTION’ ... OK
* checking extension type ... Package
* this is package ‘DAPAR’ version ‘1.43.0’
* package encoding: UTF-8
* checking package namespace information ... OK
* checking package dependencies ... INFO
Vignette dependency required without any vignettes: ‘knitr’
* checking if this is a source package ... OK
* checking if there is a namespace ... OK
* checking for hidden files and directories ... OK
* checking for portable file names ... OK
* checking for sufficient/correct file permissions ... OK
* checking whether package ‘DAPAR’ can be installed ... OK
* checking installed package size ... OK
* checking package directory ... OK
* checking DESCRIPTION meta-information ... OK
* checking top-level files ... OK
* checking for left-over files ... OK
* checking index information ... OK
* checking package subdirectories ... OK
* checking code files for non-ASCII characters ... OK
* checking R files for syntax errors ... OK
* checking whether the package can be loaded ... OK
* checking whether the package can be loaded with stated dependencies ... OK
* checking whether the package can be unloaded cleanly ... OK
* checking whether the namespace can be loaded with stated dependencies ... OK
* checking whether the namespace can be unloaded cleanly ... OK
* checking whether startup messages can be suppressed ... OK
* checking dependencies in R code ... OK
* checking S3 generic/method consistency ... OK
* checking replacement functions ... OK
* checking foreign function calls ... OK
* checking R code for possible problems ... NOTE
Check_Dataset_Validity: no visible global function definition for
  ‘exprs’
OWAnova: no visible global function definition for ‘aov’
aggregateIterParallel: no visible binding for global variable ‘cond’
averageIntensities: no visible binding for global variable ‘condition’
averageIntensities: no visible binding for global variable ‘feature’
averageIntensities: no visible binding for global variable ‘intensity’
createMSnset: no visible global function definition for
  ‘installed.packages’
createMSnset: no visible binding for global variable ‘Prostar.loc’
createMSnset2: no visible global function definition for
  ‘installed.packages’
createMSnset2: no visible binding for global variable ‘Prostar.loc’
diffAnaVolcanoplot_rCharts: no visible binding for global variable ‘x’
diffAnaVolcanoplot_rCharts: no visible binding for global variable ‘y’
diffAnaVolcanoplot_rCharts: no visible binding for global variable ‘g’
display.CC.visNet: no visible binding for global variable
  ‘layout_nicely’
getTextForGOAnalysis: no visible binding for global variable
  ‘textGOParams’
getTextForGOAnalysis: no visible binding for global variable ‘input’
globalAdjPval: no visible global function definition for ‘stack’
heatmapForMissingValues: no visible binding for global variable ‘par’
limmaCompleteTest: no visible binding for global variable ‘A’
limmaCompleteTest: no visible binding for global variable ‘B’
limmaCompleteTest: no visible binding for global variable ‘P.Value’
pepa.test: no visible global function definition for ‘nodes<-’
testAnovaModels : <anonymous>: no visible global function definition
  for ‘TukeyHSD’
visualizeClusters: no visible binding for global variable
  ‘adjusted_pvalues’
visualizeClusters: no visible binding for global variable ‘Condition’
visualizeClusters: no visible binding for global variable ‘Intensity’
visualizeClusters: no visible binding for global variable
  ‘FDR_threshold’
visualizeClusters: no visible binding for global variable ‘feature’
wrapperClassic1wayAnova: no visible binding for global variable
  ‘Pr(>F)1’
wrapperRunClustering: no visible global function definition for ‘str_c’
Undefined global functions or variables:
  A B Condition FDR_threshold Intensity P.Value Pr(>F)1 Prostar.loc
  TukeyHSD adjusted_pvalues aov cond condition exprs feature g input
  installed.packages intensity layout_nicely nodes<- par stack str_c
  textGOParams x y
Consider adding
  importFrom("graphics", "par")
  importFrom("stats", "TukeyHSD", "aov")
  importFrom("utils", "installed.packages", "stack")
to your NAMESPACE file.
* checking Rd files ... OK
* checking Rd metadata ... OK
* checking Rd cross-references ... OK
* checking for missing documentation entries ... OK
* checking for code/documentation mismatches ... OK
* checking Rd \usage sections ... OK
* checking Rd contents ... OK
* checking for unstated dependencies in examples ... OK
* checking examples ... OK
Examples with CPU (user + system) or elapsed time > 5s
                                   user system elapsed
wrapper.compareNormalizationD_HC 18.575 14.910 126.357
wrapper.dapar.impute.mi           5.576  0.743   9.151
barplotEnrichGO_HC                3.661  0.857   8.430
* checking for unstated dependencies in ‘tests’ ... OK
* checking tests ...
  Running ‘testthat.R’
 OK
* checking PDF version of manual ... OK
* DONE

Status: 1 NOTE
See
  ‘/Users/biocbuild/bbs-3.23-bioc/meat/DAPAR.Rcheck/00check.log’
for details.


Installation output

DAPAR.Rcheck/00install.out

##############################################################################
##############################################################################
###
### Running command:
###
###   /Library/Frameworks/R.framework/Resources/bin/R CMD INSTALL DAPAR
###
##############################################################################
##############################################################################


* installing to library ‘/Library/Frameworks/R.framework/Versions/4.6-arm64/Resources/library’
* installing *source* package ‘DAPAR’ ...
** this is package ‘DAPAR’ version ‘1.43.0’
** using staged installation
** R
** inst
** byte-compile and prepare package for lazy loading
** help
*** installing help indices
** building package indices
** testing if installed package can be loaded from temporary location
** testing if installed package can be loaded from final location
** testing if installed package keeps a record of temporary installation path
* DONE (DAPAR)

Tests output

DAPAR.Rcheck/tests/testthat.Rout


R Under development (unstable) (2025-11-04 r88984) -- "Unsuffered Consequences"
Copyright (C) 2025 The R Foundation for Statistical Computing
Platform: aarch64-apple-darwin20

R is free software and comes with ABSOLUTELY NO WARRANTY.
You are welcome to redistribute it under certain conditions.
Type 'license()' or 'licence()' for distribution details.

R is a collaborative project with many contributors.
Type 'contributors()' for more information and
'citation()' on how to cite R or R packages in publications.

Type 'demo()' for some demos, 'help()' for on-line help, or
'help.start()' for an HTML browser interface to help.
Type 'q()' to quit R.

> library(testthat)
> library(DAPAR)

This is the 'DAPAR' version 1.43.0.

  To get started, visit
    http://www.prostar-proteomics.org/


> 
> test_check("DAPAR")

 Iterations: 

 1 / 1  - Imputation MNAR OK - 
Imputation MCAR in progress - 
3 % - 6 % - 9 % - 12 % - 15 % - 18 % - 21 % - 24 % - 27 % - 30 % - 33 % - 36 % - 39 % - 42 % - 45 % - 48 % - 51 % - 54 % - 57 % - 60 % - 63 % - 66 % - 69 % - 72 % - 75 % - 78 % - 81 % - 84 % - 87 % - 90 % - 93 % - 96 % - 99 % - 
 Iterations: 

 1 / 1  - Imputation MNAR OK - 
Imputation MCAR in progress - 
3 % - 6 % - 9 % - 12 % - 15 % - 18 % - 21 % - 24 % - 27 % - 30 % - 33 % - 36 % - 39 % - 42 % - 45 % - 48 % - 51 % - 54 % - 57 % - 60 % - 63 % - 66 % - 69 % - 72 % - 75 % - 78 % - 81 % - 84 % - 87 % - 90 % - 93 % - 96 % - 99 % - 
 Imputation in condition  1 ...
 In progress: 10 % - 20 % - 30 % - 40 % - 50 % - 60 % - 70 % - 80 % - 90 % - 100 % - 
 Imputation in condition  2 ...
 In progress: 10 % - 20 % - 30 % - 40 % - 50 % - 60 % - 70 % - 80 % - 90 % - 100 % - [ FAIL 0 | WARN 18 | SKIP 9 | PASS 66 ]

══ Skipped tests (9) ═══════════════════════════════════════════════════════════
• empty test (9): , , , , , , , ,

[ FAIL 0 | WARN 18 | SKIP 9 | PASS 66 ]
> 
> proc.time()
   user  system elapsed 
 13.518   0.702  14.872 

Example timings

DAPAR.Rcheck/DAPAR-Ex.timings

nameusersystemelapsed
AggregateMetacell0.2350.0070.260
BuildAdjacencyMatrix0.2010.0030.215
BuildColumnToProteinDataset0.2380.0030.246
BuildMetaCell0.7140.0140.751
CVDistD_HC0.8810.0780.979
Children0.0010.0000.002
CountPep0.2360.0030.245
ExtendPalette0.0070.0010.009
GOAnalysisSave0.0000.0000.001
GetCC1.1690.0131.280
GetColorsForConditions0.1880.0020.212
GetDetailedNbPeptides0.2120.0020.219
GetDetailedNbPeptidesUsed000
GetIndices_BasedOnConditions0.2180.0020.223
GetIndices_MetacellFiltering0.2210.0020.225
GetIndices_WholeLine0.2400.0030.246
GetIndices_WholeMatrix0.2120.0030.219
GetKeyId0.2050.0030.213
GetMatAdj0.2090.0020.212
GetMetacell000
GetMetacellTags0.1960.0020.205
GetNbPeptidesUsed0.2170.0020.222
GetNbTags000
GetSoftAvailables0.0000.0000.001
GetTypeofData0.2050.0020.207
Get_AllComparisons0.1230.0050.127
GlobalQuantileAlignment0.2140.0020.220
GraphPepProt0.2180.0030.225
LH0000
LH0.lm000
LH1000
LH1.lm000
LOESS0.5430.0100.557
MeanCentering0.2160.0040.223
MetaCellFiltering0.2880.0030.292
MetacellFilteringScope000
Metacell_DIA_NN0.2720.0080.286
Metacell_generic0.2240.0070.233
Metacell_maxquant0.1920.0050.207
Metacell_proline0.1790.0060.193
NumericalFiltering0.2180.0020.226
NumericalgetIndicesOfLinesToRemove0.2120.0020.220
OWAnova0.0030.0010.003
QuantileCentering0.2040.0030.216
SetCC1.0760.0031.223
SetMatAdj0.2010.0020.224
Set_POV_MEC_tags0.1900.0030.205
StringBasedFiltering0.2270.0040.248
StringBasedFiltering20.2240.0030.229
SumByColumns0.5640.0170.593
SymFilteringOperators000
UpdateMetacellAfterImputation0.2060.0020.219
aggregateIter0.2770.0040.286
aggregateIterParallel000
aggregateMean0.2320.0020.248
aggregateSum0.2380.0030.263
aggregateTopn0.2270.0030.256
applyAnovasOnProteins0.0730.0020.077
averageIntensities0.3070.0570.552
barplotEnrichGO_HC3.6610.8578.430
barplotGroupGO_HC2.7170.3064.702
boxPlotD_HC0.1520.0460.661
buildGraph0.7760.0130.941
check.conditions0.1890.0020.200
check.design0.2100.0020.217
checkClusterability2.0201.3103.443
classic1wayAnova000
compareNormalizationD_HC0.1030.0330.144
compute.selection.table0.4870.0970.607
compute_t_tests0.7950.1270.975
corrMatrixD_HC0.2800.0410.335
createMSnset0.8310.0541.091
createMSnset20.7550.0520.962
dapar_hc_ExportMenu0.0450.0550.266
dapar_hc_chart0.0210.0190.118
deleteLinesFromIndices0.2120.0090.342
densityPlotD_HC1.8360.8602.801
diffAnaComputeAdjustedPValues0.1280.0240.163
diffAnaComputeFDR000
diffAnaGetSignificant0.1760.0310.213
diffAnaSave0.1880.0330.234
diffAnaVolcanoplot0.1200.0130.135
diffAnaVolcanoplot_rCharts0.2520.0690.337
display.CC.visNet0.8920.0421.107
enrich_GO2.2790.3033.531
finalizeAggregation000
findMECBlock0.2140.0040.252
formatHSDResults000
formatLimmaResult0.1110.0150.133
formatPHResults000
formatPHTResults000
fudge2LRT000
get.pep.prot.cc0.8340.0100.879
getDesignLevel0.1850.0020.206
getIndicesConditions0.1860.0030.198
getIndicesOfLinesToRemove0.1940.0060.279
getListNbValuesInLines0.2200.0030.233
getNumberOf0.2110.0080.222
getNumberOfEmptyLines0.2290.0060.242
getPourcentageOfMV0.2110.0060.219
getProcessingInfo0.2010.0030.229
getProteinsStats0.2360.0080.252
getQuantile4Imp0.0660.0020.068
getTextForAggregation0.0010.0000.001
getTextForAnaDiff000
getTextForFiltering000
getTextForGOAnalysis0.0000.0010.000
getTextForHypothesisTest000
getTextForNewDataset0.0010.0000.002
getTextForNormalization0.0000.0000.001
getTextForpeptideImputation000
getTextForproteinImputation0.0000.0010.000
globalAdjPval0.2950.0310.344
group_GO2.7460.3463.218
hc_logFC_DensityPlot0.5300.2360.807
hc_mvTypePlot20.5800.1690.780
heatmapD0.3900.0340.438
heatmapForMissingValues0.1370.0140.157
histPValue_HC0.1910.0450.484
impute.pa20.2310.0160.355
inner.aggregate.iter0.2920.0150.317
inner.aggregate.topn0.2740.0110.292
inner.mean0.2680.0090.282
inner.sum0.2550.0090.266
is.subset0.0010.0000.001
limmaCompleteTest0.9350.0421.005
listSheets0.0000.0010.000
make.contrast0.2410.0040.247
make.design.10.2340.0030.245
make.design.20.2480.0050.258
make.design.30.2530.0050.262
make.design0.2500.0060.262
match.metacell0.2570.0090.270
metacell.def0.0040.0020.006
metacellHisto_HC0.2890.0420.334
metacellPerLinesHistoPerCondition_HC0.3700.0880.468
metacellPerLinesHisto_HC0.4320.1840.640
metacombine0.1270.0090.142
mvImage1.4040.0981.587
my_hc_ExportMenu0.0420.0530.272
my_hc_chart0.0460.0520.296
nonzero0.0080.0000.012
normalizeMethods.dapar0.0000.0010.000
pepa.test0.2070.0040.259
pkgs.require0.0010.0000.000
plotJitter0.8540.0180.953
plotJitter_rCharts0.7490.0371.138
plotPCA_Eigen0.2690.0250.319
plotPCA_Eigen_hc0.2050.0030.219
plotPCA_Ind0.1980.0030.235
plotPCA_Var0.2350.0030.257
postHocTest000
proportionConRev_HC0.0340.0320.071
rbindMSnset0.2940.0210.325
reIntroduceMEC0.2700.0150.290
readExcel000
removeLines0.2640.0130.280
samLRT000
saveParameters0.2180.0050.226
scatterplotEnrichGO_HC2.1480.2554.037
search.metacell.tags0.0020.0000.003
separateAdjPval0.0870.0040.141
splitAdjacencyMat0.2510.0080.261
test.design0.2500.0050.281
testAnovaModels0.0780.0040.092
thresholdpval4fdr000
translatedRandomBeta0.0010.0050.006
univ_AnnotDbPkg0.1760.0460.235
violinPlotD0.1950.0140.215
visualizeClusters1.0540.1341.230
vsn0.4480.0180.484
wrapper.CVDistD_HC1.0900.5494.312
wrapper.compareNormalizationD_HC 18.575 14.910126.357
wrapper.corrMatrixD_HC0.3510.0590.444
wrapper.dapar.impute.mi5.5760.7439.151
wrapper.heatmapD0.3100.0360.371
wrapper.impute.KNN0.2700.0150.298
wrapper.impute.detQuant0.3100.0270.356
wrapper.impute.fixedValue0.2900.0170.324
wrapper.impute.mle0.2420.0110.258
wrapper.impute.pa0.0840.0100.099
wrapper.impute.pa20.2450.0110.261
wrapper.impute.slsa0.3230.0290.376
wrapper.mvImage0.1100.0120.125
wrapper.normalizeD0.2300.0060.243
wrapper.pca0.1040.0150.126
wrapperCalibrationPlot0.1310.0160.150
wrapperClassic1wayAnova000
wrapperRunClustering1.4940.2631.831
write.excel0.4880.0990.602
writeMSnsetToCSV0.2330.0130.256
writeMSnsetToExcel0.6200.1460.792