Back to Multiple platform build/check report for BioC 3.23:   simplified   long
A[B]CDEFGHIJKLMNOPQRSTUVWXYZ

This page was generated on 2025-11-20 11:37 -0500 (Thu, 20 Nov 2025).

HostnameOSArch (*)R versionInstalled pkgs
nebbiolo1Linux (Ubuntu 24.04.3 LTS)x86_64R Under development (unstable) (2025-10-20 r88955) -- "Unsuffered Consequences" 4827
lconwaymacOS 12.7.6 Montereyx86_64R Under development (unstable) (2025-10-21 r88958) -- "Unsuffered Consequences" 4600
kjohnson3macOS 13.7.7 Venturaarm64R Under development (unstable) (2025-11-04 r88984) -- "Unsuffered Consequences" 4564
Click on any hostname to see more info about the system (e.g. compilers)      (*) as reported by 'uname -p', except on Windows and Mac OS X

Package 254/2325HostnameOS / ArchINSTALLBUILDCHECKBUILD BIN
BulkSignalR 1.3.1  (landing page)
Jean-Philippe Villemin
Snapshot Date: 2025-11-19 13:40 -0500 (Wed, 19 Nov 2025)
git_url: https://git.bioconductor.org/packages/BulkSignalR
git_branch: devel
git_last_commit: e236c5a
git_last_commit_date: 2025-11-08 17:09:36 -0500 (Sat, 08 Nov 2025)
nebbiolo1Linux (Ubuntu 24.04.3 LTS) / x86_64  OK    OK    OK  UNNEEDED, same version is already published
lconwaymacOS 12.7.6 Monterey / x86_64  OK    OK    OK    OK  UNNEEDED, same version is already published
kjohnson3macOS 13.7.7 Ventura / arm64  OK    OK    OK    OK  UNNEEDED, same version is already published


CHECK results for BulkSignalR on nebbiolo1

To the developers/maintainers of the BulkSignalR package:
- Allow up to 24 hours (and sometimes 48 hours) for your latest push to git@git.bioconductor.org:packages/BulkSignalR.git to reflect on this report. See Troubleshooting Build Report for more information.
- Use the following Renviron settings to reproduce errors and warnings.
- If 'R CMD check' started to fail recently on the Linux builder(s) over a missing dependency, add the missing dependency to 'Suggests:' in your DESCRIPTION file. See Renviron.bioc for more information.

raw results


Summary

Package: BulkSignalR
Version: 1.3.1
Command: /home/biocbuild/bbs-3.23-bioc/R/bin/R CMD check --install=check:BulkSignalR.install-out.txt --library=/home/biocbuild/bbs-3.23-bioc/R/site-library --timings BulkSignalR_1.3.1.tar.gz
StartedAt: 2025-11-19 21:41:27 -0500 (Wed, 19 Nov 2025)
EndedAt: 2025-11-19 21:52:08 -0500 (Wed, 19 Nov 2025)
EllapsedTime: 640.8 seconds
RetCode: 0
Status:   OK  
CheckDir: BulkSignalR.Rcheck
Warnings: 0

Command output

##############################################################################
##############################################################################
###
### Running command:
###
###   /home/biocbuild/bbs-3.23-bioc/R/bin/R CMD check --install=check:BulkSignalR.install-out.txt --library=/home/biocbuild/bbs-3.23-bioc/R/site-library --timings BulkSignalR_1.3.1.tar.gz
###
##############################################################################
##############################################################################


* using log directory ‘/home/biocbuild/bbs-3.23-bioc/meat/BulkSignalR.Rcheck’
* using R Under development (unstable) (2025-10-20 r88955)
* using platform: x86_64-pc-linux-gnu
* R was compiled by
    gcc (Ubuntu 13.3.0-6ubuntu2~24.04) 13.3.0
    GNU Fortran (Ubuntu 13.3.0-6ubuntu2~24.04) 13.3.0
* running under: Ubuntu 24.04.3 LTS
* using session charset: UTF-8
* checking for file ‘BulkSignalR/DESCRIPTION’ ... OK
* checking extension type ... Package
* this is package ‘BulkSignalR’ version ‘1.3.1’
* package encoding: UTF-8
* checking package namespace information ... OK
* checking package dependencies ... INFO
Imports includes 26 non-default packages.
Importing from so many packages makes the package vulnerable to any of
them becoming unavailable.  Move as many as possible to Suggests and
use conditionally.
* checking if this is a source package ... OK
* checking if there is a namespace ... OK
* checking for hidden files and directories ... OK
* checking for portable file names ... OK
* checking for sufficient/correct file permissions ... OK
* checking whether package ‘BulkSignalR’ can be installed ... OK
* checking installed package size ... OK
* checking package directory ... OK
* checking ‘build’ directory ... OK
* checking DESCRIPTION meta-information ... OK
* checking top-level files ... OK
* checking for left-over files ... OK
* checking index information ... OK
* checking package subdirectories ... OK
* checking code files for non-ASCII characters ... OK
* checking R files for syntax errors ... OK
* checking whether the package can be loaded ... OK
* checking whether the package can be loaded with stated dependencies ... OK
* checking whether the package can be unloaded cleanly ... OK
* checking whether the namespace can be loaded with stated dependencies ... OK
* checking whether the namespace can be unloaded cleanly ... OK
* checking loading without being on the library search path ... OK
* checking whether startup messages can be suppressed ... OK
* checking dependencies in R code ... OK
* checking S3 generic/method consistency ... OK
* checking replacement functions ... OK
* checking foreign function calls ... OK
* checking R code for possible problems ... OK
* checking Rd files ... OK
* checking Rd metadata ... OK
* checking Rd cross-references ... OK
* checking for missing documentation entries ... OK
* checking for code/documentation mismatches ... OK
* checking Rd \usage sections ... OK
* checking Rd contents ... OK
* checking for unstated dependencies in examples ... OK
* checking contents of ‘data’ directory ... OK
* checking data for non-ASCII characters ... OK
* checking data for ASCII and uncompressed saves ... OK
* checking files in ‘vignettes’ ... OK
* checking examples ... OK
Examples with CPU (user + system) or elapsed time > 5s
               user system elapsed
simpleHeatmap 6.755  0.607   7.362
cacheClear    3.295  0.073   5.777
* checking for unstated dependencies in ‘tests’ ... OK
* checking tests ...
  Running ‘testthat.R’
 OK
* checking for unstated dependencies in vignettes ... OK
* checking package vignettes ... OK
* checking re-building of vignette outputs ... OK
* checking PDF version of manual ... OK
* DONE

Status: OK


Installation output

BulkSignalR.Rcheck/00install.out

##############################################################################
##############################################################################
###
### Running command:
###
###   /home/biocbuild/bbs-3.23-bioc/R/bin/R CMD INSTALL BulkSignalR
###
##############################################################################
##############################################################################


* installing to library ‘/home/biocbuild/bbs-3.23-bioc/R/site-library’
* installing *source* package ‘BulkSignalR’ ...
** this is package ‘BulkSignalR’ version ‘1.3.1’
** using staged installation
** R
** data
** inst
** byte-compile and prepare package for lazy loading
** help
*** installing help indices
*** copying figures
** building package indices
** installing vignettes
** testing if installed package can be loaded from temporary location
** testing if installed package can be loaded from final location
** testing if installed package keeps a record of temporary installation path
* DONE (BulkSignalR)

Tests output

BulkSignalR.Rcheck/tests/testthat.Rout


R Under development (unstable) (2025-10-20 r88955) -- "Unsuffered Consequences"
Copyright (C) 2025 The R Foundation for Statistical Computing
Platform: x86_64-pc-linux-gnu

R is free software and comes with ABSOLUTELY NO WARRANTY.
You are welcome to redistribute it under certain conditions.
Type 'license()' or 'licence()' for distribution details.

R is a collaborative project with many contributors.
Type 'contributors()' for more information and
'citation()' on how to cite R or R packages in publications.

Type 'demo()' for some demos, 'help()' for on-line help, or
'help.start()' for an HTML browser interface to help.
Type 'q()' to quit R.

> library(testthat)
> library(BulkSignalR)
Local "resources" are up to date.

> test_check("BulkSignalR")
[ FAIL 0 | WARN 0 | SKIP 0 | PASS 1 ]
> 
> proc.time()
   user  system elapsed 
 14.060   0.804  15.902 

Example timings

BulkSignalR.Rcheck/BulkSignalR-Ex.timings

nameusersystemelapsed
BSRClusterComp-class0.0010.0010.003
BSRClusterComp0.2430.0110.254
BSRDataModel-class0.0370.0030.040
BSRDataModel0.1530.0010.154
BSRDataModelComp-class0.0040.0000.005
BSRDataModelComp0.1520.0050.157
BSRInference-class0.0050.0000.004
BSRInference3.1420.1403.283
BSRInferenceComp-class0.0060.0000.006
BSRInferenceComp1.0900.0691.159
BSRSignature-class0.0020.0000.002
BSRSignature0.0280.0000.028
BSRSignatureComp-class0.0030.0000.004
BSRSignatureComp0.0120.0000.013
LRinter0.0010.0000.001
LRinterScore0.0030.0010.003
LRinterShort0.0020.0000.003
addClusterComp0.2050.0020.208
alluvialPlot0.5520.0020.555
assignCellTypesToInteractions0.6420.0000.643
bubblePlotPathwaysLR0.4560.0010.457
cacheClear3.2950.0735.777
cacheInfo0.0880.0030.091
cacheVersion0.2400.0110.638
cellTypeFrequency0.6590.0290.689
cellularNetwork0.5650.0020.567
cellularNetworkTable0.5500.0030.553
chordDiagramLR1.1540.0041.158
coerce0.0010.0000.001
colClusterA0.0000.0000.001
colClusterB0.0000.0010.000
comparison000
comparisonName0.0000.0000.001
convertToHuman0.1880.0052.657
createResources0.2540.0150.961
differentialStats0.0010.0000.001
findOrthoGenes0.1410.0010.284
generateSpatialPlots1.7580.0471.803
getLRIntracellNetwork1.6780.0191.697
getLRNetwork0.0290.0010.030
getPathwayStats0.0140.0010.014
getResource0.2710.0010.272
inferenceParameters0.0000.0000.001
initialOrganism0.0010.0010.002
initialOrthologs0.0010.0000.001
learnParameters2.4920.0502.543
ligands000
logTransformed0.0010.0010.001
maxLigandSpatialCounts0.0530.0020.055
mu000
ncounts0.0020.0000.001
normalization0.0010.0010.001
parameters0.0020.0000.001
pathways000
receptors0.0000.0000.001
reduceToBestPathway0.0840.0040.088
reduceToLigand0.0540.0010.054
reduceToPathway0.0730.0010.074
reduceToReceptor0.0140.0010.015
relateToGeneSet0.0720.0010.074
removeClusterComp0.2220.0030.226
rescoreInference0.0340.0030.036
resetLRdb0.0210.0030.023
resetNetwork0.0060.0000.006
resetPathways0.2690.0030.272
resetToInitialOrganism0.1410.0150.157
scoreLRGeneSignatures1.2890.1321.421
scoreSignatures0.2630.0050.268
separatedLRPlot1.6170.0081.625
signatureHeatmaps0.0180.0040.023
simpleHeatmap6.7550.6077.362
smoothSpatialCounts0.0490.0000.049
sourceComparisonName000
spatialAssociation0.0510.0020.053
spatialAssociationPlot3.5280.0503.578
spatialDiversityPlot0.9410.0070.948
spatialIndexPlot1.4120.0361.448
spatialPlot1.1230.0151.138
summarizedCellularNetwork0.5600.0020.563
tgCorr0.0000.0000.001
tgExpr0.0000.0010.000
tgGenes000
tgLogFC000
tgPval0.0000.0000.001
updateInference0.0830.0020.084