| Back to Multiple platform build/check report for BioC 3.23: simplified long |
|
This page was generated on 2025-11-17 11:40 -0500 (Mon, 17 Nov 2025).
| Hostname | OS | Arch (*) | R version | Installed pkgs |
|---|---|---|---|---|
| nebbiolo1 | Linux (Ubuntu 24.04.3 LTS) | x86_64 | R Under development (unstable) (2025-10-20 r88955) -- "Unsuffered Consequences" | 4826 |
| lconway | macOS 12.7.6 Monterey | x86_64 | R Under development (unstable) (2025-10-21 r88958) -- "Unsuffered Consequences" | 4491 |
| kjohnson3 | macOS 13.7.7 Ventura | arm64 | R Under development (unstable) (2025-11-04 r88984) -- "Unsuffered Consequences" | 4562 |
| Click on any hostname to see more info about the system (e.g. compilers) (*) as reported by 'uname -p', except on Windows and Mac OS X | ||||
| Package 254/2325 | Hostname | OS / Arch | INSTALL | BUILD | CHECK | BUILD BIN | ||||||||
| BulkSignalR 1.3.1 (landing page) Jean-Philippe Villemin
| nebbiolo1 | Linux (Ubuntu 24.04.3 LTS) / x86_64 | OK | OK | OK | |||||||||
| lconway | macOS 12.7.6 Monterey / x86_64 | OK | OK | OK | OK | |||||||||
| kjohnson3 | macOS 13.7.7 Ventura / arm64 | OK | OK | OK | OK | |||||||||
|
To the developers/maintainers of the BulkSignalR package: - Allow up to 24 hours (and sometimes 48 hours) for your latest push to git@git.bioconductor.org:packages/BulkSignalR.git to reflect on this report. See Troubleshooting Build Report for more information. - Use the following Renviron settings to reproduce errors and warnings. - If 'R CMD check' started to fail recently on the Linux builder(s) over a missing dependency, add the missing dependency to 'Suggests:' in your DESCRIPTION file. See Renviron.bioc for more information. |
| Package: BulkSignalR |
| Version: 1.3.1 |
| Command: /Library/Frameworks/R.framework/Resources/bin/R CMD check --install=check:BulkSignalR.install-out.txt --library=/Library/Frameworks/R.framework/Resources/library --no-vignettes --timings BulkSignalR_1.3.1.tar.gz |
| StartedAt: 2025-11-16 18:49:13 -0500 (Sun, 16 Nov 2025) |
| EndedAt: 2025-11-16 18:52:39 -0500 (Sun, 16 Nov 2025) |
| EllapsedTime: 206.5 seconds |
| RetCode: 0 |
| Status: OK |
| CheckDir: BulkSignalR.Rcheck |
| Warnings: 0 |
##############################################################################
##############################################################################
###
### Running command:
###
### /Library/Frameworks/R.framework/Resources/bin/R CMD check --install=check:BulkSignalR.install-out.txt --library=/Library/Frameworks/R.framework/Resources/library --no-vignettes --timings BulkSignalR_1.3.1.tar.gz
###
##############################################################################
##############################################################################
* using log directory ‘/Users/biocbuild/bbs-3.23-bioc/meat/BulkSignalR.Rcheck’
* using R Under development (unstable) (2025-11-04 r88984)
* using platform: aarch64-apple-darwin20
* R was compiled by
Apple clang version 16.0.0 (clang-1600.0.26.6)
GNU Fortran (GCC) 14.2.0
* running under: macOS Ventura 13.7.8
* using session charset: UTF-8
* using option ‘--no-vignettes’
* checking for file ‘BulkSignalR/DESCRIPTION’ ... OK
* checking extension type ... Package
* this is package ‘BulkSignalR’ version ‘1.3.1’
* package encoding: UTF-8
* checking package namespace information ... OK
* checking package dependencies ... INFO
Imports includes 26 non-default packages.
Importing from so many packages makes the package vulnerable to any of
them becoming unavailable. Move as many as possible to Suggests and
use conditionally.
* checking if this is a source package ... OK
* checking if there is a namespace ... OK
* checking for hidden files and directories ... OK
* checking for portable file names ... OK
* checking for sufficient/correct file permissions ... OK
* checking whether package ‘BulkSignalR’ can be installed ... OK
* checking installed package size ... OK
* checking package directory ... OK
* checking ‘build’ directory ... OK
* checking DESCRIPTION meta-information ... OK
* checking top-level files ... OK
* checking for left-over files ... OK
* checking index information ... OK
* checking package subdirectories ... OK
* checking code files for non-ASCII characters ... OK
* checking R files for syntax errors ... OK
* checking whether the package can be loaded ... OK
* checking whether the package can be loaded with stated dependencies ... OK
* checking whether the package can be unloaded cleanly ... OK
* checking whether the namespace can be loaded with stated dependencies ... OK
* checking whether the namespace can be unloaded cleanly ... OK
* checking whether startup messages can be suppressed ... OK
* checking dependencies in R code ... OK
* checking S3 generic/method consistency ... OK
* checking replacement functions ... OK
* checking foreign function calls ... OK
* checking R code for possible problems ... OK
* checking Rd files ... OK
* checking Rd metadata ... OK
* checking Rd cross-references ... OK
* checking for missing documentation entries ... OK
* checking for code/documentation mismatches ... OK
* checking Rd \usage sections ... OK
* checking Rd contents ... OK
* checking for unstated dependencies in examples ... OK
* checking contents of ‘data’ directory ... OK
* checking data for non-ASCII characters ... OK
* checking data for ASCII and uncompressed saves ... OK
* checking files in ‘vignettes’ ... OK
* checking examples ... OK
Examples with CPU (user + system) or elapsed time > 5s
user system elapsed
cacheClear 1.467 0.080 5.990
convertToHuman 0.072 0.004 5.407
* checking for unstated dependencies in ‘tests’ ... OK
* checking tests ...
Running ‘testthat.R’
OK
* checking for unstated dependencies in vignettes ... OK
* checking package vignettes ... OK
* checking running R code from vignettes ... SKIPPED
* checking re-building of vignette outputs ... SKIPPED
* checking PDF version of manual ... OK
* DONE
Status: OK
BulkSignalR.Rcheck/00install.out
############################################################################## ############################################################################## ### ### Running command: ### ### /Library/Frameworks/R.framework/Resources/bin/R CMD INSTALL BulkSignalR ### ############################################################################## ############################################################################## * installing to library ‘/Library/Frameworks/R.framework/Versions/4.6-arm64/Resources/library’ * installing *source* package ‘BulkSignalR’ ... ** this is package ‘BulkSignalR’ version ‘1.3.1’ ** using staged installation ** R ** data ** inst ** byte-compile and prepare package for lazy loading ** help *** installing help indices *** copying figures ** building package indices ** installing vignettes ** testing if installed package can be loaded from temporary location ** testing if installed package can be loaded from final location ** testing if installed package keeps a record of temporary installation path * DONE (BulkSignalR)
BulkSignalR.Rcheck/tests/testthat.Rout
R Under development (unstable) (2025-11-04 r88984) -- "Unsuffered Consequences"
Copyright (C) 2025 The R Foundation for Statistical Computing
Platform: aarch64-apple-darwin20
R is free software and comes with ABSOLUTELY NO WARRANTY.
You are welcome to redistribute it under certain conditions.
Type 'license()' or 'licence()' for distribution details.
R is a collaborative project with many contributors.
Type 'contributors()' for more information and
'citation()' on how to cite R or R packages in publications.
Type 'demo()' for some demos, 'help()' for on-line help, or
'help.start()' for an HTML browser interface to help.
Type 'q()' to quit R.
> library(testthat)
> library(BulkSignalR)
Local "resources" are up to date.
> test_check("BulkSignalR")
[ FAIL 0 | WARN 0 | SKIP 0 | PASS 1 ]
>
> proc.time()
user system elapsed
6.122 0.277 7.689
BulkSignalR.Rcheck/BulkSignalR-Ex.timings
| name | user | system | elapsed | |
| BSRClusterComp-class | 0.002 | 0.001 | 0.002 | |
| BSRClusterComp | 0.109 | 0.009 | 0.118 | |
| BSRDataModel-class | 0.023 | 0.002 | 0.024 | |
| BSRDataModel | 0.074 | 0.003 | 0.078 | |
| BSRDataModelComp-class | 0.002 | 0.000 | 0.003 | |
| BSRDataModelComp | 0.075 | 0.002 | 0.078 | |
| BSRInference-class | 0.002 | 0.001 | 0.002 | |
| BSRInference | 1.118 | 0.027 | 1.169 | |
| BSRInferenceComp-class | 0.003 | 0.000 | 0.003 | |
| BSRInferenceComp | 0.426 | 0.050 | 0.488 | |
| BSRSignature-class | 0.000 | 0.000 | 0.001 | |
| BSRSignature | 0.008 | 0.000 | 0.009 | |
| BSRSignatureComp-class | 0.002 | 0.001 | 0.002 | |
| BSRSignatureComp | 0.004 | 0.000 | 0.005 | |
| LRinter | 0.000 | 0.000 | 0.001 | |
| LRinterScore | 0.001 | 0.001 | 0.001 | |
| LRinterShort | 0.001 | 0.000 | 0.002 | |
| addClusterComp | 0.096 | 0.006 | 0.108 | |
| alluvialPlot | 0.201 | 0.006 | 0.223 | |
| assignCellTypesToInteractions | 0.247 | 0.016 | 0.264 | |
| bubblePlotPathwaysLR | 0.164 | 0.001 | 0.168 | |
| cacheClear | 1.467 | 0.080 | 5.990 | |
| cacheInfo | 0.032 | 0.003 | 0.034 | |
| cacheVersion | 0.093 | 0.011 | 0.500 | |
| cellTypeFrequency | 0.222 | 0.008 | 0.238 | |
| cellularNetwork | 0.207 | 0.009 | 0.217 | |
| cellularNetworkTable | 0.191 | 0.006 | 0.205 | |
| chordDiagramLR | 0.377 | 0.008 | 0.402 | |
| coerce | 0.001 | 0.000 | 0.001 | |
| colClusterA | 0 | 0 | 0 | |
| colClusterB | 0.000 | 0.000 | 0.001 | |
| comparison | 0 | 0 | 0 | |
| comparisonName | 0 | 0 | 0 | |
| convertToHuman | 0.072 | 0.004 | 5.407 | |
| createResources | 0.094 | 0.012 | 0.779 | |
| differentialStats | 0.001 | 0.000 | 0.000 | |
| findOrthoGenes | 0.058 | 0.002 | 0.322 | |
| generateSpatialPlots | 0.600 | 0.028 | 0.662 | |
| getLRIntracellNetwork | 0.650 | 0.116 | 0.794 | |
| getLRNetwork | 0.010 | 0.001 | 0.011 | |
| getPathwayStats | 0.005 | 0.000 | 0.005 | |
| getResource | 0.101 | 0.006 | 0.109 | |
| inferenceParameters | 0 | 0 | 0 | |
| initialOrganism | 0.001 | 0.000 | 0.001 | |
| initialOrthologs | 0.000 | 0.000 | 0.001 | |
| learnParameters | 0.747 | 0.007 | 0.773 | |
| ligands | 0 | 0 | 0 | |
| logTransformed | 0.001 | 0.000 | 0.000 | |
| maxLigandSpatialCounts | 0.020 | 0.001 | 0.021 | |
| mu | 0 | 0 | 0 | |
| ncounts | 0.001 | 0.001 | 0.001 | |
| normalization | 0 | 0 | 0 | |
| parameters | 0.001 | 0.000 | 0.001 | |
| pathways | 0 | 0 | 0 | |
| receptors | 0.000 | 0.000 | 0.001 | |
| reduceToBestPathway | 0.035 | 0.002 | 0.037 | |
| reduceToLigand | 0.010 | 0.000 | 0.011 | |
| reduceToPathway | 0.025 | 0.000 | 0.025 | |
| reduceToReceptor | 0.005 | 0.001 | 0.006 | |
| relateToGeneSet | 0.026 | 0.001 | 0.028 | |
| removeClusterComp | 0.096 | 0.010 | 0.107 | |
| rescoreInference | 0.014 | 0.001 | 0.016 | |
| resetLRdb | 0.008 | 0.001 | 0.008 | |
| resetNetwork | 0.002 | 0.000 | 0.003 | |
| resetPathways | 0.107 | 0.005 | 0.122 | |
| resetToInitialOrganism | 0.053 | 0.004 | 0.057 | |
| scoreLRGeneSignatures | 0.606 | 0.014 | 0.677 | |
| scoreSignatures | 0.116 | 0.006 | 0.134 | |
| separatedLRPlot | 0.570 | 0.027 | 0.627 | |
| signatureHeatmaps | 0.013 | 0.001 | 0.014 | |
| simpleHeatmap | 2.987 | 0.082 | 3.173 | |
| smoothSpatialCounts | 0.018 | 0.002 | 0.019 | |
| sourceComparisonName | 0 | 0 | 0 | |
| spatialAssociation | 0.024 | 0.001 | 0.026 | |
| spatialAssociationPlot | 1.356 | 0.023 | 1.441 | |
| spatialDiversityPlot | 0.328 | 0.014 | 0.343 | |
| spatialIndexPlot | 0.457 | 0.014 | 0.482 | |
| spatialPlot | 0.383 | 0.020 | 0.417 | |
| summarizedCellularNetwork | 0.204 | 0.008 | 0.214 | |
| tgCorr | 0 | 0 | 0 | |
| tgExpr | 0 | 0 | 0 | |
| tgGenes | 0 | 0 | 0 | |
| tgLogFC | 0 | 0 | 0 | |
| tgPval | 0 | 0 | 0 | |
| updateInference | 0.036 | 0.003 | 0.040 | |