Back to Multiple platform build/check report for BioC 3.22:   simplified   long
A[B]CDEFGHIJKLMNOPQRSTUVWXYZ

This page was generated on 2025-10-11 12:03 -0400 (Sat, 11 Oct 2025).

HostnameOSArch (*)R versionInstalled pkgs
nebbiolo2Linux (Ubuntu 24.04.3 LTS)x86_644.5.1 Patched (2025-08-23 r88802) -- "Great Square Root" 4864
lconwaymacOS 12.7.1 Montereyx86_644.5.1 Patched (2025-09-10 r88807) -- "Great Square Root" 4652
kjohnson3macOS 13.7.7 Venturaarm644.5.1 Patched (2025-09-10 r88807) -- "Great Square Root" 4597
taishanLinux (openEuler 24.03 LTS)aarch644.5.0 (2025-04-11) -- "How About a Twenty-Six" 4586
Click on any hostname to see more info about the system (e.g. compilers)      (*) as reported by 'uname -p', except on Windows and Mac OS X

Package 219/2346HostnameOS / ArchINSTALLBUILDCHECKBUILD BIN
BioNAR 1.11.0  (landing page)
Anatoly Sorokin
Snapshot Date: 2025-10-10 13:45 -0400 (Fri, 10 Oct 2025)
git_url: https://git.bioconductor.org/packages/BioNAR
git_branch: devel
git_last_commit: ac4d792
git_last_commit_date: 2025-04-15 12:58:11 -0400 (Tue, 15 Apr 2025)
nebbiolo2Linux (Ubuntu 24.04.3 LTS) / x86_64  OK    OK    OK  UNNEEDED, same version is already published
lconwaymacOS 12.7.1 Monterey / x86_64  OK    OK    OK    OK  UNNEEDED, same version is already published
kjohnson3macOS 13.7.7 Ventura / arm64  OK    OK    OK    OK  UNNEEDED, same version is already published
taishanLinux (openEuler 24.03 LTS) / aarch64  OK    OK    OK  


CHECK results for BioNAR on nebbiolo2

To the developers/maintainers of the BioNAR package:
- Allow up to 24 hours (and sometimes 48 hours) for your latest push to git@git.bioconductor.org:packages/BioNAR.git to reflect on this report. See Troubleshooting Build Report for more information.
- Use the following Renviron settings to reproduce errors and warnings.
- If 'R CMD check' started to fail recently on the Linux builder(s) over a missing dependency, add the missing dependency to 'Suggests:' in your DESCRIPTION file. See Renviron.bioc for more information.

raw results


Summary

Package: BioNAR
Version: 1.11.0
Command: /home/biocbuild/bbs-3.22-bioc/R/bin/R CMD check --install=check:BioNAR.install-out.txt --library=/home/biocbuild/bbs-3.22-bioc/R/site-library --timings BioNAR_1.11.0.tar.gz
StartedAt: 2025-10-10 21:45:18 -0400 (Fri, 10 Oct 2025)
EndedAt: 2025-10-10 21:56:11 -0400 (Fri, 10 Oct 2025)
EllapsedTime: 653.0 seconds
RetCode: 0
Status:   OK  
CheckDir: BioNAR.Rcheck
Warnings: 0

Command output

##############################################################################
##############################################################################
###
### Running command:
###
###   /home/biocbuild/bbs-3.22-bioc/R/bin/R CMD check --install=check:BioNAR.install-out.txt --library=/home/biocbuild/bbs-3.22-bioc/R/site-library --timings BioNAR_1.11.0.tar.gz
###
##############################################################################
##############################################################################


* using log directory ‘/home/biocbuild/bbs-3.22-bioc/meat/BioNAR.Rcheck’
* using R version 4.5.1 Patched (2025-08-23 r88802)
* using platform: x86_64-pc-linux-gnu
* R was compiled by
    gcc (Ubuntu 13.3.0-6ubuntu2~24.04) 13.3.0
    GNU Fortran (Ubuntu 13.3.0-6ubuntu2~24.04) 13.3.0
* running under: Ubuntu 24.04.3 LTS
* using session charset: UTF-8
* checking for file ‘BioNAR/DESCRIPTION’ ... OK
* this is package ‘BioNAR’ version ‘1.11.0’
* package encoding: UTF-8
* checking package namespace information ... OK
* checking package dependencies ... OK
* checking if this is a source package ... OK
* checking if there is a namespace ... OK
* checking for hidden files and directories ... OK
* checking for portable file names ... OK
* checking for sufficient/correct file permissions ... OK
* checking whether package ‘BioNAR’ can be installed ... OK
* checking installed package size ... INFO
  installed size is  6.8Mb
  sub-directories of 1Mb or more:
    extdata   6.1Mb
* checking package directory ... OK
* checking ‘build’ directory ... OK
* checking DESCRIPTION meta-information ... OK
* checking top-level files ... OK
* checking for left-over files ... OK
* checking index information ... OK
* checking package subdirectories ... OK
* checking code files for non-ASCII characters ... OK
* checking R files for syntax errors ... OK
* checking whether the package can be loaded ... OK
* checking whether the package can be loaded with stated dependencies ... OK
* checking whether the package can be unloaded cleanly ... OK
* checking whether the namespace can be loaded with stated dependencies ... OK
* checking whether the namespace can be unloaded cleanly ... OK
* checking loading without being on the library search path ... OK
* checking dependencies in R code ... NOTE
Package in Depends field not imported from: ‘Rdpack’
  These packages need to be imported from (in the NAMESPACE file)
  for when this namespace is loaded but not attached.
There are ::: calls to the package's namespace in its code. A package
  almost never needs to use ::: for its own objects:
  ‘addNoise’ ‘gofs’ ‘highlightRate’ ‘plotSigmoid’
* checking S3 generic/method consistency ... OK
* checking replacement functions ... OK
* checking foreign function calls ... OK
* checking R code for possible problems ... OK
* checking Rd files ... OK
* checking Rd metadata ... OK
* checking Rd cross-references ... NOTE
Unknown package ‘clusterCons’ in Rd xrefs
* checking for missing documentation entries ... OK
* checking for code/documentation mismatches ... OK
* checking Rd \usage sections ... OK
* checking Rd contents ... OK
* checking for unstated dependencies in examples ... OK
* checking contents of ‘data’ directory ... OK
* checking data for non-ASCII characters ... OK
* checking LazyData ... OK
* checking data for ASCII and uncompressed saves ... OK
* checking files in ‘vignettes’ ... OK
* checking examples ... OK
Examples with CPU (user + system) or elapsed time > 5s
                           user system elapsed
clusteringSummary        17.272  0.010  17.395
plotEntropy              11.564  0.257  12.078
calcEntropy              11.424  0.101  11.633
getGraphCentralityECDF   11.322  0.058  11.447
getEntropy               10.697  0.049  11.155
addEdgeAtts              10.139  0.176  10.926
annotateTopOntoOVG        9.498  0.045   9.742
getCentralityMatrix       9.243  0.043   9.337
runPermDisease            8.398  0.077   8.720
calcAllClustering         6.531  0.013   6.863
normModularity            6.284  0.256   6.588
annotateGOont             6.067  0.117   6.560
annotateSCHanno           6.120  0.026   6.473
annotateGoBP              5.820  0.000   6.152
calcSparsness             5.180  0.000   5.367
annotateGoMF              4.980  0.045   5.100
FitDegree                 1.114  0.022   6.459
getRandomGraphCentrality  0.674  0.013  13.892
* checking for unstated dependencies in ‘tests’ ... OK
* checking tests ...
  Running ‘testthat.R’
 OK
* checking for unstated dependencies in vignettes ... OK
* checking package vignettes ... OK
* checking re-building of vignette outputs ... OK
* checking PDF version of manual ... OK
* DONE

Status: 2 NOTEs
See
  ‘/home/biocbuild/bbs-3.22-bioc/meat/BioNAR.Rcheck/00check.log’
for details.


Installation output

BioNAR.Rcheck/00install.out

##############################################################################
##############################################################################
###
### Running command:
###
###   /home/biocbuild/bbs-3.22-bioc/R/bin/R CMD INSTALL BioNAR
###
##############################################################################
##############################################################################


* installing to library ‘/home/biocbuild/bbs-3.22-bioc/R/site-library’
* installing *source* package ‘BioNAR’ ...
** this is package ‘BioNAR’ version ‘1.11.0’
** using staged installation
** R
** data
*** moving datasets to lazyload DB
** inst
** byte-compile and prepare package for lazy loading
** help
*** installing help indices
** building package indices
** installing vignettes
** testing if installed package can be loaded from temporary location
** testing if installed package can be loaded from final location
** testing if installed package keeps a record of temporary installation path
* DONE (BioNAR)

Tests output

BioNAR.Rcheck/tests/testthat.Rout


R version 4.5.1 Patched (2025-08-23 r88802) -- "Great Square Root"
Copyright (C) 2025 The R Foundation for Statistical Computing
Platform: x86_64-pc-linux-gnu

R is free software and comes with ABSOLUTELY NO WARRANTY.
You are welcome to redistribute it under certain conditions.
Type 'license()' or 'licence()' for distribution details.

R is a collaborative project with many contributors.
Type 'contributors()' for more information and
'citation()' on how to cite R or R packages in publications.

Type 'demo()' for some demos, 'help()' for on-line help, or
'help.start()' for an HTML browser interface to help.
Type 'q()' to quit R.

> library(testthat)
> library(BioNAR)
Loading required package: igraph

Attaching package: 'igraph'

The following object is masked from 'package:testthat':

    compare

The following objects are masked from 'package:stats':

    decompose, spectrum

The following object is masked from 'package:base':

    union

Loading required package: poweRlaw
Loading required package: latex2exp
Loading required package: RSpectra
Loading required package: Rdpack



Attaching package: 'BioNAR'

The following object is masked from 'package:igraph':

    permute

> 
> test_check("BioNAR")
[ FAIL 0 | WARN 0 | SKIP 2 | PASS 125 ]

══ Skipped tests (2) ═══════════════════════════════════════════════════════════
• On CRAN (2): 'test_bridgeness.R:38:5', 'test_bridgeness.R:81:5'

[ FAIL 0 | WARN 0 | SKIP 2 | PASS 125 ]
> 
> proc.time()
   user  system elapsed 
 50.746   1.916  68.740 

Example timings

BioNAR.Rcheck/BioNAR-Ex.timings

nameusersystemelapsed
FitDegree1.1140.0226.459
addEdgeAtts10.139 0.17610.926
annotateGOont6.0670.1176.560
annotateGeneNames0.2800.0010.281
annotateGoBP5.8200.0006.152
annotateGoCC4.0470.0184.420
annotateGoMF4.9800.0455.100
annotatePresynaptic1.8400.0001.886
annotateSCHanno6.1200.0266.473
annotateTopOntoOVG9.4980.0459.742
annotateVertex0.0040.0000.003
applpMatrixToGraph0.0010.0000.002
buildNetwork0.0030.0000.003
calcAllClustering6.5310.0136.863
calcBridgeness0.0720.0070.083
calcCentrality0.0950.0060.107
calcCentralityExternalDistances0.5600.0230.616
calcCentralityInternalDistances0.5340.0000.535
calcClustering0.0050.0000.004
calcDiseasePairs0.6190.0210.662
calcEntropy11.424 0.10111.633
calcMembership0.0060.0000.006
calcReclusterMatrix0.0380.0010.040
calcSparsness5.1800.0005.367
clusterORA0.5370.0050.553
clusteringSummary17.272 0.01017.395
degreeBinnedGDAs0.3360.0010.337
escapeAnnotation0.0010.0000.000
evalCentralitySignificance0.7840.0010.785
findLCC0.0060.0000.006
getAnnotationList0.090.000.09
getAnnotationVertexList0.0840.0010.085
getBridgeness0.0670.0000.067
getCentralityMatrix9.2430.0439.337
getClusterSubgraphByID0.0220.0020.024
getClustering0.0240.0010.025
getCommunityGraph0.0250.0020.027
getDType000
getDYNAMO0.0390.0010.040
getDiseases000
getEntropy10.697 0.04911.155
getEntropyRate0.0050.0000.005
getGNP0.0220.0000.022
getGraphCentralityECDF11.322 0.05811.447
getPA0.0210.0020.024
getRandomGraphCentrality 0.674 0.01313.892
getRobustness0.5660.0390.668
layoutByCluster0.1600.0020.161
layoutByRecluster0.1260.0030.136
makeConsensusMatrix0.5420.0420.662
makeMembership0.0030.0000.002
metlMatrix0.0080.0020.009
normModularity6.2840.2566.588
permute000
plotBridgeness0.7460.0520.815
plotEntropy11.564 0.25712.078
prepareGDA0.3970.0090.407
recluster0.0510.0030.059
removeVertexTerm0.0050.0010.006
runPermDisease8.3980.0778.720
sampleDegBinnedGDA0.3680.0070.389
sampleGraphClust0.0310.0000.030
unescapeAnnotation0.0010.0000.001
zeroNA000