Back to Multiple platform build/check report for BioC 3.21:   simplified   long
ABCDEFGHIJKLMNOPQR[S]TUVWXYZ

This page was generated on 2025-10-02 11:40 -0400 (Thu, 02 Oct 2025).

HostnameOSArch (*)R versionInstalled pkgs
nebbiolo1Linux (Ubuntu 24.04.3 LTS)x86_644.5.1 (2025-06-13) -- "Great Square Root" 4831
merida1macOS 12.7.5 Montereyx86_644.5.1 RC (2025-06-05 r88288) -- "Great Square Root" 4612
kjohnson1macOS 13.6.6 Venturaarm644.5.1 Patched (2025-06-14 r88325) -- "Great Square Root" 4553
kunpeng2Linux (openEuler 24.03 LTS)aarch64R Under development (unstable) (2025-02-19 r87757) -- "Unsuffered Consequences" 4584
Click on any hostname to see more info about the system (e.g. compilers)      (*) as reported by 'uname -p', except on Windows and Mac OS X

Package 2122/2341HostnameOS / ArchINSTALLBUILDCHECKBUILD BIN
structToolbox 1.20.0  (landing page)
Gavin Rhys Lloyd
Snapshot Date: 2025-09-29 13:40 -0400 (Mon, 29 Sep 2025)
git_url: https://git.bioconductor.org/packages/structToolbox
git_branch: RELEASE_3_21
git_last_commit: 1668438
git_last_commit_date: 2025-04-15 11:54:06 -0400 (Tue, 15 Apr 2025)
nebbiolo1Linux (Ubuntu 24.04.3 LTS) / x86_64  OK    OK    OK  UNNEEDED, same version is already published
merida1macOS 12.7.5 Monterey / x86_64  OK    OK    OK    OK  UNNEEDED, same version is already published
kjohnson1macOS 13.6.6 Ventura / arm64  OK    OK    OK    OK  UNNEEDED, same version is already published
kunpeng2Linux (openEuler 24.03 LTS) / aarch64  OK    OK    NA  


CHECK results for structToolbox on merida1

To the developers/maintainers of the structToolbox package:
- Allow up to 24 hours (and sometimes 48 hours) for your latest push to git@git.bioconductor.org:packages/structToolbox.git to reflect on this report. See Troubleshooting Build Report for more information.
- Use the following Renviron settings to reproduce errors and warnings.
- If 'R CMD check' started to fail recently on the Linux builder(s) over a missing dependency, add the missing dependency to 'Suggests:' in your DESCRIPTION file. See Renviron.bioc for more information.

raw results


Summary

Package: structToolbox
Version: 1.20.0
Command: /Library/Frameworks/R.framework/Resources/bin/R CMD check --install=check:structToolbox.install-out.txt --library=/Library/Frameworks/R.framework/Resources/library --no-vignettes --timings structToolbox_1.20.0.tar.gz
StartedAt: 2025-09-30 11:04:47 -0400 (Tue, 30 Sep 2025)
EndedAt: 2025-09-30 11:24:14 -0400 (Tue, 30 Sep 2025)
EllapsedTime: 1167.2 seconds
RetCode: 0
Status:   OK  
CheckDir: structToolbox.Rcheck
Warnings: 0

Command output

##############################################################################
##############################################################################
###
### Running command:
###
###   /Library/Frameworks/R.framework/Resources/bin/R CMD check --install=check:structToolbox.install-out.txt --library=/Library/Frameworks/R.framework/Resources/library --no-vignettes --timings structToolbox_1.20.0.tar.gz
###
##############################################################################
##############################################################################


* using log directory ‘/Users/biocbuild/bbs-3.21-bioc/meat/structToolbox.Rcheck’
* using R version 4.5.1 RC (2025-06-05 r88288)
* using platform: x86_64-apple-darwin20
* R was compiled by
    Apple clang version 14.0.0 (clang-1400.0.29.202)
    GNU Fortran (GCC) 14.2.0
* running under: macOS Monterey 12.7.6
* using session charset: UTF-8
* using option ‘--no-vignettes’
* checking for file ‘structToolbox/DESCRIPTION’ ... OK
* checking extension type ... Package
* this is package ‘structToolbox’ version ‘1.20.0’
* package encoding: UTF-8
* checking package namespace information ... OK
* checking package dependencies ... OK
* checking if this is a source package ... OK
* checking if there is a namespace ... OK
* checking for hidden files and directories ... OK
* checking for portable file names ... OK
* checking for sufficient/correct file permissions ... OK
* checking whether package ‘structToolbox’ can be installed ... OK
* checking installed package size ... OK
* checking package directory ... OK
* checking ‘build’ directory ... OK
* checking DESCRIPTION meta-information ... OK
* checking top-level files ... OK
* checking for left-over files ... OK
* checking index information ... OK
* checking package subdirectories ... OK
* checking code files for non-ASCII characters ... OK
* checking R files for syntax errors ... OK
* checking whether the package can be loaded ... OK
* checking whether the package can be loaded with stated dependencies ... OK
* checking whether the package can be unloaded cleanly ... OK
* checking whether the namespace can be loaded with stated dependencies ... OK
* checking whether the namespace can be unloaded cleanly ... OK
* checking dependencies in R code ... OK
* checking S3 generic/method consistency ... OK
* checking replacement functions ... OK
* checking foreign function calls ... OK
* checking R code for possible problems ... OK
* checking Rd files ... OK
* checking Rd metadata ... OK
* checking Rd cross-references ... OK
* checking for missing documentation entries ... OK
* checking for code/documentation mismatches ... OK
* checking Rd \usage sections ... OK
* checking Rd contents ... OK
* checking for unstated dependencies in examples ... OK
* checking R/sysdata.rda ... OK
* checking files in ‘vignettes’ ... OK
* checking examples ... OK
Examples with CPU (user + system) or elapsed time > 5s
                            user system elapsed
fold_change_int           39.695  0.149  42.516
fold_change               27.940  0.113  28.706
fisher_exact              23.507  0.100  25.224
forward_selection_by_rank 15.454  0.163  17.853
fs_line                   15.151  0.162  17.554
kfoldxcv_grid              9.648  0.057  11.077
compare_dist               9.386  0.313  10.101
grid_search_1d             8.777  0.172  10.165
kfold_xval                 8.397  0.051   9.710
confounders_lsq_barchart   8.290  0.051   9.521
confounders_lsq_boxplot    7.948  0.048   9.167
confounders_clsq           7.503  0.040   8.480
AUC                        4.879  0.185   5.108
* checking for unstated dependencies in ‘tests’ ... OK
* checking tests ...
  Running ‘testthat.R’
 OK
* checking for unstated dependencies in vignettes ... OK
* checking package vignettes ... OK
* checking running R code from vignettes ... SKIPPED
* checking re-building of vignette outputs ... SKIPPED
* checking PDF version of manual ... OK
* DONE

Status: OK


Installation output

structToolbox.Rcheck/00install.out

##############################################################################
##############################################################################
###
### Running command:
###
###   /Library/Frameworks/R.framework/Resources/bin/R CMD INSTALL structToolbox
###
##############################################################################
##############################################################################


* installing to library ‘/Library/Frameworks/R.framework/Versions/4.5-x86_64/Resources/library’
* installing *source* package ‘structToolbox’ ...
** this is package ‘structToolbox’ version ‘1.20.0’
** using staged installation
** R
** inst
** byte-compile and prepare package for lazy loading
** help
*** installing help indices
** building package indices
** installing vignettes
** testing if installed package can be loaded from temporary location
** testing if installed package can be loaded from final location
** testing if installed package keeps a record of temporary installation path
* DONE (structToolbox)

Tests output

structToolbox.Rcheck/tests/testthat.Rout


R version 4.5.1 RC (2025-06-05 r88288) -- "Great Square Root"
Copyright (C) 2025 The R Foundation for Statistical Computing
Platform: x86_64-apple-darwin20

R is free software and comes with ABSOLUTELY NO WARRANTY.
You are welcome to redistribute it under certain conditions.
Type 'license()' or 'licence()' for distribution details.

R is a collaborative project with many contributors.
Type 'contributors()' for more information and
'citation()' on how to cite R or R packages in publications.

Type 'demo()' for some demos, 'help()' for on-line help, or
'help.start()' for an HTML browser interface to help.
Type 'q()' to quit R.

> library(testthat)
> library(ggplot2)
> library(structToolbox)
Loading required package: struct
> 
> test_check("structToolbox")
[ FAIL 0 | WARN 6 | SKIP 0 | PASS 166 ]

[ FAIL 0 | WARN 6 | SKIP 0 | PASS 166 ]
> 
> proc.time()
   user  system elapsed 
458.069   4.093 483.763 

Example timings

structToolbox.Rcheck/structToolbox-Ex.timings

nameusersystemelapsed
ANOVA0.4760.0100.488
AUC4.8790.1855.108
DFA0.4800.0020.486
DatasetExperiment_boxplot2.8890.0613.033
DatasetExperiment_dist2.1960.0932.302
DatasetExperiment_factor_boxplot0.8450.0120.860
DatasetExperiment_heatmap1.3880.0411.431
HCA0.1370.0020.140
HSD0.6670.0180.693
HSDEM0.7140.0270.743
MTBLS79_DatasetExperiment0.0020.0000.002
OPLSDA0.0260.0010.028
OPLSR0.0210.0010.023
PCA0.0090.0000.010
PLSDA0.0290.0010.029
PLSR0.0240.0010.025
SVM0.0550.0010.056
as_data_frame0.3050.0030.313
autoscale0.1800.0020.182
balanced_accuracy4.3150.0434.542
blank_filter0.8060.0280.838
blank_filter_hist0.0010.0000.002
bootstrap0.0230.0000.023
calculate0.0120.0010.012
chart_plot0.0640.0020.067
classical_lsq0.7470.0080.762
compare_dist 9.386 0.31310.101
confounders_clsq7.5030.0408.480
confounders_lsq_barchart8.2900.0519.521
confounders_lsq_boxplot7.9480.0489.167
constant_sum_norm0.0190.0010.023
corr_coef0.6580.0060.715
dfa_scores_plot2.5650.0373.010
dratio_filter0.7420.0190.952
equal_split0.2940.0030.328
feature_boxplot0.0660.0020.075
feature_profile1.3180.0171.526
feature_profile_array1.5990.0111.814
filter_by_name0.0760.0010.086
filter_na_count2.8270.0963.378
filter_smeta0.1760.0020.189
fisher_exact23.507 0.10025.224
fold_change27.940 0.11328.706
fold_change_int39.695 0.14942.516
fold_change_plot0.0160.0010.022
forward_selection_by_rank15.454 0.16317.853
fs_line15.151 0.16217.554
glog_opt_plot1.4470.0101.745
glog_transform0.7490.0050.887
grid_search_1d 8.777 0.17210.165
gs_line0.0010.0010.002
hca_dendrogram0.0020.0010.002
kfold_xval8.3970.0519.710
kfoldxcv_grid 9.648 0.05711.077
kfoldxcv_metric0.0020.0000.006
knn_impute0.0310.0010.035
kw_p_hist0.0020.0000.002
kw_rank_sum0.1920.0020.220
linear_model0.0770.0010.087
log_transform0.0170.0000.018
mean_centre0.0080.0000.011
mean_of_medians0.3070.0020.351
mixed_effect0.4060.0060.466
model_apply0.0560.0020.062
model_predict0.1390.0010.154
model_reverse0.0620.0010.068
model_train0.1300.0010.140
mv_boxplot1.1130.0111.343
mv_feature_filter0.2960.0030.342
mv_feature_filter_hist0.0010.0010.002
mv_histogram0.9200.0081.221
mv_sample_filter0.0200.0010.028
mv_sample_filter_hist0.0010.0010.002
nroot_transform0.0180.0000.035
ontology_cache0.0000.0000.001
pairs_filter0.0260.0010.047
pareto_scale0.1470.0050.277
pca_biplot0.0410.0010.065
pca_correlation_plot0.0150.0010.017
pca_dstat_plot0.0230.0000.028
pca_loadings_plot0.0240.0010.032
pca_scores_plot1.8420.0182.288
pca_scree_plot0.0160.0000.017
permutation_test0.0250.0010.030
permutation_test_plot0.0060.0000.007
permute_sample_order0.0170.0000.020
pls_regcoeff_plot1.1750.0111.329
pls_scores_plot2.2300.0132.647
pls_vip_plot1.2450.0101.419
plsda_feature_importance_plot2.2070.0152.521
plsda_predicted_plot1.5400.0141.756
plsda_roc_plot3.3560.0183.848
plsr_cook_dist0.0160.0000.019
plsr_prediction_plot0.0160.0010.022
plsr_qq_plot0.0160.0010.019
plsr_residual_hist0.0160.0000.016
pqn_norm0.9200.0061.042
pqn_norm_hist0.0020.0010.003
prop_na0.0260.0010.029
r_squared0.0010.0010.002
resample0.0420.0010.050
resample_chart0.0070.0010.010
rsd_filter0.0350.0010.042
rsd_filter_hist0.0020.0010.005
run0.0740.0020.086
sb_corr0.0710.0020.081
scatter_chart1.4110.0091.617
split_data0.0170.0000.021
stratified_split0.2870.0030.326
svm_plot_2d1.9800.0262.269
tSNE0.0640.0010.073
tSNE_scatter0.0170.0010.023
tic_chart0.8840.0101.032
ttest0.0580.0010.067
vec_norm0.0020.0010.004
wilcox_p_hist0.0010.0000.002
wilcox_test0.0490.0010.056