| Back to Multiple platform build/check report for BioC 3.21: simplified long |
|
This page was generated on 2025-10-16 11:41 -0400 (Thu, 16 Oct 2025).
| Hostname | OS | Arch (*) | R version | Installed pkgs |
|---|---|---|---|---|
| nebbiolo1 | Linux (Ubuntu 24.04.3 LTS) | x86_64 | 4.5.1 (2025-06-13) -- "Great Square Root" | 4833 |
| merida1 | macOS 12.7.6 Monterey | x86_64 | 4.5.1 RC (2025-06-05 r88288) -- "Great Square Root" | 4614 |
| kjohnson1 | macOS 13.7.5 Ventura | arm64 | 4.5.1 Patched (2025-06-14 r88325) -- "Great Square Root" | 4555 |
| kunpeng2 | Linux (openEuler 24.03 LTS) | aarch64 | R Under development (unstable) (2025-02-19 r87757) -- "Unsuffered Consequences" | 4586 |
| Click on any hostname to see more info about the system (e.g. compilers) (*) as reported by 'uname -p', except on Windows and Mac OS X | ||||
| Package 2122/2341 | Hostname | OS / Arch | INSTALL | BUILD | CHECK | BUILD BIN | ||||||||
| structToolbox 1.20.0 (landing page) Gavin Rhys Lloyd
| nebbiolo1 | Linux (Ubuntu 24.04.3 LTS) / x86_64 | OK | OK | OK | |||||||||
| merida1 | macOS 12.7.6 Monterey / x86_64 | OK | OK | OK | OK | |||||||||
| kjohnson1 | macOS 13.7.5 Ventura / arm64 | OK | OK | OK | OK | |||||||||
| kunpeng2 | Linux (openEuler 24.03 LTS) / aarch64 | OK | OK | OK | ||||||||||
|
To the developers/maintainers of the structToolbox package: - Allow up to 24 hours (and sometimes 48 hours) for your latest push to git@git.bioconductor.org:packages/structToolbox.git to reflect on this report. See Troubleshooting Build Report for more information. - Use the following Renviron settings to reproduce errors and warnings. - If 'R CMD check' started to fail recently on the Linux builder(s) over a missing dependency, add the missing dependency to 'Suggests:' in your DESCRIPTION file. See Renviron.bioc for more information. - See Martin Grigorov's blog post for how to debug Linux ARM64 related issues on a x86_64 host. |
| Package: structToolbox |
| Version: 1.20.0 |
| Command: /home/biocbuild/R/R/bin/R CMD check --install=check:structToolbox.install-out.txt --library=/home/biocbuild/R/R/site-library --no-vignettes --timings structToolbox_1.20.0.tar.gz |
| StartedAt: 2025-10-14 15:01:14 -0000 (Tue, 14 Oct 2025) |
| EndedAt: 2025-10-14 15:14:18 -0000 (Tue, 14 Oct 2025) |
| EllapsedTime: 784.2 seconds |
| RetCode: 0 |
| Status: OK |
| CheckDir: structToolbox.Rcheck |
| Warnings: 0 |
##############################################################################
##############################################################################
###
### Running command:
###
### /home/biocbuild/R/R/bin/R CMD check --install=check:structToolbox.install-out.txt --library=/home/biocbuild/R/R/site-library --no-vignettes --timings structToolbox_1.20.0.tar.gz
###
##############################################################################
##############################################################################
* using log directory ‘/home/biocbuild/bbs-3.21-bioc/meat/structToolbox.Rcheck’
* using R Under development (unstable) (2025-02-19 r87757)
* using platform: aarch64-unknown-linux-gnu
* R was compiled by
aarch64-unknown-linux-gnu-gcc (GCC) 14.2.0
GNU Fortran (GCC) 14.2.0
* running under: openEuler 24.03 (LTS-SP1)
* using session charset: UTF-8
* using option ‘--no-vignettes’
* checking for file ‘structToolbox/DESCRIPTION’ ... OK
* checking extension type ... Package
* this is package ‘structToolbox’ version ‘1.20.0’
* package encoding: UTF-8
* checking package namespace information ... OK
* checking package dependencies ... OK
* checking if this is a source package ... OK
* checking if there is a namespace ... OK
* checking for hidden files and directories ... OK
* checking for portable file names ... OK
* checking for sufficient/correct file permissions ... OK
* checking whether package ‘structToolbox’ can be installed ... OK
* checking installed package size ... OK
* checking package directory ... OK
* checking ‘build’ directory ... OK
* checking DESCRIPTION meta-information ... OK
* checking top-level files ... OK
* checking for left-over files ... OK
* checking index information ... OK
* checking package subdirectories ... OK
* checking code files for non-ASCII characters ... OK
* checking R files for syntax errors ... OK
* checking whether the package can be loaded ... OK
* checking whether the package can be loaded with stated dependencies ... OK
* checking whether the package can be unloaded cleanly ... OK
* checking whether the namespace can be loaded with stated dependencies ... OK
* checking whether the namespace can be unloaded cleanly ... OK
* checking loading without being on the library search path ... OK
* checking dependencies in R code ... OK
* checking S3 generic/method consistency ... OK
* checking replacement functions ... OK
* checking foreign function calls ... OK
* checking R code for possible problems ... OK
* checking Rd files ... OK
* checking Rd metadata ... OK
* checking Rd cross-references ... OK
* checking for missing documentation entries ... OK
* checking for code/documentation mismatches ... OK
* checking Rd \usage sections ... OK
* checking Rd contents ... OK
* checking for unstated dependencies in examples ... OK
* checking R/sysdata.rda ... OK
* checking files in ‘vignettes’ ... OK
* checking examples ... OK
Examples with CPU (user + system) or elapsed time > 5s
user system elapsed
fold_change_int 23.561 0.123 27.627
fold_change 17.765 0.140 21.670
fisher_exact 14.218 0.187 16.366
forward_selection_by_rank 9.991 0.127 12.493
fs_line 9.471 0.019 10.292
compare_dist 7.514 0.273 9.403
grid_search_1d 5.669 0.015 6.097
kfoldxcv_grid 5.597 0.016 6.203
kfold_xval 4.798 0.048 5.103
confounders_lsq_barchart 4.692 0.024 5.771
confounders_lsq_boxplot 4.621 0.071 5.339
confounders_clsq 4.275 0.100 5.096
* checking for unstated dependencies in ‘tests’ ... OK
* checking tests ...
Running ‘testthat.R’
OK
* checking for unstated dependencies in vignettes ... OK
* checking package vignettes ... OK
* checking running R code from vignettes ... SKIPPED
* checking re-building of vignette outputs ... SKIPPED
* checking PDF version of manual ... OK
* DONE
Status: OK
structToolbox.Rcheck/00install.out
############################################################################## ############################################################################## ### ### Running command: ### ### /home/biocbuild/R/R/bin/R CMD INSTALL structToolbox ### ############################################################################## ############################################################################## * installing to library ‘/home/biocbuild/R/R-devel_2025-02-19/site-library’ * installing *source* package ‘structToolbox’ ... ** this is package ‘structToolbox’ version ‘1.20.0’ ** using staged installation ** R ** inst ** byte-compile and prepare package for lazy loading ** help *** installing help indices ** building package indices ** installing vignettes ** testing if installed package can be loaded from temporary location ** testing if installed package can be loaded from final location ** testing if installed package keeps a record of temporary installation path * DONE (structToolbox)
structToolbox.Rcheck/tests/testthat.Rout
R Under development (unstable) (2025-02-19 r87757) -- "Unsuffered Consequences"
Copyright (C) 2025 The R Foundation for Statistical Computing
Platform: aarch64-unknown-linux-gnu
R is free software and comes with ABSOLUTELY NO WARRANTY.
You are welcome to redistribute it under certain conditions.
Type 'license()' or 'licence()' for distribution details.
R is a collaborative project with many contributors.
Type 'contributors()' for more information and
'citation()' on how to cite R or R packages in publications.
Type 'demo()' for some demos, 'help()' for on-line help, or
'help.start()' for an HTML browser interface to help.
Type 'q()' to quit R.
> library(testthat)
> library(ggplot2)
> library(structToolbox)
Loading required package: struct
>
> test_check("structToolbox")
[ FAIL 0 | WARN 6 | SKIP 0 | PASS 166 ]
[ FAIL 0 | WARN 6 | SKIP 0 | PASS 166 ]
>
> proc.time()
user system elapsed
272.166 1.975 300.013
structToolbox.Rcheck/structToolbox-Ex.timings
| name | user | system | elapsed | |
| ANOVA | 0.334 | 0.016 | 0.569 | |
| AUC | 2.880 | 0.147 | 3.547 | |
| DFA | 0.300 | 0.000 | 0.525 | |
| DatasetExperiment_boxplot | 2.325 | 0.068 | 3.045 | |
| DatasetExperiment_dist | 1.909 | 0.124 | 2.562 | |
| DatasetExperiment_factor_boxplot | 0.505 | 0.012 | 0.518 | |
| DatasetExperiment_heatmap | 0.891 | 0.000 | 0.991 | |
| HCA | 0.095 | 0.003 | 0.099 | |
| HSD | 0.431 | 0.009 | 0.769 | |
| HSDEM | 0.468 | 0.012 | 0.482 | |
| MTBLS79_DatasetExperiment | 0.001 | 0.000 | 0.002 | |
| OPLSDA | 0.016 | 0.000 | 0.016 | |
| OPLSR | 0.022 | 0.000 | 0.022 | |
| PCA | 0.007 | 0.000 | 0.007 | |
| PLSDA | 0.037 | 0.000 | 0.037 | |
| PLSR | 0.014 | 0.000 | 0.014 | |
| SVM | 0.04 | 0.00 | 0.04 | |
| as_data_frame | 0.177 | 0.000 | 0.179 | |
| autoscale | 0.110 | 0.000 | 0.118 | |
| balanced_accuracy | 2.532 | 0.024 | 2.693 | |
| blank_filter | 0.485 | 0.004 | 0.490 | |
| blank_filter_hist | 0.001 | 0.000 | 0.001 | |
| bootstrap | 0.025 | 0.000 | 0.026 | |
| calculate | 0.007 | 0.000 | 0.007 | |
| chart_plot | 0.056 | 0.000 | 0.057 | |
| classical_lsq | 0.421 | 0.040 | 0.468 | |
| compare_dist | 7.514 | 0.273 | 9.403 | |
| confounders_clsq | 4.275 | 0.100 | 5.096 | |
| confounders_lsq_barchart | 4.692 | 0.024 | 5.771 | |
| confounders_lsq_boxplot | 4.621 | 0.071 | 5.339 | |
| constant_sum_norm | 0.020 | 0.000 | 0.021 | |
| corr_coef | 0.404 | 0.004 | 0.409 | |
| dfa_scores_plot | 1.406 | 0.008 | 1.476 | |
| dratio_filter | 0.458 | 0.016 | 0.501 | |
| equal_split | 0.165 | 0.000 | 0.165 | |
| feature_boxplot | 0.042 | 0.000 | 0.042 | |
| feature_profile | 0.788 | 0.000 | 0.797 | |
| feature_profile_array | 0.936 | 0.000 | 0.983 | |
| filter_by_name | 0.041 | 0.000 | 0.041 | |
| filter_na_count | 1.536 | 0.028 | 1.596 | |
| filter_smeta | 0.090 | 0.000 | 0.152 | |
| fisher_exact | 14.218 | 0.187 | 16.366 | |
| fold_change | 17.765 | 0.140 | 21.670 | |
| fold_change_int | 23.561 | 0.123 | 27.627 | |
| fold_change_plot | 0.034 | 0.004 | 0.076 | |
| forward_selection_by_rank | 9.991 | 0.127 | 12.493 | |
| fs_line | 9.471 | 0.019 | 10.292 | |
| glog_opt_plot | 0.815 | 0.008 | 1.004 | |
| glog_transform | 0.394 | 0.000 | 0.397 | |
| grid_search_1d | 5.669 | 0.015 | 6.097 | |
| gs_line | 0.001 | 0.000 | 0.001 | |
| hca_dendrogram | 0.001 | 0.000 | 0.001 | |
| kfold_xval | 4.798 | 0.048 | 5.103 | |
| kfoldxcv_grid | 5.597 | 0.016 | 6.203 | |
| kfoldxcv_metric | 0.001 | 0.000 | 0.001 | |
| knn_impute | 0.018 | 0.000 | 0.018 | |
| kw_p_hist | 0.001 | 0.000 | 0.001 | |
| kw_rank_sum | 0.112 | 0.000 | 0.112 | |
| linear_model | 0.040 | 0.000 | 0.039 | |
| log_transform | 0.019 | 0.000 | 0.019 | |
| mean_centre | 0.004 | 0.000 | 0.004 | |
| mean_of_medians | 0.173 | 0.000 | 0.173 | |
| mixed_effect | 0.231 | 0.000 | 0.245 | |
| model_apply | 0.029 | 0.004 | 0.032 | |
| model_predict | 0.075 | 0.000 | 0.076 | |
| model_reverse | 0.074 | 0.000 | 0.074 | |
| model_train | 0.072 | 0.000 | 0.071 | |
| mv_boxplot | 0.644 | 0.000 | 0.980 | |
| mv_feature_filter | 0.169 | 0.000 | 0.353 | |
| mv_feature_filter_hist | 0.001 | 0.000 | 0.001 | |
| mv_histogram | 0.538 | 0.000 | 0.557 | |
| mv_sample_filter | 0.022 | 0.000 | 0.042 | |
| mv_sample_filter_hist | 0.001 | 0.000 | 0.000 | |
| nroot_transform | 0.019 | 0.000 | 0.044 | |
| ontology_cache | 0.000 | 0.000 | 0.001 | |
| pairs_filter | 0.023 | 0.000 | 0.044 | |
| pareto_scale | 0.087 | 0.000 | 0.175 | |
| pca_biplot | 0.031 | 0.000 | 0.065 | |
| pca_correlation_plot | 0.017 | 0.000 | 0.025 | |
| pca_dstat_plot | 0.016 | 0.004 | 0.020 | |
| pca_loadings_plot | 0.021 | 0.000 | 0.021 | |
| pca_scores_plot | 1.119 | 0.012 | 1.426 | |
| pca_scree_plot | 0.017 | 0.000 | 0.017 | |
| permutation_test | 0.044 | 0.003 | 0.047 | |
| permutation_test_plot | 0.004 | 0.000 | 0.004 | |
| permute_sample_order | 0.023 | 0.000 | 0.023 | |
| pls_regcoeff_plot | 0.693 | 0.028 | 1.137 | |
| pls_scores_plot | 1.328 | 0.012 | 1.938 | |
| pls_vip_plot | 0.725 | 0.000 | 0.754 | |
| plsda_feature_importance_plot | 1.299 | 0.000 | 1.519 | |
| plsda_predicted_plot | 0.891 | 0.000 | 1.085 | |
| plsda_roc_plot | 1.955 | 0.012 | 2.125 | |
| plsr_cook_dist | 0.016 | 0.000 | 0.016 | |
| plsr_prediction_plot | 0.016 | 0.000 | 0.016 | |
| plsr_qq_plot | 0.016 | 0.000 | 0.016 | |
| plsr_residual_hist | 0.015 | 0.000 | 0.016 | |
| pqn_norm | 0.512 | 0.000 | 0.655 | |
| pqn_norm_hist | 0.001 | 0.000 | 0.001 | |
| prop_na | 0.023 | 0.000 | 0.023 | |
| r_squared | 0.001 | 0.000 | 0.001 | |
| resample | 0.033 | 0.000 | 0.033 | |
| resample_chart | 0.003 | 0.000 | 0.004 | |
| rsd_filter | 0.028 | 0.000 | 0.028 | |
| rsd_filter_hist | 0.001 | 0.000 | 0.001 | |
| run | 0.040 | 0.000 | 0.042 | |
| sb_corr | 0.046 | 0.000 | 0.047 | |
| scatter_chart | 0.831 | 0.000 | 0.944 | |
| split_data | 0.020 | 0.000 | 0.019 | |
| stratified_split | 0.166 | 0.000 | 0.166 | |
| svm_plot_2d | 1.149 | 0.000 | 1.615 | |
| tSNE | 0.038 | 0.004 | 0.042 | |
| tSNE_scatter | 0.017 | 0.000 | 0.017 | |
| tic_chart | 0.517 | 0.008 | 0.525 | |
| ttest | 0.027 | 0.004 | 0.032 | |
| vec_norm | 0.001 | 0.000 | 0.001 | |
| wilcox_p_hist | 0.000 | 0.000 | 0.001 | |
| wilcox_test | 0.036 | 0.000 | 0.044 | |