| Back to Multiple platform build/check report for BioC 3.21: simplified long |
|
This page was generated on 2025-10-16 11:38 -0400 (Thu, 16 Oct 2025).
| Hostname | OS | Arch (*) | R version | Installed pkgs |
|---|---|---|---|---|
| nebbiolo1 | Linux (Ubuntu 24.04.3 LTS) | x86_64 | 4.5.1 (2025-06-13) -- "Great Square Root" | 4833 |
| merida1 | macOS 12.7.6 Monterey | x86_64 | 4.5.1 RC (2025-06-05 r88288) -- "Great Square Root" | 4614 |
| kjohnson1 | macOS 13.7.5 Ventura | arm64 | 4.5.1 Patched (2025-06-14 r88325) -- "Great Square Root" | 4555 |
| kunpeng2 | Linux (openEuler 24.03 LTS) | aarch64 | R Under development (unstable) (2025-02-19 r87757) -- "Unsuffered Consequences" | 4586 |
| Click on any hostname to see more info about the system (e.g. compilers) (*) as reported by 'uname -p', except on Windows and Mac OS X | ||||
| Package 387/2341 | Hostname | OS / Arch | INSTALL | BUILD | CHECK | BUILD BIN | ||||||||
| clustifyr 1.20.0 (landing page) Rui Fu
| nebbiolo1 | Linux (Ubuntu 24.04.3 LTS) / x86_64 | OK | OK | OK | |||||||||
| merida1 | macOS 12.7.6 Monterey / x86_64 | OK | OK | OK | OK | |||||||||
| kjohnson1 | macOS 13.7.5 Ventura / arm64 | OK | OK | OK | OK | |||||||||
| kunpeng2 | Linux (openEuler 24.03 LTS) / aarch64 | OK | OK | OK | ||||||||||
|
To the developers/maintainers of the clustifyr package: - Allow up to 24 hours (and sometimes 48 hours) for your latest push to git@git.bioconductor.org:packages/clustifyr.git to reflect on this report. See Troubleshooting Build Report for more information. - Use the following Renviron settings to reproduce errors and warnings. - If 'R CMD check' started to fail recently on the Linux builder(s) over a missing dependency, add the missing dependency to 'Suggests:' in your DESCRIPTION file. See Renviron.bioc for more information. |
| Package: clustifyr |
| Version: 1.20.0 |
| Command: /Library/Frameworks/R.framework/Resources/bin/R CMD check --install=check:clustifyr.install-out.txt --library=/Library/Frameworks/R.framework/Resources/library --no-vignettes --timings clustifyr_1.20.0.tar.gz |
| StartedAt: 2025-10-14 01:39:11 -0400 (Tue, 14 Oct 2025) |
| EndedAt: 2025-10-14 02:01:00 -0400 (Tue, 14 Oct 2025) |
| EllapsedTime: 1309.5 seconds |
| RetCode: 0 |
| Status: OK |
| CheckDir: clustifyr.Rcheck |
| Warnings: 0 |
##############################################################################
##############################################################################
###
### Running command:
###
### /Library/Frameworks/R.framework/Resources/bin/R CMD check --install=check:clustifyr.install-out.txt --library=/Library/Frameworks/R.framework/Resources/library --no-vignettes --timings clustifyr_1.20.0.tar.gz
###
##############################################################################
##############################################################################
* using log directory ‘/Users/biocbuild/bbs-3.21-bioc/meat/clustifyr.Rcheck’
* using R version 4.5.1 RC (2025-06-05 r88288)
* using platform: x86_64-apple-darwin20
* R was compiled by
Apple clang version 14.0.0 (clang-1400.0.29.202)
GNU Fortran (GCC) 14.2.0
* running under: macOS Monterey 12.7.6
* using session charset: UTF-8
* using option ‘--no-vignettes’
* checking for file ‘clustifyr/DESCRIPTION’ ... OK
* this is package ‘clustifyr’ version ‘1.20.0’
* package encoding: UTF-8
* checking package namespace information ... OK
* checking package dependencies ... OK
* checking if this is a source package ... OK
* checking if there is a namespace ... OK
* checking for hidden files and directories ... OK
* checking for portable file names ... OK
* checking for sufficient/correct file permissions ... OK
* checking whether package ‘clustifyr’ can be installed ... OK
* checking installed package size ... OK
* checking package directory ... OK
* checking ‘build’ directory ... OK
* checking DESCRIPTION meta-information ... NOTE
License stub is invalid DCF.
* checking top-level files ... OK
* checking for left-over files ... OK
* checking index information ... OK
* checking package subdirectories ... OK
* checking code files for non-ASCII characters ... OK
* checking R files for syntax errors ... OK
* checking whether the package can be loaded ... OK
* checking whether the package can be loaded with stated dependencies ... OK
* checking whether the package can be unloaded cleanly ... OK
* checking whether the namespace can be loaded with stated dependencies ... OK
* checking whether the namespace can be unloaded cleanly ... OK
* checking dependencies in R code ... OK
* checking S3 generic/method consistency ... OK
* checking replacement functions ... OK
* checking foreign function calls ... OK
* checking R code for possible problems ... OK
* checking Rd files ... OK
* checking Rd metadata ... OK
* checking Rd cross-references ... OK
* checking for missing documentation entries ... OK
* checking for code/documentation mismatches ... OK
* checking Rd \usage sections ... OK
* checking Rd contents ... OK
* checking for unstated dependencies in examples ... OK
* checking contents of ‘data’ directory ... OK
* checking data for non-ASCII characters ... OK
* checking LazyData ... OK
* checking data for ASCII and uncompressed saves ... OK
* checking files in ‘vignettes’ ... OK
* checking examples ... OK
Examples with CPU (user + system) or elapsed time > 5s
user system elapsed
plot_pathway_gsea 24.859 0.128 26.871
calculate_pathway_gsea 21.724 0.130 25.016
* checking for unstated dependencies in ‘tests’ ... OK
* checking tests ...
Running ‘testthat.R’
OK
* checking for unstated dependencies in vignettes ... OK
* checking package vignettes ... OK
* checking running R code from vignettes ... SKIPPED
* checking re-building of vignette outputs ... SKIPPED
* checking PDF version of manual ... OK
* DONE
Status: 1 NOTE
See
‘/Users/biocbuild/bbs-3.21-bioc/meat/clustifyr.Rcheck/00check.log’
for details.
clustifyr.Rcheck/00install.out
############################################################################## ############################################################################## ### ### Running command: ### ### /Library/Frameworks/R.framework/Resources/bin/R CMD INSTALL clustifyr ### ############################################################################## ############################################################################## * installing to library ‘/Library/Frameworks/R.framework/Versions/4.5-x86_64/Resources/library’ * installing *source* package ‘clustifyr’ ... ** this is package ‘clustifyr’ version ‘1.20.0’ ** using staged installation ** R ** data *** moving datasets to lazyload DB ** inst ** byte-compile and prepare package for lazy loading ** help *** installing help indices *** copying figures ** building package indices ** installing vignettes ** testing if installed package can be loaded from temporary location ** testing if installed package can be loaded from final location ** testing if installed package keeps a record of temporary installation path * DONE (clustifyr)
clustifyr.Rcheck/tests/testthat.Rout
R version 4.5.1 RC (2025-06-05 r88288) -- "Great Square Root"
Copyright (C) 2025 The R Foundation for Statistical Computing
Platform: x86_64-apple-darwin20
R is free software and comes with ABSOLUTELY NO WARRANTY.
You are welcome to redistribute it under certain conditions.
Type 'license()' or 'licence()' for distribution details.
R is a collaborative project with many contributors.
Type 'contributors()' for more information and
'citation()' on how to cite R or R packages in publications.
Type 'demo()' for some demos, 'help()' for on-line help, or
'help.start()' for an HTML browser interface to help.
Type 'q()' to quit R.
> library(testthat)
> library(clustifyr)
>
> test_check("clustifyr")
[ FAIL 0 | WARN 1 | SKIP 0 | PASS 183 ]
[ FAIL 0 | WARN 1 | SKIP 0 | PASS 183 ]
>
> proc.time()
user system elapsed
683.614 9.659 744.919
clustifyr.Rcheck/clustifyr-Ex.timings
| name | user | system | elapsed | |
| append_genes | 0.043 | 0.010 | 0.066 | |
| assess_rank_bias | 0.001 | 0.001 | 0.001 | |
| average_clusters | 0.086 | 0.015 | 0.112 | |
| binarize_expr | 0.135 | 0.006 | 0.176 | |
| build_atlas | 0.838 | 0.018 | 1.069 | |
| calc_distance | 0.008 | 0.001 | 0.012 | |
| calculate_pathway_gsea | 21.724 | 0.130 | 25.016 | |
| call_consensus | 0.405 | 0.013 | 0.475 | |
| call_to_metadata | 0.361 | 0.489 | 1.074 | |
| check_raw_counts | 0.907 | 0.062 | 1.072 | |
| clustify | 3.310 | 0.119 | 3.774 | |
| clustify_lists | 0.102 | 0.010 | 0.126 | |
| clustify_nudge | 1.871 | 0.048 | 2.072 | |
| clustifyr_methods | 0.000 | 0.001 | 0.000 | |
| collapse_to_cluster | 2.087 | 0.097 | 2.349 | |
| compare_lists | 0.239 | 0.009 | 0.279 | |
| cor_to_call | 0.129 | 0.011 | 0.144 | |
| cor_to_call_rank | 0.118 | 0.003 | 0.129 | |
| cor_to_call_topn | 0.118 | 0.001 | 0.120 | |
| downsample_matrix | 0.022 | 0.001 | 0.024 | |
| feature_select_PCA | 0.016 | 0.006 | 0.022 | |
| file_marker_parse | 0.004 | 0.003 | 0.006 | |
| find_rank_bias | 0.075 | 0.007 | 0.083 | |
| gene_pct_markerm | 0.557 | 0.005 | 0.564 | |
| get_ucsc_reference | 0.000 | 0.001 | 0.001 | |
| get_vargenes | 0.001 | 0.001 | 0.002 | |
| gmt_to_list | 0.073 | 0.004 | 0.080 | |
| insert_meta_object | 0.528 | 0.013 | 0.547 | |
| make_comb_ref | 0.031 | 0.003 | 0.033 | |
| marker_select | 0.038 | 0.006 | 0.048 | |
| matrixize_markers | 0.057 | 0.015 | 0.075 | |
| object_data | 0.655 | 0.019 | 0.683 | |
| object_ref | 1.374 | 0.336 | 1.764 | |
| overcluster | 2.036 | 0.105 | 2.181 | |
| overcluster_test | 4.643 | 0.189 | 4.975 | |
| parse_loc_object | 0.497 | 0.007 | 0.522 | |
| plot_best_call | 1.270 | 0.024 | 1.386 | |
| plot_cor | 1.991 | 0.057 | 2.144 | |
| plot_cor_heatmap | 2.115 | 0.082 | 2.321 | |
| plot_dims | 0.905 | 0.012 | 0.960 | |
| plot_gene | 1.544 | 0.022 | 1.617 | |
| plot_pathway_gsea | 24.859 | 0.128 | 26.871 | |
| plot_rank_bias | 0.000 | 0.001 | 0.003 | |
| pos_neg_marker | 0.017 | 0.001 | 0.018 | |
| pos_neg_select | 0.193 | 0.003 | 0.199 | |
| query_rank_bias | 0.082 | 0.005 | 0.088 | |
| ref_feature_select | 0.039 | 0.001 | 0.045 | |
| ref_marker_select | 0.505 | 0.002 | 0.536 | |
| reverse_marker_matrix | 0.010 | 0.011 | 0.023 | |
| run_clustifyr_app | 0.000 | 0.001 | 0.000 | |
| seurat_meta | 0.582 | 0.015 | 0.647 | |
| seurat_ref | 0.531 | 0.013 | 0.573 | |
| write_meta | 0.653 | 0.032 | 0.717 | |