| Back to Multiple platform build/check report for BioC 3.21: simplified long |
|
This page was generated on 2025-10-16 11:41 -0400 (Thu, 16 Oct 2025).
| Hostname | OS | Arch (*) | R version | Installed pkgs |
|---|---|---|---|---|
| nebbiolo1 | Linux (Ubuntu 24.04.3 LTS) | x86_64 | 4.5.1 (2025-06-13) -- "Great Square Root" | 4833 |
| merida1 | macOS 12.7.6 Monterey | x86_64 | 4.5.1 RC (2025-06-05 r88288) -- "Great Square Root" | 4614 |
| kjohnson1 | macOS 13.7.5 Ventura | arm64 | 4.5.1 Patched (2025-06-14 r88325) -- "Great Square Root" | 4555 |
| kunpeng2 | Linux (openEuler 24.03 LTS) | aarch64 | R Under development (unstable) (2025-02-19 r87757) -- "Unsuffered Consequences" | 4586 |
| Click on any hostname to see more info about the system (e.g. compilers) (*) as reported by 'uname -p', except on Windows and Mac OS X | ||||
| Package 387/2341 | Hostname | OS / Arch | INSTALL | BUILD | CHECK | BUILD BIN | ||||||||
| clustifyr 1.20.0 (landing page) Rui Fu
| nebbiolo1 | Linux (Ubuntu 24.04.3 LTS) / x86_64 | OK | OK | OK | |||||||||
| merida1 | macOS 12.7.6 Monterey / x86_64 | OK | OK | OK | OK | |||||||||
| kjohnson1 | macOS 13.7.5 Ventura / arm64 | OK | OK | OK | OK | |||||||||
| kunpeng2 | Linux (openEuler 24.03 LTS) / aarch64 | OK | OK | OK | ||||||||||
|
To the developers/maintainers of the clustifyr package: - Allow up to 24 hours (and sometimes 48 hours) for your latest push to git@git.bioconductor.org:packages/clustifyr.git to reflect on this report. See Troubleshooting Build Report for more information. - Use the following Renviron settings to reproduce errors and warnings. - If 'R CMD check' started to fail recently on the Linux builder(s) over a missing dependency, add the missing dependency to 'Suggests:' in your DESCRIPTION file. See Renviron.bioc for more information. - See Martin Grigorov's blog post for how to debug Linux ARM64 related issues on a x86_64 host. |
| Package: clustifyr |
| Version: 1.20.0 |
| Command: /home/biocbuild/R/R/bin/R CMD check --install=check:clustifyr.install-out.txt --library=/home/biocbuild/R/R/site-library --no-vignettes --timings clustifyr_1.20.0.tar.gz |
| StartedAt: 2025-10-14 07:37:08 -0000 (Tue, 14 Oct 2025) |
| EndedAt: 2025-10-14 07:53:24 -0000 (Tue, 14 Oct 2025) |
| EllapsedTime: 975.7 seconds |
| RetCode: 0 |
| Status: OK |
| CheckDir: clustifyr.Rcheck |
| Warnings: 0 |
##############################################################################
##############################################################################
###
### Running command:
###
### /home/biocbuild/R/R/bin/R CMD check --install=check:clustifyr.install-out.txt --library=/home/biocbuild/R/R/site-library --no-vignettes --timings clustifyr_1.20.0.tar.gz
###
##############################################################################
##############################################################################
* using log directory ‘/home/biocbuild/bbs-3.21-bioc/meat/clustifyr.Rcheck’
* using R Under development (unstable) (2025-02-19 r87757)
* using platform: aarch64-unknown-linux-gnu
* R was compiled by
aarch64-unknown-linux-gnu-gcc (GCC) 14.2.0
GNU Fortran (GCC) 14.2.0
* running under: openEuler 24.03 (LTS-SP1)
* using session charset: UTF-8
* using option ‘--no-vignettes’
* checking for file ‘clustifyr/DESCRIPTION’ ... OK
* this is package ‘clustifyr’ version ‘1.20.0’
* package encoding: UTF-8
* checking package namespace information ... OK
* checking package dependencies ... OK
* checking if this is a source package ... OK
* checking if there is a namespace ... OK
* checking for hidden files and directories ... OK
* checking for portable file names ... OK
* checking for sufficient/correct file permissions ... OK
* checking whether package ‘clustifyr’ can be installed ... OK
* checking installed package size ... OK
* checking package directory ... OK
* checking ‘build’ directory ... OK
* checking DESCRIPTION meta-information ... NOTE
License stub is invalid DCF.
* checking top-level files ... OK
* checking for left-over files ... OK
* checking index information ... OK
* checking package subdirectories ... OK
* checking code files for non-ASCII characters ... OK
* checking R files for syntax errors ... OK
* checking whether the package can be loaded ... OK
* checking whether the package can be loaded with stated dependencies ... OK
* checking whether the package can be unloaded cleanly ... OK
* checking whether the namespace can be loaded with stated dependencies ... OK
* checking whether the namespace can be unloaded cleanly ... OK
* checking loading without being on the library search path ... OK
* checking dependencies in R code ... OK
* checking S3 generic/method consistency ... OK
* checking replacement functions ... OK
* checking foreign function calls ... OK
* checking R code for possible problems ... OK
* checking Rd files ... OK
* checking Rd metadata ... OK
* checking Rd cross-references ... OK
* checking for missing documentation entries ... OK
* checking for code/documentation mismatches ... OK
* checking Rd \usage sections ... OK
* checking Rd contents ... OK
* checking for unstated dependencies in examples ... OK
* checking contents of ‘data’ directory ... OK
* checking data for non-ASCII characters ... OK
* checking LazyData ... OK
* checking data for ASCII and uncompressed saves ... OK
* checking files in ‘vignettes’ ... OK
* checking examples ... OK
Examples with CPU (user + system) or elapsed time > 5s
user system elapsed
plot_pathway_gsea 22.934 0.179 23.162
calculate_pathway_gsea 19.977 0.196 20.217
* checking for unstated dependencies in ‘tests’ ... OK
* checking tests ...
Running ‘testthat.R’
OK
* checking for unstated dependencies in vignettes ... OK
* checking package vignettes ... OK
* checking running R code from vignettes ... SKIPPED
* checking re-building of vignette outputs ... SKIPPED
* checking PDF version of manual ... OK
* DONE
Status: 1 NOTE
See
‘/home/biocbuild/bbs-3.21-bioc/meat/clustifyr.Rcheck/00check.log’
for details.
clustifyr.Rcheck/00install.out
############################################################################## ############################################################################## ### ### Running command: ### ### /home/biocbuild/R/R/bin/R CMD INSTALL clustifyr ### ############################################################################## ############################################################################## * installing to library ‘/home/biocbuild/R/R-devel_2025-02-19/site-library’ * installing *source* package ‘clustifyr’ ... ** this is package ‘clustifyr’ version ‘1.20.0’ ** using staged installation ** R ** data *** moving datasets to lazyload DB ** inst ** byte-compile and prepare package for lazy loading ** help *** installing help indices *** copying figures ** building package indices ** installing vignettes ** testing if installed package can be loaded from temporary location ** testing if installed package can be loaded from final location ** testing if installed package keeps a record of temporary installation path * DONE (clustifyr)
clustifyr.Rcheck/tests/testthat.Rout
R Under development (unstable) (2025-02-19 r87757) -- "Unsuffered Consequences"
Copyright (C) 2025 The R Foundation for Statistical Computing
Platform: aarch64-unknown-linux-gnu
R is free software and comes with ABSOLUTELY NO WARRANTY.
You are welcome to redistribute it under certain conditions.
Type 'license()' or 'licence()' for distribution details.
R is a collaborative project with many contributors.
Type 'contributors()' for more information and
'citation()' on how to cite R or R packages in publications.
Type 'demo()' for some demos, 'help()' for on-line help, or
'help.start()' for an HTML browser interface to help.
Type 'q()' to quit R.
> library(testthat)
> library(clustifyr)
>
> test_check("clustifyr")
[ FAIL 0 | WARN 1 | SKIP 0 | PASS 183 ]
[ FAIL 0 | WARN 1 | SKIP 0 | PASS 183 ]
>
> proc.time()
user system elapsed
614.600 3.410 619.283
clustifyr.Rcheck/clustifyr-Ex.timings
| name | user | system | elapsed | |
| append_genes | 0.037 | 0.004 | 0.042 | |
| assess_rank_bias | 0 | 0 | 0 | |
| average_clusters | 0.110 | 0.000 | 0.111 | |
| binarize_expr | 0.154 | 0.000 | 0.154 | |
| build_atlas | 0.943 | 0.000 | 0.945 | |
| calc_distance | 0.006 | 0.000 | 0.006 | |
| calculate_pathway_gsea | 19.977 | 0.196 | 20.217 | |
| call_consensus | 0.313 | 0.012 | 0.325 | |
| call_to_metadata | 0.154 | 0.043 | 0.198 | |
| check_raw_counts | 1.126 | 0.020 | 1.148 | |
| clustify | 3.733 | 0.036 | 3.776 | |
| clustify_lists | 0.101 | 0.004 | 0.106 | |
| clustify_nudge | 1.867 | 0.024 | 1.896 | |
| clustifyr_methods | 0 | 0 | 0 | |
| collapse_to_cluster | 3.417 | 0.012 | 3.435 | |
| compare_lists | 0.191 | 0.000 | 0.192 | |
| cor_to_call | 0.132 | 0.000 | 0.132 | |
| cor_to_call_rank | 0.106 | 0.000 | 0.105 | |
| cor_to_call_topn | 0.110 | 0.000 | 0.111 | |
| downsample_matrix | 0.017 | 0.000 | 0.017 | |
| feature_select_PCA | 0.013 | 0.000 | 0.013 | |
| file_marker_parse | 0.002 | 0.000 | 0.002 | |
| find_rank_bias | 0.063 | 0.000 | 0.064 | |
| gene_pct_markerm | 0.637 | 0.000 | 0.639 | |
| get_ucsc_reference | 0 | 0 | 0 | |
| get_vargenes | 0.001 | 0.000 | 0.001 | |
| gmt_to_list | 0.042 | 0.004 | 0.048 | |
| insert_meta_object | 0.364 | 0.004 | 0.370 | |
| make_comb_ref | 0.035 | 0.000 | 0.035 | |
| marker_select | 0.044 | 0.000 | 0.044 | |
| matrixize_markers | 0.037 | 0.000 | 0.037 | |
| object_data | 0.490 | 0.012 | 0.503 | |
| object_ref | 0.432 | 0.020 | 0.454 | |
| overcluster | 2.212 | 0.040 | 2.257 | |
| overcluster_test | 2.369 | 0.040 | 2.416 | |
| parse_loc_object | 0.347 | 0.008 | 0.357 | |
| plot_best_call | 0.843 | 0.004 | 0.850 | |
| plot_cor | 1.159 | 0.004 | 1.166 | |
| plot_cor_heatmap | 1.202 | 0.015 | 1.221 | |
| plot_dims | 0.547 | 0.000 | 0.549 | |
| plot_gene | 0.922 | 0.004 | 0.929 | |
| plot_pathway_gsea | 22.934 | 0.179 | 23.162 | |
| plot_rank_bias | 0.001 | 0.000 | 0.000 | |
| pos_neg_marker | 0.01 | 0.00 | 0.01 | |
| pos_neg_select | 0.113 | 0.000 | 0.114 | |
| query_rank_bias | 0.056 | 0.000 | 0.056 | |
| ref_feature_select | 0.057 | 0.000 | 0.057 | |
| ref_marker_select | 0.260 | 0.000 | 0.262 | |
| reverse_marker_matrix | 0.004 | 0.000 | 0.004 | |
| run_clustifyr_app | 0 | 0 | 0 | |
| seurat_meta | 0.421 | 0.000 | 0.423 | |
| seurat_ref | 0.400 | 0.008 | 0.409 | |
| write_meta | 0.447 | 0.004 | 0.453 | |