| Back to Multiple platform build/check report for BioC 3.14 |
|
This page was generated on 2022-04-13 12:06:26 -0400 (Wed, 13 Apr 2022).
| Hostname | OS | Arch (*) | R version | Installed pkgs |
|---|---|---|---|---|
| nebbiolo2 | Linux (Ubuntu 20.04.4 LTS) | x86_64 | 4.1.3 (2022-03-10) -- "One Push-Up" | 4324 |
| tokay2 | Windows Server 2012 R2 Standard | x64 | 4.1.3 (2022-03-10) -- "One Push-Up" | 4077 |
| machv2 | macOS 10.14.6 Mojave | x86_64 | 4.1.3 (2022-03-10) -- "One Push-Up" | 4137 |
| Click on any hostname to see more info about the system (e.g. compilers) (*) as reported by 'uname -p', except on Windows and Mac OS X | ||||
|
To the developers/maintainers of the DelayedMatrixStats package: - Please allow up to 24 hours (and sometimes 48 hours) for your latest push to git@git.bioconductor.org:packages/DelayedMatrixStats.git to reflect on this report. See How and When does the builder pull? When will my changes propagate? for more information. - Make sure to use the following settings in order to reproduce any error or warning you see on this page. |
| Package 479/2083 | Hostname | OS / Arch | INSTALL | BUILD | CHECK | BUILD BIN | ||||||||
| DelayedMatrixStats 1.16.0 (landing page) Peter Hickey
| nebbiolo2 | Linux (Ubuntu 20.04.4 LTS) / x86_64 | OK | OK | OK | |||||||||
| tokay2 | Windows Server 2012 R2 Standard / x64 | OK | OK | OK | OK | |||||||||
| machv2 | macOS 10.14.6 Mojave / x86_64 | OK | OK | OK | OK | |||||||||
| Package: DelayedMatrixStats |
| Version: 1.16.0 |
| Command: C:\cygwin\bin\curl.exe -O http://155.52.207.166/BBS/3.14/bioc/src/contrib/DelayedMatrixStats_1.16.0.tar.gz && rm -rf DelayedMatrixStats.buildbin-libdir && mkdir DelayedMatrixStats.buildbin-libdir && C:\Users\biocbuild\bbs-3.14-bioc\R\bin\R.exe CMD INSTALL --merge-multiarch --build --library=DelayedMatrixStats.buildbin-libdir DelayedMatrixStats_1.16.0.tar.gz && C:\Users\biocbuild\bbs-3.14-bioc\R\bin\R.exe CMD INSTALL DelayedMatrixStats_1.16.0.zip && rm DelayedMatrixStats_1.16.0.tar.gz DelayedMatrixStats_1.16.0.zip |
| StartedAt: 2022-04-12 05:25:13 -0400 (Tue, 12 Apr 2022) |
| EndedAt: 2022-04-12 05:26:41 -0400 (Tue, 12 Apr 2022) |
| EllapsedTime: 88.0 seconds |
| RetCode: 0 |
| Status: OK |
##############################################################################
##############################################################################
###
### Running command:
###
### C:\cygwin\bin\curl.exe -O http://155.52.207.166/BBS/3.14/bioc/src/contrib/DelayedMatrixStats_1.16.0.tar.gz && rm -rf DelayedMatrixStats.buildbin-libdir && mkdir DelayedMatrixStats.buildbin-libdir && C:\Users\biocbuild\bbs-3.14-bioc\R\bin\R.exe CMD INSTALL --merge-multiarch --build --library=DelayedMatrixStats.buildbin-libdir DelayedMatrixStats_1.16.0.tar.gz && C:\Users\biocbuild\bbs-3.14-bioc\R\bin\R.exe CMD INSTALL DelayedMatrixStats_1.16.0.zip && rm DelayedMatrixStats_1.16.0.tar.gz DelayedMatrixStats_1.16.0.zip
###
##############################################################################
##############################################################################
% Total % Received % Xferd Average Speed Time Time Time Current
Dload Upload Total Spent Left Speed
0 0 0 0 0 0 0 0 --:--:-- --:--:-- --:--:-- 0
100 45213 100 45213 0 0 284k 0 --:--:-- --:--:-- --:--:-- 286k
install for i386
Warning in untar2(tarfile, files, list, exdir, restore_times) :
failed to copy 'DelayedMatrixStats/longtests/../tests/testthat' to 'DelayedMatrixStats/longtests/testthat'
* installing *source* package 'DelayedMatrixStats' ...
** using staged installation
** R
** inst
** byte-compile and prepare package for lazy loading
** help
*** installing help indices
converting help for package 'DelayedMatrixStats'
finding HTML links ... done
DelayedMatrixStats html
colAlls html
finding level-2 HTML links ... done
colAnyNAs html
colAvgsPerRowSet html
colCollapse html
colCounts html
colCummaxs html
colDiffs html
colIQRDiffs html
colIQRs html
colLogSumExps html
colMads html
colMeans2 html
colMedians html
colOrderStats html
colProds html
colQuantiles html
colRanks html
colSums2 html
colTabulates html
colVars html
colWeightedMads html
colWeightedMeans html
colWeightedMedians html
colWeightedVars html
from_DelayedArray_to_simple_seed_class
html
reexports html
subset_by_Nindex html
** building package indices
** installing vignettes
** testing if installed package can be loaded from temporary location
** testing if installed package can be loaded from final location
** testing if installed package keeps a record of temporary installation path
install for x64
Warning in untar2(tarfile, files, list, exdir, restore_times) :
failed to copy 'DelayedMatrixStats/longtests/../tests/testthat' to 'DelayedMatrixStats/longtests/testthat'
* installing *source* package 'DelayedMatrixStats' ...
** testing if installed package can be loaded
* MD5 sums
packaged installation of 'DelayedMatrixStats' as DelayedMatrixStats_1.16.0.zip
* DONE (DelayedMatrixStats)
* installing to library 'C:/Users/biocbuild/bbs-3.14-bioc/R/library'
package 'DelayedMatrixStats' successfully unpacked and MD5 sums checked