| Back to Multiple platform build/check report for BioC 3.14 |
|
This page was generated on 2022-04-13 12:05:16 -0400 (Wed, 13 Apr 2022).
| Hostname | OS | Arch (*) | R version | Installed pkgs |
|---|---|---|---|---|
| nebbiolo2 | Linux (Ubuntu 20.04.4 LTS) | x86_64 | 4.1.3 (2022-03-10) -- "One Push-Up" | 4324 |
| tokay2 | Windows Server 2012 R2 Standard | x64 | 4.1.3 (2022-03-10) -- "One Push-Up" | 4077 |
| machv2 | macOS 10.14.6 Mojave | x86_64 | 4.1.3 (2022-03-10) -- "One Push-Up" | 4137 |
| Click on any hostname to see more info about the system (e.g. compilers) (*) as reported by 'uname -p', except on Windows and Mac OS X | ||||
|
To the developers/maintainers of the DelayedMatrixStats package: - Please allow up to 24 hours (and sometimes 48 hours) for your latest push to git@git.bioconductor.org:packages/DelayedMatrixStats.git to reflect on this report. See How and When does the builder pull? When will my changes propagate? for more information. - Make sure to use the following settings in order to reproduce any error or warning you see on this page. |
| Package 479/2083 | Hostname | OS / Arch | INSTALL | BUILD | CHECK | BUILD BIN | ||||||||
| DelayedMatrixStats 1.16.0 (landing page) Peter Hickey
| nebbiolo2 | Linux (Ubuntu 20.04.4 LTS) / x86_64 | OK | OK | OK | |||||||||
| tokay2 | Windows Server 2012 R2 Standard / x64 | OK | OK | OK | OK | |||||||||
| machv2 | macOS 10.14.6 Mojave / x86_64 | OK | OK | OK | OK | |||||||||
| Package: DelayedMatrixStats |
| Version: 1.16.0 |
| Command: /home/biocbuild/bbs-3.14-bioc/R/bin/R CMD check --install=check:DelayedMatrixStats.install-out.txt --library=/home/biocbuild/bbs-3.14-bioc/R/library --no-vignettes --timings DelayedMatrixStats_1.16.0.tar.gz |
| StartedAt: 2022-04-12 07:06:58 -0400 (Tue, 12 Apr 2022) |
| EndedAt: 2022-04-12 07:11:01 -0400 (Tue, 12 Apr 2022) |
| EllapsedTime: 244.0 seconds |
| RetCode: 0 |
| Status: OK |
| CheckDir: DelayedMatrixStats.Rcheck |
| Warnings: 0 |
############################################################################## ############################################################################## ### ### Running command: ### ### /home/biocbuild/bbs-3.14-bioc/R/bin/R CMD check --install=check:DelayedMatrixStats.install-out.txt --library=/home/biocbuild/bbs-3.14-bioc/R/library --no-vignettes --timings DelayedMatrixStats_1.16.0.tar.gz ### ############################################################################## ############################################################################## * using log directory ‘/home/biocbuild/bbs-3.14-bioc/meat/DelayedMatrixStats.Rcheck’ * using R version 4.1.3 (2022-03-10) * using platform: x86_64-pc-linux-gnu (64-bit) * using session charset: UTF-8 * using option ‘--no-vignettes’ * checking for file ‘DelayedMatrixStats/DESCRIPTION’ ... OK * checking extension type ... Package * this is package ‘DelayedMatrixStats’ version ‘1.16.0’ * package encoding: UTF-8 * checking package namespace information ... OK * checking package dependencies ... OK * checking if this is a source package ... OK * checking if there is a namespace ... OK * checking for hidden files and directories ... OK * checking for portable file names ... OK * checking for sufficient/correct file permissions ... OK * checking whether package ‘DelayedMatrixStats’ can be installed ... OK * checking installed package size ... OK * checking package directory ... OK * checking ‘build’ directory ... OK * checking DESCRIPTION meta-information ... OK * checking top-level files ... OK * checking for left-over files ... OK * checking index information ... OK * checking package subdirectories ... OK * checking R files for non-ASCII characters ... OK * checking R files for syntax errors ... OK * checking whether the package can be loaded ... OK * checking whether the package can be loaded with stated dependencies ... OK * checking whether the package can be unloaded cleanly ... OK * checking whether the namespace can be loaded with stated dependencies ... OK * checking whether the namespace can be unloaded cleanly ... OK * checking dependencies in R code ... NOTE Missing object imported by a ':::' call: ‘DelayedArray:::.reduce_array_dimensions’ Unexported objects imported by ':::' calls: ‘DelayedArray:::.get_ans_type’ ‘DelayedArray:::RleArraySeed’ ‘DelayedArray:::get_Nindex_lengths’ ‘DelayedArray:::set_dim’ ‘DelayedArray:::set_dimnames’ ‘DelayedArray:::subset_by_Nindex’ ‘DelayedArray:::to_linear_index’ See the note in ?`:::` about the use of this operator. * checking S3 generic/method consistency ... OK * checking replacement functions ... OK * checking foreign function calls ... OK * checking R code for possible problems ... OK * checking Rd files ... OK * checking Rd metadata ... OK * checking Rd cross-references ... OK * checking for missing documentation entries ... OK * checking for code/documentation mismatches ... OK * checking Rd \usage sections ... OK * checking Rd contents ... OK * checking for unstated dependencies in examples ... OK * checking files in ‘vignettes’ ... OK * checking examples ... OK * checking for unstated dependencies in ‘tests’ ... OK * checking tests ... Running ‘testthat.R’ OK * checking for unstated dependencies in vignettes ... OK * checking package vignettes in ‘inst/doc’ ... OK * checking running R code from vignettes ... SKIPPED * checking re-building of vignette outputs ... SKIPPED * checking PDF version of manual ... OK * DONE Status: 1 NOTE See ‘/home/biocbuild/bbs-3.14-bioc/meat/DelayedMatrixStats.Rcheck/00check.log’ for details.
DelayedMatrixStats.Rcheck/00install.out
############################################################################## ############################################################################## ### ### Running command: ### ### /home/biocbuild/bbs-3.14-bioc/R/bin/R CMD INSTALL DelayedMatrixStats ### ############################################################################## ############################################################################## * installing to library ‘/home/biocbuild/bbs-3.14-bioc/R/library’ * installing *source* package ‘DelayedMatrixStats’ ... ** using staged installation ** R ** inst ** byte-compile and prepare package for lazy loading ** help *** installing help indices ** building package indices ** installing vignettes ** testing if installed package can be loaded from temporary location ** testing if installed package can be loaded from final location ** testing if installed package keeps a record of temporary installation path * DONE (DelayedMatrixStats)
DelayedMatrixStats.Rcheck/tests/testthat.Rout
R version 4.1.3 (2022-03-10) -- "One Push-Up"
Copyright (C) 2022 The R Foundation for Statistical Computing
Platform: x86_64-pc-linux-gnu (64-bit)
R is free software and comes with ABSOLUTELY NO WARRANTY.
You are welcome to redistribute it under certain conditions.
Type 'license()' or 'licence()' for distribution details.
R is a collaborative project with many contributors.
Type 'contributors()' for more information and
'citation()' on how to cite R or R packages in publications.
Type 'demo()' for some demos, 'help()' for on-line help, or
'help.start()' for an HTML browser interface to help.
Type 'q()' to quit R.
> library(testthat)
> library(DelayedMatrixStats)
Loading required package: MatrixGenerics
Loading required package: matrixStats
Attaching package: 'MatrixGenerics'
The following objects are masked from 'package:matrixStats':
colAlls, colAnyNAs, colAnys, colAvgsPerRowSet, colCollapse,
colCounts, colCummaxs, colCummins, colCumprods, colCumsums,
colDiffs, colIQRDiffs, colIQRs, colLogSumExps, colMadDiffs,
colMads, colMaxs, colMeans2, colMedians, colMins, colOrderStats,
colProds, colQuantiles, colRanges, colRanks, colSdDiffs, colSds,
colSums2, colTabulates, colVarDiffs, colVars, colWeightedMads,
colWeightedMeans, colWeightedMedians, colWeightedSds,
colWeightedVars, rowAlls, rowAnyNAs, rowAnys, rowAvgsPerColSet,
rowCollapse, rowCounts, rowCummaxs, rowCummins, rowCumprods,
rowCumsums, rowDiffs, rowIQRDiffs, rowIQRs, rowLogSumExps,
rowMadDiffs, rowMads, rowMaxs, rowMeans2, rowMedians, rowMins,
rowOrderStats, rowProds, rowQuantiles, rowRanges, rowRanks,
rowSdDiffs, rowSds, rowSums2, rowTabulates, rowVarDiffs, rowVars,
rowWeightedMads, rowWeightedMeans, rowWeightedMedians,
rowWeightedSds, rowWeightedVars
Loading required package: DelayedArray
Loading required package: stats4
Loading required package: Matrix
Loading required package: BiocGenerics
Attaching package: 'BiocGenerics'
The following objects are masked from 'package:stats':
IQR, mad, sd, var, xtabs
The following objects are masked from 'package:base':
Filter, Find, Map, Position, Reduce, anyDuplicated, append,
as.data.frame, basename, cbind, colnames, dirname, do.call,
duplicated, eval, evalq, get, grep, grepl, intersect, is.unsorted,
lapply, mapply, match, mget, order, paste, pmax, pmax.int, pmin,
pmin.int, rank, rbind, rownames, sapply, setdiff, sort, table,
tapply, union, unique, unsplit, which.max, which.min
Loading required package: S4Vectors
Attaching package: 'S4Vectors'
The following objects are masked from 'package:Matrix':
expand, unname
The following objects are masked from 'package:base':
I, expand.grid, unname
Loading required package: IRanges
Attaching package: 'DelayedArray'
The following objects are masked from 'package:base':
aperm, apply, rowsum, scale, sweep
Attaching package: 'DelayedMatrixStats'
The following objects are masked from 'package:matrixStats':
colAnyMissings, rowAnyMissings
>
> test_check("DelayedMatrixStats")
Loading required package: rhdf5
Attaching package: 'HDF5Array'
The following object is masked from 'package:rhdf5':
h5ls
[ FAIL 0 | WARN 0 | SKIP 0 | PASS 14732 ]
>
> proc.time()
user system elapsed
152.169 7.214 161.286
DelayedMatrixStats.Rcheck/DelayedMatrixStats-Ex.timings
| name | user | system | elapsed | |
| colAlls | 0.060 | 0.003 | 0.063 | |
| colAnyNAs | 0.397 | 0.029 | 0.426 | |
| colAvgsPerRowSet | 0.185 | 0.003 | 0.189 | |
| colCollapse | 0.088 | 0.004 | 0.093 | |
| colCounts | 0.081 | 0.000 | 0.082 | |
| colCummaxs | 0.119 | 0.000 | 0.119 | |
| colDiffs | 0.104 | 0.000 | 0.104 | |
| colIQRDiffs | 0.088 | 0.000 | 0.087 | |
| colIQRs | 0.005 | 0.000 | 0.005 | |
| colLogSumExps | 0.017 | 0.000 | 0.017 | |
| colMads | 0.074 | 0.000 | 0.074 | |
| colMeans2 | 0.018 | 0.000 | 0.017 | |
| colMedians | 0.018 | 0.000 | 0.017 | |
| colOrderStats | 0.043 | 0.000 | 0.043 | |
| colProds | 0.089 | 0.007 | 0.097 | |
| colQuantiles | 0.018 | 0.000 | 0.019 | |
| colRanks | 0.018 | 0.000 | 0.017 | |
| colSums2 | 0.011 | 0.000 | 0.011 | |
| colTabulates | 0.103 | 0.000 | 0.103 | |
| colVars | 0.055 | 0.000 | 0.055 | |
| colWeightedMads | 0.003 | 0.000 | 0.003 | |
| colWeightedMeans | 0.029 | 0.000 | 0.029 | |
| colWeightedMedians | 0.014 | 0.000 | 0.014 | |
| colWeightedVars | 0.07 | 0.00 | 0.07 | |