| Back to Build/check report for BioC 3.13 experimental data | 
 | 
This page was generated on 2021-10-16 15:58:41 -0400 (Sat, 16 Oct 2021).
| To the developers/maintainers of the JctSeqData package: Make sure to use the following settings in order to reproduce any error or warning you see on this page. | 
| Package 197/406 | Hostname | OS / Arch | INSTALL | BUILD | CHECK | ||||||||
| Stephen Hartley 
 | malbec2 | Linux (Ubuntu 20.04.2 LTS) / x86_64 | OK | OK | ERROR | ||||||||
| Package: JctSeqData | 
| Version: 1.22.0 | 
| Command: /home/biocbuild/bbs-3.13-bioc/R/bin/R CMD INSTALL JctSeqData | 
| StartedAt: 2021-10-16 11:03:31 -0400 (Sat, 16 Oct 2021) | 
| EndedAt: 2021-10-16 11:03:52 -0400 (Sat, 16 Oct 2021) | 
| EllapsedTime: 20.9 seconds | 
| RetCode: 0 | 
| Status: OK | 
############################################################################## ############################################################################## ### ### Running command: ### ### /home/biocbuild/bbs-3.13-bioc/R/bin/R CMD INSTALL JctSeqData ### ############################################################################## ############################################################################## * installing to library ‘/home/biocbuild/bbs-3.13-bioc/R/library’ * installing *source* package ‘JctSeqData’ ... ** using staged installation ** R ** data *** moving datasets to lazyload DB Warning: namespace ‘JunctionSeq’ is not available and has been replaced by .GlobalEnv when processing object ‘jscs’ Warning: namespace ‘JunctionSeq’ is not available and has been replaced by .GlobalEnv when processing object ‘jscs’ Warning: namespace ‘JunctionSeq’ is not available and has been replaced by .GlobalEnv when processing object ‘jscs2’ Warning: namespace ‘JunctionSeq’ is not available and has been replaced by .GlobalEnv when processing object ‘jscs2’ ** inst ** byte-compile and prepare package for lazy loading ** help *** installing help indices ** building package indices ** installing vignettes ** testing if installed package can be loaded from temporary location Warning: Package 'JctSeqData' is deprecated and will be removed from Bioconductor version 3.14 ** testing if installed package can be loaded from final location Warning: Package 'JctSeqData' is deprecated and will be removed from Bioconductor version 3.14 ** testing if installed package keeps a record of temporary installation path * DONE (JctSeqData)