| Back to Build/check report for BioC 3.13 experimental data | 
 | 
This page was generated on 2021-10-16 15:58:41 -0400 (Sat, 16 Oct 2021).
| To the developers/maintainers of the JctSeqData package: Make sure to use the following settings in order to reproduce any error or warning you see on this page. | 
| Package 197/406 | Hostname | OS / Arch | INSTALL | BUILD | CHECK | ||||||||
| Stephen Hartley 
 | malbec2 | Linux (Ubuntu 20.04.2 LTS) / x86_64 | OK | OK | ERROR | ||||||||
| Package: JctSeqData | 
| Version: 1.22.0 | 
| Command: /home/biocbuild/bbs-3.13-bioc/R/bin/R CMD build --keep-empty-dirs --no-resave-data JctSeqData | 
| StartedAt: 2021-10-16 12:15:34 -0400 (Sat, 16 Oct 2021) | 
| EndedAt: 2021-10-16 12:15:49 -0400 (Sat, 16 Oct 2021) | 
| EllapsedTime: 15.3 seconds | 
| RetCode: 0 | 
| Status: OK | 
| PackageFile: JctSeqData_1.22.0.tar.gz | 
| PackageFileSize: 20.63 MiB | 
############################################################################## ############################################################################## ### ### Running command: ### ### /home/biocbuild/bbs-3.13-bioc/R/bin/R CMD build --keep-empty-dirs --no-resave-data JctSeqData ### ############################################################################## ############################################################################## * checking for file ‘JctSeqData/DESCRIPTION’ ... OK * preparing ‘JctSeqData’: * checking DESCRIPTION meta-information ... OK * installing the package to build vignettes * creating vignettes ... OK * checking for LF line-endings in source and make files and shell scripts * checking for empty or unneeded directories * building ‘JctSeqData_1.22.0.tar.gz’