| Back to Build/check report for BioC 3.11 experimental data |
This page was generated on 2020-10-15 20:45:47 -0400 (Thu, 15 Oct 2020).
| TO THE DEVELOPERS/MAINTAINERS OF THE FlowSorted.Blood.EPIC PACKAGE: Please make sure to use the following settings in order to reproduce any error or warning you see on this page. |
| Package 124/391 | Hostname | OS / Arch | INSTALL | BUILD | CHECK | ||||||
| FlowSorted.Blood.EPIC 1.6.1 Lucas A. Salas
| malbec2 | Linux (Ubuntu 18.04.4 LTS) / x86_64 | OK | [ TIMEOUT ] | skipped |
| Package: FlowSorted.Blood.EPIC |
| Version: 1.6.1 |
| Command: /home/biocbuild/bbs-3.11-bioc/R/bin/R CMD build --keep-empty-dirs --no-resave-data FlowSorted.Blood.EPIC |
| StartedAt: 2020-10-15 10:28:00 -0400 (Thu, 15 Oct 2020) |
| EndedAt: 2020-10-15 11:48:01 -0400 (Thu, 15 Oct 2020) |
| EllapsedTime: 4800.3 seconds |
| RetCode: None |
| Status: TIMEOUT |
| PackageFile: None |
| PackageFileSize: NA |
############################################################################## ############################################################################## ### ### Running command: ### ### /home/biocbuild/bbs-3.11-bioc/R/bin/R CMD build --keep-empty-dirs --no-resave-data FlowSorted.Blood.EPIC ### ############################################################################## ############################################################################## * checking for file ‘FlowSorted.Blood.EPIC/DESCRIPTION’ ... OK * preparing ‘FlowSorted.Blood.EPIC’: * checking DESCRIPTION meta-information ... OK * installing the package to build vignettes * creating vignettes ...