This page was generated on 2020-10-15 20:46:02 -0400 (Thu, 15 Oct 2020).
| malbec2 |
Linux (Ubuntu 18.04.4 LTS) / x86_64 | | | | |
|
| ABAData 1.18.0 | Steffi Grote | OK | OK | OK |  |
| adductData 1.4.0 | Josie Hayes | OK | OK | OK |  |
| affycompData 1.26.0 | Harris Jaffee | OK | OK | OK |  |
| affydata 1.36.0 | Harris Jaffee | OK | OK | WARNINGS |  |
| Affyhgu133A2Expr 1.24.0 | Zhicheng Ji | OK | OK | OK |  |
| Affyhgu133aExpr 1.26.0 | Zhicheng Ji | OK | OK | OK |  |
| Affyhgu133Plus2Expr 1.22.0 | Zhicheng Ji | OK | OK | OK |  |
| AffymetrixDataTestFiles 0.26.0 | Henrik Bengtsson | OK | OK | OK |  |
| Affymoe4302Expr 1.26.0 | Zhicheng Ji | OK | OK | OK |  |
| airway 1.8.0 | Michael Love | OK | OK | WARNINGS |  |
| ALL 1.30.0 | Robert Gentleman | OK | OK | OK |  |
| ALLMLL 1.28.0 | B. M. Bolstad | OK | OK | OK |  |
| alpineData 1.14.0 | Michael Love | OK | OK | OK |  |
| AmpAffyExample 1.28.0 | Rafael A. Irizarry | OK | OK | WARNINGS |  |
| AneuFinderData 1.16.0 | Aaron Taudt | OK | OK | WARNINGS |  |
| antiProfilesData 1.24.0 | Hector Corrada Bravo | OK | OK | OK |  |
| aracne.networks 1.14.0 | Federico M. Giorgi , Mariano Alvarez | OK | OK | WARNINGS |  |
| ARRmData 1.24.0 | Jean-Philippe Fortin | OK | OK | OK |  |
| AshkenazimSonChr21 1.18.0 | Who to complain to | OK | OK | OK |  |
| ASICSdata 1.8.0 | Gaƫlle Lefort | OK | OK | OK |  |
| AssessORFData 1.6.0 | Deepank Korandla | OK | OK | OK |  |
| bcellViper 1.24.0 | Mariano Javier Alvarez | OK | OK | OK |  |
| beadarrayExampleData 1.26.0 | Mark Dunning | OK | OK | OK |  |
| BeadArrayUseCases 1.26.0 | Mike Smith | OK | OK | OK |  |
| benchmarkfdrData2019 1.2.0 | Stephanie Hicks | OK | OK | OK |  |
| beta7 1.26.0 | Jean Yang | OK | OK | WARNINGS |  |
| biotmleData 1.12.0 | Nima Hejazi | OK | OK | OK |  |
| biscuiteerData 1.2.0 | "Jacob Morrison" | OK | OK | OK |  |
| bladderbatch 1.26.0 | Jeffrey T. Leek | OK | OK | WARNINGS |  |
| blimaTestingData 1.8.0 | Vojtech Kulvait | OK | OK | OK |  |
| BloodCancerMultiOmics2017 1.8.0 | Malgorzata Oles | OK | OK | OK |  |
| bodymapRat 1.4.0 | Stephanie Hicks | OK | OK | OK |  |
| brainImageRdata 1.6.0 | Sara Linker | OK | OK | OK |  |
| breakpointRdata 1.6.0 | David Porubsky | OK | OK | OK |  |
| breastCancerMAINZ 1.26.0 | Markus Schroeder , Benjamin Haibe-Kains | OK | OK | WARNINGS |  |
| breastCancerNKI 1.26.0 | Markus Schroeder , Benjamin Haibe-Kains | OK | OK | WARNINGS |  |
| breastCancerTRANSBIG 1.26.0 | Markus Schroeder , Benjamin Haibe-Kains | OK | OK | WARNINGS |  |
| breastCancerUNT 1.26.0 | Markus Schroeder , Benjamin Haibe-Kains | OK | OK | WARNINGS |  |
| breastCancerUPP 1.26.0 | Markus Schroeder , Benjamin Haibe-Kains | OK | OK | WARNINGS |  |
| breastCancerVDX 1.26.0 | Markus Schroeder , Benjamin Haibe-Kains | OK | OK | WARNINGS |  |
| brgedata 1.10.0 | Carlos Ruiz-Arenas | OK | OK | WARNINGS |  |
| bronchialIL13 1.26.0 | Vince Carey | OK | OK | OK |  |
| bsseqData 0.26.0 | Kasper Daniel Hansen | OK | OK | OK |  |
| cancerdata 1.26.0 | Daniel Kosztyla | OK | OK | OK |  |
| CardinalWorkflows 1.20.0 | Kylie A. Bemis | OK | OK | OK |  |
| ccdata 1.14.0 | Alex Pickering | OK | OK | WARNINGS |  |
| CCl4 1.26.0 | Audrey Kauffmann | OK | OK | WARNINGS |  |
| ccTutorial 1.26.0 | Joern Toedling | OK | OK | OK |  |
| celarefData 1.6.0 | Sarah Williams | OK | OK | OK |  |
| CellMapperData 1.14.0 | Brad Nelms | OK | OK | OK |  |
| ceu1kg 0.26.0 | VJ Carey | OK | OK | OK |  |
| ceu1kgv 0.30.0 | VJ Carey | OK | OK | OK |  |
| ceuhm3 0.26.0 | VJ Carey | OK | OK | OK |  |
| cgdv17 0.26.0 | VJ Carey | OK | OK | OK |  |
| ChAMPdata 2.20.0 | Yuan Tian | OK | OK | OK |  |
| ChIC.data 1.8.0 | Carmen Maria Livi | OK | OK | OK |  |
| ChimpHumanBrainData 1.26.0 | Sean Davis | OK | OK | OK |  |
| chipenrich.data 2.12.0 | Raymond G. Cavalcante | OK | OK | OK |  |
| ChIPexoQualExample 1.12.0 | Rene Welch | OK | OK | OK |  |
| chipseqDBData 1.4.0 | Aaron Lun | OK | OK | OK |  |
| ChIPXpressData 1.26.0 | George Wu | OK | OK | WARNINGS |  |
| chromstaRData 1.14.0 | Aaron Taudt | OK | OK | OK |  |
| CLL 1.28.0 | Robert Gentleman | OK | OK | OK |  |
| CLLmethylation 1.8.0 | Malgorzata Oles , Andreas Mock | OK | OK | OK |  |
| CluMSIDdata 1.4.0 | Tobias Depke | OK | OK | OK |  |
| cMap2data 1.24.0 | J. Saez-Rodriguez | OK | OK | OK |  |
| cnvGSAdata 1.24.0 | Joseph Lugo | OK | OK | WARNINGS |  |
| COHCAPanno 1.24.0 | Charles Warden | OK | OK | OK |  |
| colonCA 1.30.0 | W Sylvia Merk | OK | OK | WARNINGS |  |
| CONFESSdata 1.16.0 | Diana LOW | OK | OK | OK |  |
| ConnectivityMap 1.24.0 | Paul Shannon | OK | OK | OK |  |
| COPDSexualDimorphism.data 1.24.0 | J Fah Sathirapongsasuti | OK | OK | WARNINGS |  |
| CopyhelpeR 1.20.0 | Oscar Krijgsman | OK | OK | OK |  |
| CopyNeutralIMA 1.6.0 | Xavier Pastor Hostench | OK | OK | OK |  |
| COSMIC.67 1.24.0 | Julian Gehring | OK | OK | OK |  |
| CRCL18 1.8.0 | Claudio Isella | OK | OK | OK |  |
| curatedAdipoArray 1.0.0 | Mahmoud Ahmed | OK | OK | OK |  |
| curatedAdipoChIP 1.4.0 | Mahmoud Ahmed | OK | OK | OK |  |
| curatedAdipoRNA 1.4.0 | Mahmoud Ahmed | OK | OK | OK |  |
| curatedBladderData 1.24.0 | Markus Riester | OK | OK | OK |  |
| curatedBreastData 2.16.0 | Katie Planey | OK | OK | OK |  |
| curatedCRCData 2.20.0 | Princy Parsana | OK | OK | OK |  |
| curatedMetagenomicData 1.18.2 | Lucas Schiffer | OK | OK | OK |  |
| curatedOvarianData 1.26.0 | Levi Waldron | OK | OK | OK |  |
| curatedTCGAData 1.10.1 | Marcel Ramos | OK | OK | OK |  |
| DAPARdata 1.18.0 | Samuel Wieczorek | OK | OK | WARNINGS |  |
| davidTiling 1.28.0 | Wolfgang Huber | OK | OK | WARNINGS |  |
| depmap 1.2.0 | Laurent Gatto | OK | TIMEOUT | skipped | |
| derfinderData 2.6.0 | Leonardo Collado-Torres | OK | OK | OK |  |
| DeSousa2013 1.24.0 | Xin Wang | OK | OK | OK |  |
| diffloopdata 1.16.0 | Caleb Lareau | OK | OK | OK |  |
| diggitdata 1.20.0 | Mariano Javier Alvarez | OK | OK | OK |  |
| DLBCL 1.28.0 | Marcus Dittrich | OK | OK | WARNINGS |  |
| DmelSGI 1.20.0 | Bernd Fischer | OK | OK | OK |  |
| DMRcatedata 2.6.0 | Tim Peters | OK | OK | OK |  |
| DonaPLLP2013 1.26.0 | Joseph D. Barry | OK | OK | OK |  |
| dorothea 1.0.1 | Christian H. Holland | OK | OK | OK |  |
| DREAM4 1.24.0 | Paul Shannon | OK | OK | WARNINGS |  |
| dressCheck 0.26.0 | Vincent Carey | OK | OK | OK |  |
| DrugVsDiseasedata 1.24.0 | J. Saez-Rodriguez | OK | OK | OK |  |
| dsQTL 0.26.0 | VJ Carey | OK | OK | OK |  |
| DuoClustering2018 1.6.0 | Angelo Duò | OK | OK | OK |  |
| DvDdata 1.24.0 | J. Saez-Rodriguez | OK | OK | OK |  |
| dyebiasexamples 1.28.0 | Philip Lijnzaad | OK | OK | WARNINGS |  |
| EatonEtAlChIPseq 0.26.0 | Patrick Aboyoun | OK | OK | WARNINGS |  |
| ecoliLeucine 1.28.0 | Laurent Gautier | OK | OK | WARNINGS |  |
| EGSEAdata 1.16.0 | Monther Alhamdoosh | OK | OK | OK |  |
| ELMER.data 2.12.0 | Tiago Chedraoui Silva | OK | OK | OK |  |
| estrogen 1.34.0 | Wolfgang Huber | OK | OK | OK |  |
| etec16s 1.16.0 | Joseph N. Paulson | OK | OK | OK |  |
| faahKO 1.28.0 | Steffen Neumann | OK | OK | OK |  |
| fabiaData 1.26.0 | Sepp Hochreiter | OK | OK | OK |  |
| facsDorit 1.30.0 | Florian Hahne | OK | OK | OK |  |
| FANTOM3and4CAGE 1.24.0 | Vanja Haberle | OK | OK | OK |  |
| ffpeExampleData 1.26.0 | Levi Waldron | OK | OK | OK |  |
| fibroEset 1.30.0 | Sylvia Merk | OK | OK | WARNINGS |  |
| FIs 1.16.0 | Herbert Braselmann , Martin Selmansberger | OK | OK | OK |  |
| fission 1.8.0 | Michael Love | OK | OK | OK |  |
| Fletcher2013a 1.24.0 | Mauro Castro | OK | OK | OK |  |
| Fletcher2013b 1.24.0 | Mauro Castro | OK | OK | OK |  |
| flowFitExampleData 1.24.0 | Davide Rambaldi | OK | OK | OK |  |
| flowPloidyData 1.14.0 | Tyler Smith | OK | OK | OK |  |
| FlowSorted.Blood.450k 1.26.0 | Andrew E Jaffe | OK | OK | OK |  |
| FlowSorted.Blood.EPIC 1.6.1 | Lucas A. Salas | OK | TIMEOUT | skipped | |
| FlowSorted.CordBlood.450k 1.16.0 | Shan V. Andrews | OK | OK | OK |  |
| FlowSorted.CordBloodCombined.450k 1.4.1 | Lucas A. Salas | OK | ERROR | skipped | |
| FlowSorted.CordBloodNorway.450k 1.14.0 | kristina gervin | OK | OK | OK |  |
| FlowSorted.DLPFC.450k 1.24.0 | Andrew E Jaffe | OK | OK | OK |  |
| flowWorkspaceData 3.0.0 | Mike Jiang | OK | OK | OK |  |
| frmaExampleData 1.24.0 | Matthew N. McCall | OK | OK | WARNINGS |  |
| FunciSNP.data 1.24.0 | Simon G. Coetzee | OK | OK | ERROR | |
| furrowSeg 1.16.0 | Joseph Barry | OK | OK | WARNINGS |  |
| gageData 2.26.0 | Weijun Luo | OK | OK | OK |  |
| gaschYHS 1.26.0 | Vince Carey | OK | OK | OK |  |
| gatingMLData 2.28.0 | J. Spidlen | OK | OK | OK |  |
| gcspikelite 1.26.0 | Mark Robinson | OK | OK | WARNINGS |  |
| geneLenDataBase 1.24.0 | Matthew Young , Nadia Davidson | OK | OK | WARNINGS |  |
| genomationData 1.20.0 | Vedran Franke | OK | OK | OK |  |
| GeuvadisTranscriptExpr 1.16.0 | Malgorzata Nowicka | OK | OK | OK |  |
| geuvPack 1.20.0 | VJ Carey | OK | OK | OK |  |
| geuvStore2 1.18.0 | VJ Carey | OK | OK | WARNINGS |  |
| GGdata 1.26.0 | VJ Carey | OK | OK | OK |  |
| GIGSEAdata 1.6.0 | Shijia Zhu | OK | OK | OK |  |
| golubEsets 1.30.0 | Vince Carey | OK | OK | OK |  |
| gpaExample 1.0.0 | Dongjun Chung | OK | OK | OK |  |
| grndata 1.20.0 | Pau Bellot | OK | OK | OK |  |
| GSBenchMark 1.8.0 | Bahman Afsari | OK | OK | OK |  |
| GSE62944 1.16.0 | Bioconductor Package Maintainer | OK | OK | OK |  |
| gskb 1.20.0 | Valerie Bares | OK | OK | OK |  |
| GSVAdata 1.24.0 | Robert Castelo | OK | OK | OK |  |
| GWASdata 1.26.0 | Stephanie Gogarten , Adrienne Stilp | OK | OK | OK |  |
| h5vcData 2.8.0 | Paul Theodor Pyl | OK | OK | OK |  |
| hapmap100khind 1.30.0 | Benilton Carvalho | OK | OK | OK |  |
| hapmap100kxba 1.30.0 | Benilton Carvalho | OK | OK | OK |  |
| hapmap500knsp 1.30.0 | Benilton Carvalho | OK | OK | OK |  |
| hapmap500ksty 1.30.0 | Benilton Carvalho | OK | OK | OK |  |
| hapmapsnp5 1.30.0 | Benilton Carvalho | OK | OK | OK |  |
| hapmapsnp6 1.30.0 | Benilton Carvalho | OK | OK | OK |  |
| harbChIP 1.26.0 | VJ Carey | OK | OK | OK |  |
| HarmanData 1.16.0 | Jason Ross | OK | OK | OK |  |
| HarmonizedTCGAData 1.10.0 | Tianle Ma | OK | OK | OK |  |
| HCAData 1.4.0 | Federico Marini | OK | OK | OK |  |
| HD2013SGI 1.28.0 | Bernd Fischer | OK | OK | OK |  |
| HDCytoData 1.8.0 | Lukas M. Weber | OK | OK | OK |  |
| healthyFlowData 1.26.0 | Ariful Azad | OK | OK | OK |  |
| HEEBOdata 1.26.0 | Agnes Paquet | OK | OK | WARNINGS |  |
| HelloRangesData 1.14.0 | Michael Lawrence | OK | OK | OK |  |
| hgu133abarcodevecs 1.26.0 | Matthew N. McCall | OK | OK | OK |  |
| hgu133plus2barcodevecs 1.26.0 | Matthew N. McCall | OK | OK | OK |  |
| hgu133plus2CellScore 1.8.0 | Nancy Mah | OK | OK | OK |  |
| hgu2beta7 1.28.0 | Bioconductor Package Maintainer | OK | OK | WARNINGS |  |
| HiCDataHumanIMR90 1.8.0 | Nicolas Servant | OK | OK | OK |  |
| HiCDataLymphoblast 1.24.0 | Borbala Mifsud | OK | OK | OK |  |
| HighlyReplicatedRNASeq 1.0.0 | Constantin Ahlmann-Eltze | OK | OK | OK |  |
| Hiiragi2013 1.24.0 | Andrzej Oles | OK | OK | OK |  |
| HIVcDNAvantWout03 1.28.0 | Chris Fraley | OK | OK | WARNINGS |  |
| HMP16SData 1.8.2 | Lucas Schiffer | OK | OK | OK |  |
| HMP2Data 1.2.0 | John Stansfield , Ekaterina Smirnova | OK | ERROR | skipped | |
| hmyriB36 1.24.0 | Vincent Carey | OK | OK | OK |  |
| HSMMSingleCell 1.8.0 | Cole Trapnell | OK | OK | WARNINGS |  |
| HumanAffyData 1.14.0 | Brad Nelms | OK | OK | OK |  |
| humanStemCell 0.28.0 | R. Gentleman | OK | OK | WARNINGS |  |
| IHWpaper 1.16.1 | Nikos Ignatiadis | OK | OK | OK |  |
| Illumina450ProbeVariants.db 1.24.0 | Tiffany Morris | OK | OK | OK |  |
| IlluminaDataTestFiles 1.26.0 | Kasper Daniel Hansen | OK | OK | OK |  |
| ITALICSData 2.26.0 | Guillem Rigaill | OK | OK | WARNINGS |  |
| Iyer517 1.30.0 | Vince Carey | OK | OK | OK |  |
| JASPAR2014 1.24.0 | Ge Tan | OK | OK | OK |  |
| JASPAR2016 1.16.0 | Ge Tan | OK | OK | OK |  |
| JctSeqData 1.18.0 | Stephen Hartley | OK | OK | OK |  |
| KEGGandMetacoreDzPathwaysGEO 1.8.0 | Gaurav Bhatti | OK | OK | OK |  |
| KEGGdzPathwaysGEO 1.26.0 | Gaurav Bhatti | OK | OK | OK |  |
| kidpack 1.30.0 | Wolfgang Huber | OK | OK | WARNINGS |  |
| KOdata 1.14.0 | Shana White | OK | OK | OK |  |
| leeBamViews 1.24.0 | VJ Carey | OK | OK | OK |  |
| leukemiasEset 1.24.0 | Sara Aibar | OK | OK | OK |  |
| LiebermanAidenHiC2009 0.26.0 | Felix Klein | OK | OK | WARNINGS |  |
| ListerEtAlBSseq 1.20.0 | Kamal Kishore | OK | OK | WARNINGS |  |
| lumiBarnes 1.28.0 | Pan Du | OK | OK | WARNINGS |  |
| LungCancerACvsSCCGEO 1.24.0 | Adi Laurentiu Tarca | OK | OK | OK |  |
| LungCancerLines 0.26.0 | Cory Barr | OK | OK | OK |  |
| lungExpression 0.26.0 | Robert Scharpf | OK | OK | OK |  |
| lydata 1.14.0 | Alex Pickering | OK | OK | OK |  |
| M3DExampleData 1.14.0 | Tallulah Andrews | OK | OK | WARNINGS |  |
| macrophage 1.4.0 | Michael Love | OK | OK | OK |  |
| mammaPrintData 1.24.0 | Luigi Marchionni | OK | OK | OK |  |
| mAPKLData 1.20.0 | Argiris Sakellariou | OK | OK | WARNINGS |  |
| maqcExpression4plex 1.32.0 | Benilton Carvalho | OK | OK | OK |  |
| MAQCsubset 1.26.0 | VJ Carey | OK | OK | OK |  |
| MAQCsubsetAFX 1.26.0 | Laurent Gatto | OK | OK | OK |  |
| MAQCsubsetILM 1.26.0 | Laurent Gatto | OK | OK | OK |  |
| mCSEAdata 1.8.0 | Jordi Martorell MarugƔn | OK | OK | OK |  |
| mcsurvdata 1.6.0 | Adria Caballe Mestres | OK | OK | OK |  |
| MEDIPSData 1.24.0 | Lukas Chavez | OK | OK | WARNINGS |  |
| MEEBOdata 1.26.0 | Agnes Paquet | OK | OK | WARNINGS |  |
| MetaGxBreast 1.8.0 | Michael Zon | OK | OK | OK |  |
| MetaGxOvarian 1.8.0 | Michael Zon | OK | OK | WARNINGS |  |
| MetaGxPancreas 1.8.0 | Michael Zon | OK | OK | OK |  |
| metaMSdata 1.24.0 | Yann Guitton | OK | OK | OK |  |
| MethylAidData 1.20.0 | M. van Iterson | OK | OK | OK |  |
| methyvimData 1.10.0 | Nima Hejazi | OK | OK | OK |  |
| microRNAome 1.10.0 | Matthew N. McCall | OK | OK | OK |  |
| MIGSAdata 1.12.0 | Juan C. Rodriguez | OK | OK | OK |  |
| minfiData 0.34.0 | Kasper Daniel Hansen | OK | OK | OK |  |
| minfiDataEPIC 1.14.0 | Kasper Daniel Hansen | OK | OK | OK |  |
| minionSummaryData 1.18.0 | Mike Smith | OK | OK | OK |  |
| miRcompData 1.18.0 | Matthew N. McCall | OK | OK | OK |  |
| miRNATarget 1.26.0 | Y-h. Taguchi | OK | OK | OK |  |
mitoODEdata 1.24.1 | Gregoire Pau | OK | OK | OK |  |
| MMAPPR2data 1.2.0 | Jonathon Hill | OK | OK | OK |  |
| MMDiffBamSubset 1.24.0 | Gabriele Schweikert | OK | OK | OK |  |
| MOFAdata 1.4.0 | Britta Velten | OK | OK | OK |  |
| mosaicsExample 1.26.0 | Dongjun Chung | OK | OK | OK |  |
| mouse4302barcodevecs 1.26.0 | Matthew N. McCall | OK | OK | OK |  |
| MouseGastrulationData 1.2.0 | Jonathan Griffiths | OK | OK | OK |  |
| msd16s 1.8.0 | Joseph N. Paulson | OK | OK | OK |  |
| msdata 0.28.0 | Steffen Neumann , Laurent Gatto | OK | OK | OK |  |
| MSMB 1.6.0 | Wolfgang Huber | OK | OK | WARNINGS |  |
| msPurityData 1.16.0 | Thomas N. Lawson | OK | OK | OK |  |
| msqc1 1.16.0 | Christian Panse | OK | OK | OK |  |
| MSstatsBioData 1.10.0 | Meena Choi | OK | OK | WARNINGS |  |
| mtbls2 1.18.0 | Steffen Neumann | OK | OK | OK |  |
MTseekerData 1.6.0 | Tim Triche, Jr. | OK | OK | WARNINGS |  |
| MUGAExampleData 1.8.0 | Daniel Gatti | OK | OK | OK |  |
| Mulder2012 0.28.0 | Xin Wang | ERROR | ERROR | skipped | |
| muscData 1.2.0 | Helena L. Crowell | OK | OK | WARNINGS |  |
| mvoutData 1.24.0 | VJ Carey | OK | OK | OK |  |
| nanotubes 1.4.0 | Malte Thodberg | OK | OK | OK |  |
| NCIgraphData 1.24.0 | Laurent Jacob | OK | OK | WARNINGS |  |
| NestLink 1.4.0 | Lennart Opitz | OK | OK | OK |  |
| Neve2006 0.26.0 | VJ Carey | OK | OK | OK |  |
| NGScopyData 1.8.0 | Xiaobei Zhao | OK | OK | OK |  |
| oct4 1.4.0 | Michael Love | OK | OK | OK |  |
| OMICsPCAdata 1.6.0 | Subhadeep Das | OK | OK | OK |  |
| OnassisJavaLibs 1.10.0 | Eugenia Galeota | OK | OK | OK |  |
| optimalFlowData 1.0.0 | Hristo Inouzhe | OK | OK | OK |  |
| parathyroidSE 1.26.0 | Michael Love | OK | OK | OK |  |
| pasilla 1.16.0 | Alejandro Reyes | OK | OK | OK |  |
| pasillaBamSubset 0.26.0 | Hervé Pagès | OK | OK | OK |  |
| PasillaTranscriptExpr 1.16.0 | Malgorzata Nowicka | OK | OK | OK |  |
| PathNetData 1.24.0 | Ludwig Geistlinger | OK | OK | OK |  |
| pathprintGEOData 1.18.0 | Sokratis Kariotis | OK | OK | WARNINGS |  |
| pcaGoPromoter.Hs.hg19 1.24.0 | Morten Hansen | OK | OK | OK |  |
| pcaGoPromoter.Mm.mm9 1.24.0 | Morten Hansen | OK | OK | OK |  |
| pcaGoPromoter.Rn.rn4 1.24.0 | Morten Hansen, | OK | OK | OK |  |
| PCHiCdata 1.16.0 | Paula Freire-Pritchett | OK | OK | OK |  |
| pcxnData 2.10.0 | Sokratis Kariotis | OK | OK | WARNINGS |  |
| pd.atdschip.tiling 0.26.0 | Kristof De Beuf | OK | OK | WARNINGS |  |
| pepDat 1.8.0 | Renan Sauteraud | OK | OK | OK |  |
| PepsNMRData 1.6.0 | Manon Martin | OK | OK | OK |  |
| PhyloProfileData 1.2.0 | Vinh Tran | OK | OK | OK |  |
| plasFIA 1.16.0 | Alexis Delabriere | OK | OK | OK |  |
| ppiData 0.26.0 | Bioconductor Package Maintainer | OK | OK | WARNINGS |  |
| prebsdata 1.24.0 | Karolis Uziela | OK | OK | OK |  |
| PREDAsampledata 0.28.0 | Francesco Ferrari | OK | OK | OK |  |
| ProData 1.26.0 | Xiaochun Li | OK | OK | OK |  |
| pRolocdata 1.26.0 | Laurent Gatto | OK | OK | OK |  |
| prostateCancerCamcap 1.16.0 | Mark Dunning | OK | OK | OK |  |
| prostateCancerGrasso 1.16.0 | Mark Dunning | OK | OK | OK |  |
| prostateCancerStockholm 1.16.0 | Mark Dunning | OK | OK | OK |  |
| prostateCancerTaylor 1.16.0 | Mark Dunning | OK | OK | OK |  |
| prostateCancerVarambally 1.16.0 | Mark Dunning | OK | OK | OK |  |
| PtH2O2lipids 1.14.0 | James Collins | OK | OK | WARNINGS |  |
| pumadata 2.24.0 | Xuejun liu | OK | OK | OK |  |
| PWMEnrich.Dmelanogaster.background 4.22.0 | Robert Stojnic | OK | OK | WARNINGS |  |
| PWMEnrich.Hsapiens.background 4.22.0 | Robert Stojnic | OK | OK | WARNINGS |  |
| PWMEnrich.Mmusculus.background 4.22.0 | Robert Stojnic | OK | OK | OK |  |
| pwrEWAS.data 1.2.0 | Stefan Graw | OK | OK | OK |  |
| QDNAseq.hg19 1.18.0 | Daoud Sie | OK | OK | OK |  |
| QDNAseq.mm10 1.18.0 | Daoud Sie | OK | OK | OK |  |
| qPLEXdata 1.6.0 | Kamal Kishore Developer | OK | OK | WARNINGS |  |
| QUBICdata 1.16.0 | Yu Zhang | OK | OK | OK |  |
| rcellminerData 2.10.2 | Augustin Luna , Vinodh Rajapakse | OK | OK | WARNINGS |  |
| RcisTarget.hg19.motifDBs.cisbpOnly.500bp 1.8.0 | Sara Aibar | OK | OK | OK |  |
| ReactomeGSA.data 1.2.0 | Johannes Griss | OK | OK | OK |  |
| RegParallel 1.6.0 | Kevin Blighe | OK | OK | OK |  |
| restfulSEData 1.10.0 | Bioconductor Package Maintainer | OK | OK | OK |  |
| RforProteomics 1.26.0 | Laurent Gatto | OK | ERROR | skipped | |
| RGMQLlib 1.8.0 | Simone Pallotta | OK | OK | OK |  |
| rheumaticConditionWOLLBOLD 1.26.0 | Alejandro Quiroz-Zarate | OK | OK | OK |  |
RIPSeekerData 1.24.0 | Alejandro Reyes | OK | OK | WARNINGS |  |
| RITANdata 1.12.0 | Michael Zimmermann | OK | OK | OK |  |
| RMassBankData 1.26.0 | Michael Stravs, Emma Schymanski | OK | OK | OK |  |
| RNAinteractMAPK 1.26.0 | Bernd Fischer | OK | ERROR | skipped | |
| RNAmodR.Data 1.2.0 | Felix G.M. Ernst | OK | OK | OK |  |
| RNAseqData.HNRNPC.bam.chr14 0.26.0 | Hervé Pagès | OK | OK | OK |  |
| RNASeqRData 1.6.0 | Kuan-Hao Chao | OK | OK | OK |  |
| RnaSeqSampleSizeData 1.20.0 | Shilin Zhao | OK | OK | OK |  |
| RnBeads.hg19 1.20.0 | RnBeadsAnnotationCreator | OK | OK | WARNINGS |  |
| RnBeads.hg38 1.20.0 | RnBeadsAnnotationCreator | OK | OK | OK |  |
| RnBeads.mm10 1.20.0 | RnBeadsAnnotationCreator | OK | OK | OK |  |
| RnBeads.mm9 1.20.0 | RnBeadsAnnotationCreator | OK | OK | WARNINGS |  |
| RnBeads.rn5 1.20.0 | RnBeadsAnnotationCreator | OK | OK | OK |  |
| RRBSdata 1.8.0 | Katja Hebestreit | OK | OK | OK |  |
| rRDPData 1.8.0 | Michael Hahsler | OK | OK | OK |  |
| RTCGA.clinical 20151101.18.0 | Marcin Kosinski | OK | OK | OK |  |
| RTCGA.CNV 1.16.0 | Marcin Kosinski | OK | OK | OK |  |
| RTCGA.methylation 1.16.0 | Marcin Kosinski | OK | OK | OK |  |
| RTCGA.miRNASeq 1.16.0 | Marcin Kosinski | OK | OK | OK |  |
| RTCGA.mRNA 1.16.0 | Marcin Kosinski | OK | OK | OK |  |
| RTCGA.mutations 20151101.18.0 | Marcin Kosinski | OK | OK | OK |  |
| RTCGA.PANCAN12 1.16.0 | Marcin Kosinski | OK | OK | OK |  |
| RTCGA.rnaseq 20151101.18.0 | Marcin Kosinski | OK | OK | OK |  |
| RTCGA.RPPA 1.16.0 | Marcin Kosinski | OK | OK | OK |  |
| RUVnormalizeData 1.8.0 | Laurent Jacob | OK | OK | OK |  |
| sampleClassifierData 1.12.0 | Khadija El Amrani | OK | OK | OK |  |
| SBGNview.data 1.2.0 | Xiaoxi Dong | OK | OK | OK |  |
| SCLCBam 1.20.0 | Oscar Krijgsman | OK | OK | OK |  |
| scRNAseq 2.2.0 | Aaron Lun | OK | OK | OK |  |
| scTHI.data 1.0.0 | Michele Ceccarelli | OK | OK | OK |  |
| seq2pathway.data 1.20.0 | Xinan Holly Yang | OK | OK | WARNINGS |  |
| seqc 1.22.0 | Yang Liao and Wei Shi | OK | OK | OK |  |
| seqCNA.annot 1.24.0 | David Mosen-Ansorena | OK | OK | OK |  |
| serumStimulation 1.24.0 | Morten Hansen, | OK | OK | OK |  |
| sesameData 1.6.0 | Wanding Zhou | OK | OK | OK |  |
| seventyGeneData 1.24.0 | Luigi Marchionni | OK | OK | OK |  |
| shinyMethylData 1.8.0 | Jean-Philippe Fortin | OK | OK | OK |  |
| signatureSearchData 1.2.2 | Yuzhu Duan | OK | OK | OK |  |
| simpIntLists 1.24.0 | Kircicegi Korkmaz | OK | OK | WARNINGS |  |
| Single.mTEC.Transcriptomes 1.16.0 | Alejandro Reyes | OK | OK | OK |  |
| SingleCellMultiModal 1.0.0 | Marcel Ramos | OK | OK | OK |  |
| SNAData 1.34.0 | Denise Scholtens | OK | OK | OK |  |
| SNAGEEdata 1.24.0 | David Venet | OK | OK | OK |  |
| SNPhoodData 1.18.0 | Christian Arnold | OK | OK | OK |  |
| SomatiCAData 1.26.0 | Mengjie Chen | OK | OK | WARNINGS |  |
| SomaticCancerAlterations 1.24.0 | Julian Gehring | OK | OK | WARNINGS |  |
| spatialLIBD 1.0.0 | Leonardo Collado-Torres | OK | OK | ERROR | |
| SpikeIn 1.30.0 | Rafael A. Irizarry | OK | OK | WARNINGS |  |
| SpikeInSubset 1.28.0 | Rafael A. Irizarry | OK | OK | WARNINGS |  |
| spqnData 1.0.0 | Yi Wang | OK | OK | OK |  |
| stemHypoxia 1.24.0 | Cristobal Fresno | OK | OK | OK |  |
| stjudem 1.28.0 | Joern Toedling | OK | OK | OK |  |
| SVM2CRMdata 1.20.0 | Guidantonio Malagoli Tagliazucchi | OK | OK | WARNINGS |  |
| synapterdata 1.26.0 | Laurent Gatto | OK | OK | OK |  |
| systemPipeRdata 1.16.2 | Thomas Girke | OK | OK | OK |  |
| TabulaMurisData 1.6.0 | Charlotte Soneson | OK | OK | OK |  |
| TargetScoreData 1.24.0 | Yue Li | OK | OK | OK |  |
| TargetSearchData 1.26.0 | Alvaro Cuadros-Inostroza | OK | OK | OK |  |
| tartare 1.2.0 | Christian Panse | OK | OK | OK |  |
| TBX20BamSubset 1.24.0 | D. Bindreither | OK | OK | OK |  |
| TCGAbiolinksGUI.data 1.8.0 | Tiago Chedraoui Silva | OK | OK | OK |  |
| TCGAcrcmiRNA 1.8.0 | Claudio Isella | OK | OK | OK |  |
| TCGAcrcmRNA 1.8.0 | Claudio Isella | OK | OK | OK |  |
| TCGAMethylation450k 1.24.0 | Sean Davis | OK | OK | OK |  |
| tcgaWGBSData.hg19 1.6.0 | Divy Kangeyan | OK | OK | OK |  |
| TCGAWorkflowData 1.12.0 | Tiago Chedraoui Silva | OK | OK | WARNINGS |  |
| TENxBrainData 1.8.0 | Bioconductor Package Maintainer | OK | OK | OK |  |
| TENxBUSData 1.2.1 | Lambda Moses | OK | OK | OK |  |
| TENxPBMCData 1.6.0 | Stephanie Hicks | OK | OK | OK |  |
| TimerQuant 1.18.0 | Joseph Barry | OK | OK | OK |  |
| tinesath1cdf 1.26.0 | Tine Casneuf | OK | OK | WARNINGS |  |
| tinesath1probe 1.26.0 | Tine Casneuf | OK | OK | WARNINGS |  |
| tissueTreg 1.8.0 | Charles Imbusch | OK | OK | OK |  |
| tofsimsData 1.16.0 | Lorenz Gerber | OK | OK | WARNINGS |  |
| topdownrdata 1.10.0 | Sebastian Gibb | OK | OK | OK |  |
| tweeDEseqCountData 1.26.0 | Juan R Gonzalez | OK | OK | OK |  |
| tximportData 1.16.0 | Michael Love | OK | OK | OK |  |
| VariantToolsData 1.12.0 | Michael Lawrence | OK | OK | WARNINGS |  |
| vulcandata 1.10.0 | Federico M. Giorgi | OK | OK | OK |  |
| waveTilingData 1.24.0 | Kristof De Beuf | OK | OK | WARNINGS |  |
| WES.1KG.WUGSC 1.20.0 | Yuchao Jiang | OK | OK | OK |  |
| WGSmapp 1.0.0 | Rujin Wang | OK | OK | OK |  |
| XhybCasneuf 1.26.0 | Tineke Casneuf | OK | OK | WARNINGS |  |
| yeastCC 1.28.0 | Sandrine Dudoit | OK | OK | WARNINGS |  |
| yeastExpData 0.34.0 | R. Gentleman | OK | OK | WARNINGS |  |
| yeastGSData 0.26.0 | R. Gentleman | OK | OK | WARNINGS |  |
| yeastNagalakshmi 1.24.0 | Bioconductor Package Maintainer | OK | OK | OK |  |
| yeastRNASeq 0.26.0 | J. Bullard | OK | OK | WARNINGS |  |
| yri1kgv 0.30.0 | VJ Carey | OK | OK | OK |  |
| yriMulti 0.18.0 | VJ Carey | OK | OK | WARNINGS |  |
| zebrafishRNASeq 1.8.0 | Davide Risso | OK | OK | OK |  |