| Back to Multiple platform build/check report for BioC 3.11 (small subset of software packages ONLY) |
This page was generated on 2020-01-24 03:57:02 -0500 (Fri, 24 Jan 2020).
| Package 34/41 | Hostname | OS / Arch | INSTALL | BUILD | CHECK | BUILD BIN | |||||
| Rsamtools 2.3.2 Bioconductor Package Maintainer
| malbec2 | Linux (Ubuntu 18.04.3 LTS) / x86_64 | OK | [ OK ] | WARNINGS | ||||||
| tokay2 | Windows Server 2012 R2 Standard / x64 | OK | ERROR | skipped | skipped |
| Package: Rsamtools |
| Version: 2.3.2 |
| Command: /home/biocbuild/bbs-3.11-bioc/R/bin/R CMD build --keep-empty-dirs --no-resave-data Rsamtools |
| StartedAt: 2020-01-24 02:27:25 -0500 (Fri, 24 Jan 2020) |
| EndedAt: 2020-01-24 02:29:02 -0500 (Fri, 24 Jan 2020) |
| EllapsedTime: 96.7 seconds |
| RetCode: 0 |
| Status: OK |
| PackageFile: Rsamtools_2.3.2.tar.gz |
| PackageFileSize: 2.894 MiB |
############################################################################## ############################################################################## ### ### Running command: ### ### /home/biocbuild/bbs-3.11-bioc/R/bin/R CMD build --keep-empty-dirs --no-resave-data Rsamtools ### ############################################################################## ############################################################################## * checking for file ‘Rsamtools/DESCRIPTION’ ... OK * preparing ‘Rsamtools’: * checking DESCRIPTION meta-information ... OK * cleaning src * installing the package to build vignettes * creating vignettes ... OK * cleaning src * checking for LF line-endings in source and make files and shell scripts * checking for empty or unneeded directories * building ‘Rsamtools_2.3.2.tar.gz’