| Back to Multiple platform build/check report for BioC 3.11 (small subset of software packages ONLY) |
This page was generated on 2020-01-24 03:57:02 -0500 (Fri, 24 Jan 2020).
| Package 33/41 | Hostname | OS / Arch | INSTALL | BUILD | CHECK | BUILD BIN | |||||
| Rhtslib 1.19.0 Bioconductor Package Maintainer
| malbec2 | Linux (Ubuntu 18.04.3 LTS) / x86_64 | OK | [ OK ] | OK | ||||||
| tokay2 | Windows Server 2012 R2 Standard / x64 | OK | OK | WARNINGS | OK |
| Package: Rhtslib |
| Version: 1.19.0 |
| Command: /home/biocbuild/bbs-3.11-bioc/R/bin/R CMD build --keep-empty-dirs --no-resave-data Rhtslib |
| StartedAt: 2020-01-24 02:26:39 -0500 (Fri, 24 Jan 2020) |
| EndedAt: 2020-01-24 02:27:59 -0500 (Fri, 24 Jan 2020) |
| EllapsedTime: 80.0 seconds |
| RetCode: 0 |
| Status: OK |
| PackageFile: Rhtslib_1.19.0.tar.gz |
| PackageFileSize: 1.403 MiB |
############################################################################## ############################################################################## ### ### Running command: ### ### /home/biocbuild/bbs-3.11-bioc/R/bin/R CMD build --keep-empty-dirs --no-resave-data Rhtslib ### ############################################################################## ############################################################################## * checking for file ‘Rhtslib/DESCRIPTION’ ... OK * preparing ‘Rhtslib’: * checking DESCRIPTION meta-information ... OK * cleaning src * installing the package to build vignettes * creating vignettes ... OK * cleaning src * checking for LF line-endings in source and make files and shell scripts * checking for empty or unneeded directories * building ‘Rhtslib_1.19.0.tar.gz’