| Back to Multiple platform build/check report for BioC 3.11 (small subset of software packages ONLY) | 
This page was generated on 2020-01-24 03:57:02 -0500 (Fri, 24 Jan 2020).
| Package 27/41 | Hostname | OS / Arch | INSTALL | BUILD | CHECK | BUILD BIN | |||||
| IRanges 2.21.3 Bioconductor Package Maintainer 
 | malbec2 | Linux (Ubuntu 18.04.3 LTS) / x86_64 | OK | [ OK ] | WARNINGS | ||||||
| tokay2 | Windows Server 2012 R2 Standard / x64 | OK | ERROR | skipped | skipped | 
| Package: IRanges | 
| Version: 2.21.3 | 
| Command: /home/biocbuild/bbs-3.11-bioc/R/bin/R CMD build --keep-empty-dirs --no-resave-data IRanges | 
| StartedAt: 2020-01-24 02:16:37 -0500 (Fri, 24 Jan 2020) | 
| EndedAt: 2020-01-24 02:18:15 -0500 (Fri, 24 Jan 2020) | 
| EllapsedTime: 98.2 seconds | 
| RetCode: 0 | 
| Status: OK | 
| PackageFile: IRanges_2.21.3.tar.gz | 
| PackageFileSize: 451.8 KiB | 
############################################################################## ############################################################################## ### ### Running command: ### ### /home/biocbuild/bbs-3.11-bioc/R/bin/R CMD build --keep-empty-dirs --no-resave-data IRanges ### ############################################################################## ############################################################################## * checking for file ‘IRanges/DESCRIPTION’ ... OK * preparing ‘IRanges’: * checking DESCRIPTION meta-information ... OK * cleaning src * installing the package to build vignettes * creating vignettes ... OK * cleaning src * checking for LF line-endings in source and make files and shell scripts * checking for empty or unneeded directories * building ‘IRanges_2.21.3.tar.gz’