| Back to Multiple platform build/check report for BioC 3.11 (small subset of software packages ONLY) |
This page was generated on 2020-01-24 03:57:03 -0500 (Fri, 24 Jan 2020).
| Package 23/41 | Hostname | OS / Arch | INSTALL | BUILD | CHECK | BUILD BIN | |||||
| GenomicFeatures 1.39.3 Bioconductor Package Maintainer
| malbec2 | Linux (Ubuntu 18.04.3 LTS) / x86_64 | OK | [ OK ] | OK | ||||||
| tokay2 | Windows Server 2012 R2 Standard / x64 | OK | ERROR | skipped | skipped |
| Package: GenomicFeatures |
| Version: 1.39.3 |
| Command: /home/biocbuild/bbs-3.11-bioc/R/bin/R CMD build --keep-empty-dirs --no-resave-data GenomicFeatures |
| StartedAt: 2020-01-24 02:34:24 -0500 (Fri, 24 Jan 2020) |
| EndedAt: 2020-01-24 02:36:24 -0500 (Fri, 24 Jan 2020) |
| EllapsedTime: 120.2 seconds |
| RetCode: 0 |
| Status: OK |
| PackageFile: GenomicFeatures_1.39.3.tar.gz |
| PackageFileSize: 1.311 MiB |
############################################################################## ############################################################################## ### ### Running command: ### ### /home/biocbuild/bbs-3.11-bioc/R/bin/R CMD build --keep-empty-dirs --no-resave-data GenomicFeatures ### ############################################################################## ############################################################################## * checking for file ‘GenomicFeatures/DESCRIPTION’ ... OK * preparing ‘GenomicFeatures’: * checking DESCRIPTION meta-information ... OK * installing the package to build vignettes * creating vignettes ... OK * checking for LF line-endings in source and make files and shell scripts * checking for empty or unneeded directories * building ‘GenomicFeatures_1.39.3.tar.gz’