| Back to Multiple platform build/check report for BioC 3.11 (small subset of software packages ONLY) |
This page was generated on 2020-01-24 03:57:02 -0500 (Fri, 24 Jan 2020).
| Package 21/41 | Hostname | OS / Arch | INSTALL | BUILD | CHECK | BUILD BIN | |||||
| GenomeInfoDb 1.23.9 Bioconductor Package Maintainer
| malbec2 | Linux (Ubuntu 18.04.3 LTS) / x86_64 | OK | [ OK ] | OK | ||||||
| tokay2 | Windows Server 2012 R2 Standard / x64 | OK | ERROR | skipped | skipped |
| Package: GenomeInfoDb |
| Version: 1.23.9 |
| Command: /home/biocbuild/bbs-3.11-bioc/R/bin/R CMD build --keep-empty-dirs --no-resave-data GenomeInfoDb |
| StartedAt: 2020-01-24 02:17:21 -0500 (Fri, 24 Jan 2020) |
| EndedAt: 2020-01-24 02:17:58 -0500 (Fri, 24 Jan 2020) |
| EllapsedTime: 36.5 seconds |
| RetCode: 0 |
| Status: OK |
| PackageFile: GenomeInfoDb_1.23.9.tar.gz |
| PackageFileSize: 3.272 MiB |
############################################################################## ############################################################################## ### ### Running command: ### ### /home/biocbuild/bbs-3.11-bioc/R/bin/R CMD build --keep-empty-dirs --no-resave-data GenomeInfoDb ### ############################################################################## ############################################################################## * checking for file ‘GenomeInfoDb/DESCRIPTION’ ... OK * preparing ‘GenomeInfoDb’: * checking DESCRIPTION meta-information ... OK * installing the package to build vignettes * creating vignettes ... OK * checking for LF line-endings in source and make files and shell scripts * checking for empty or unneeded directories * building ‘GenomeInfoDb_1.23.9.tar.gz’