| Back to Multiple platform build/check report for BioC 3.11 (small subset of software packages ONLY) |
This page was generated on 2020-01-24 03:57:02 -0500 (Fri, 24 Jan 2020).
| Package 9/41 | Hostname | OS / Arch | INSTALL | BUILD | CHECK | BUILD BIN | |||||
| BiocGenerics 0.33.0 Bioconductor Package Maintainer
| malbec2 | Linux (Ubuntu 18.04.3 LTS) / x86_64 | OK | [ OK ] | WARNINGS | ||||||
| tokay2 | Windows Server 2012 R2 Standard / x64 | OK | OK | ERROR | OK |
| Package: BiocGenerics |
| Version: 0.33.0 |
| Command: /home/biocbuild/bbs-3.11-bioc/R/bin/R CMD build --keep-empty-dirs --no-resave-data BiocGenerics |
| StartedAt: 2020-01-24 02:14:54 -0500 (Fri, 24 Jan 2020) |
| EndedAt: 2020-01-24 02:14:55 -0500 (Fri, 24 Jan 2020) |
| EllapsedTime: 1.0 seconds |
| RetCode: 0 |
| Status: OK |
| PackageFile: BiocGenerics_0.33.0.tar.gz |
| PackageFileSize: 45.7 KiB |
############################################################################## ############################################################################## ### ### Running command: ### ### /home/biocbuild/bbs-3.11-bioc/R/bin/R CMD build --keep-empty-dirs --no-resave-data BiocGenerics ### ############################################################################## ############################################################################## * checking for file ‘BiocGenerics/DESCRIPTION’ ... OK * preparing ‘BiocGenerics’: * checking DESCRIPTION meta-information ... OK * checking for LF line-endings in source and make files and shell scripts * checking for empty or unneeded directories * building ‘BiocGenerics_0.33.0.tar.gz’