| Back to Multiple platform build/check report for BioC 3.11 (small subset of software packages ONLY) |
This page was generated on 2020-01-24 03:57:02 -0500 (Fri, 24 Jan 2020).
| Package 7/41 | Hostname | OS / Arch | INSTALL | BUILD | CHECK | BUILD BIN | |||||
| Biobase 2.47.2 Bioconductor Package Maintainer
| malbec2 | Linux (Ubuntu 18.04.3 LTS) / x86_64 | OK | [ OK ] | OK | ||||||
| tokay2 | Windows Server 2012 R2 Standard / x64 | OK | ERROR | skipped | skipped |
| Package: Biobase |
| Version: 2.47.2 |
| Command: /home/biocbuild/bbs-3.11-bioc/R/bin/R CMD build --keep-empty-dirs --no-resave-data Biobase |
| StartedAt: 2020-01-24 02:14:56 -0500 (Fri, 24 Jan 2020) |
| EndedAt: 2020-01-24 02:15:22 -0500 (Fri, 24 Jan 2020) |
| EllapsedTime: 26.3 seconds |
| RetCode: 0 |
| Status: OK |
| PackageFile: Biobase_2.47.2.tar.gz |
| PackageFileSize: 1.58 MiB |
############################################################################## ############################################################################## ### ### Running command: ### ### /home/biocbuild/bbs-3.11-bioc/R/bin/R CMD build --keep-empty-dirs --no-resave-data Biobase ### ############################################################################## ############################################################################## * checking for file ‘Biobase/DESCRIPTION’ ... OK * preparing ‘Biobase’: * checking DESCRIPTION meta-information ... OK * cleaning src * installing the package to build vignettes * creating vignettes ... OK * cleaning src * checking for LF line-endings in source and make files and shell scripts * checking for empty or unneeded directories * looking to see if a ‘data/datalist’ file should be added * building ‘Biobase_2.47.2.tar.gz’