| ccTutorial 1.0.17 Joern Toedling
 
 | Snapshot Date: 2011-07-06 11:15:18 -0700 (Wed, 06 Jul 2011) |  | URL: https://hedgehog.fhcrc.org/bioc-data/trunk/experiment/pkgs/ccTutorial |  | Last Changed Rev: 1044 / Revision: 1678 |  | Last Changed Date: 2009-10-13 18:55:23 -0700 (Tue, 13 Oct 2009) | 
 | wilson2 | Linux (openSUSE 11.4) / x86_64 | OK | WARNINGS |  | 
| liverpool | Windows Server 2003 R2 (32-bit) / x64 | OK | WARNINGS | [ OK ] | 
| pitt | Mac OS X Leopard (10.5.8) / i386 | OK | WARNINGS | OK | 
* installing *source* package 'ccTutorial' ...
** R
** data
** inst
** preparing package for lazy loading
Loading required package: Biobase
Welcome to Bioconductor
  Vignettes contain introductory material. To view, type
  'browseVignettes()'. To cite Bioconductor, see
  'citation("Biobase")' and for packages 'citation("pkgname")'.
Loading required package: RColorBrewer
Loading required package: limma
Loading required package: Matrix
Loading required package: lattice
Attaching package: 'Matrix'
The following object(s) are masked from 'package:base':
    det
Loading required package: grid
Attaching package: 'affy'
The following object(s) are masked from 'package:Ringo':
    probes
Loading required package: graph
Loading required package: GO.db
Loading required package: AnnotationDbi
Loading required package: DBI
Loading required package: SparseM
Package SparseM (0.89) loaded.
	   To cite, see citation("SparseM")
Attaching package: 'SparseM'
The following object(s) are masked from 'package:base':
    backsolve
groupGOTerms: 	GOBPTerm, GOMFTerm, GOCCTerm environments built.
** help
*** installing help indices
** building package indices ...
*** tangling vignette sources ...
   'ccTutorial.Rnw' 
   'ccTutorialSupplement.Rnw' 
** testing if installed package can be loaded
groupGOTerms: 	GOBPTerm, GOMFTerm, GOCCTerm environments built.
* MD5 sums
packaged installation of 'ccTutorial' as ccTutorial_1.0.17.zip
* DONE (ccTutorial)