| Back to the "Multiple platform build/check report" |
| Package 41/98 | Hostname | OS / Arch | BUILD | CHECK | BUILD BIN | ||||
| ggtut 0.0.20 VJ Carey
| lamb1 | Linux (openSUSE 11.3) / x86_64 | OK | ERROR | |||||
| gewurz | Windows Server 2008 R2 Enterprise (64-bit) / x64 | OK | ERROR | ERROR | |||||
| petty | Mac OS X Snow Leopard (10.6.7) / i386 | OK | ERROR | [ ERROR ] |
| Package: ggtut |
| Version: 0.0.20 |
| Command: mkdir ggtut.buildbin-libdir && /Users/biocbuild/BBS/utils/build-universal.sh ggtut_0.0.20.tar.gz /Library/Frameworks/R.framework/Versions/2.13/Resources/bin/R ggtut.buildbin-libdir |
| StartedAt: 2011-07-03 01:00:25 -0700 (Sun, 03 Jul 2011) |
| EndedAt: 2011-07-03 01:01:21 -0700 (Sun, 03 Jul 2011) |
| EllapsedTime: 55.6 seconds |
| RetCode: 1 |
| Status: ERROR |
| PackageFile: None |
| PackageFileSize: NA |
>>>>>>> >>>>>>> INSTALLATION WITH 'R CMD INSTALL --preclean --library=ggtut.buildbin-libdir ggtut_0.0.20.tar.gz' >>>>>>> ERROR: this R is version 2.13.0, package 'ggtut' requires R >= 2.14.0