| Back to the "Multiple platform build/check report" |
| Package 43/106 | Hostname | OS / Arch | BUILD | CHECK | BUILD BIN | ||||
| ggtut 0.0.33 VJ Carey
| lamb1 | Linux (openSUSE 11.3) / x86_64 | OK | ERROR | |||||
| gewurz | Windows Server 2008 R2 Enterprise SP1 (64-bit) / x64 | OK | ERROR | [ ERROR ] | |||||
| pelham | Mac OS X Leopard (10.5.8) / i386 | OK | ERROR | ERROR |
| Package: ggtut |
| Version: 0.0.33 |
| Command: rm -rf ggtut.buildbin-libdir && mkdir ggtut.buildbin-libdir && D:\biocbld\bbs-2.8-bioc\R\bin\R.exe CMD INSTALL --build --no-multiarch --library=ggtut.buildbin-libdir ggtut_0.0.33.tar.gz |
| StartedAt: 2011-10-19 03:45:04 -0700 (Wed, 19 Oct 2011) |
| EndedAt: 2011-10-19 03:46:01 -0700 (Wed, 19 Oct 2011) |
| EllapsedTime: 56.5 seconds |
| RetCode: 1 |
| Status: ERROR |
| PackageFile: None |
| PackageFileSize: NA |
ERROR: this R is version 2.13.2, package 'ggtut' requires R >= 2.14.0