| Back to the "Multiple platform build/check report" |
| Package 43/106 | Hostname | OS / Arch | BUILD | CHECK | BUILD BIN | ||||
| ggtut 0.0.33 VJ Carey
| lamb1 | Linux (openSUSE 11.3) / x86_64 | OK | ERROR | |||||
| gewurz | Windows Server 2008 R2 Enterprise SP1 (64-bit) / x64 | OK | ERROR | ERROR | |||||
| pelham | Mac OS X Leopard (10.5.8) / i386 | OK | ERROR | [ ERROR ] |
| Package: ggtut |
| Version: 0.0.33 |
| Command: rm -rf ggtut.buildbin-libdir && mkdir ggtut.buildbin-libdir && /Users/biocbuild/BBS/utils/build-universal.sh ggtut_0.0.33.tar.gz /Library/Frameworks/R.framework/Versions/2.13/Resources/bin/R ggtut.buildbin-libdir |
| StartedAt: 2011-10-19 01:52:49 -0700 (Wed, 19 Oct 2011) |
| EndedAt: 2011-10-19 01:53:39 -0700 (Wed, 19 Oct 2011) |
| EllapsedTime: 50.3 seconds |
| RetCode: 1 |
| Status: ERROR |
| PackageFile: None |
| PackageFileSize: NA |
>>>>>>> >>>>>>> INSTALLATION WITH 'R CMD INSTALL --preclean --library=ggtut.buildbin-libdir ggtut_0.0.33.tar.gz' >>>>>>> ERROR: this R is version 2.13.2, package 'ggtut' requires R >= 2.14.0