| Back to the "Multiple platform build/check report" |
| Package 16/82 | Hostname | OS / Arch | BUILD | CHECK | BUILD BIN | ||||
| DLBCL 1.3.1 Marcus Dittrich
| lamb2 | Linux (openSUSE 11.2) / x86_64 | OK | OK | |||||
| gewurz | Windows Server 2008 R2 Enterprise (64-bit) / x64 | OK | OK | OK | |||||
| pelham | Mac OS X Leopard (10.5.8) / i386 | [ OK ] | OK | OK |
| Package: DLBCL |
| Version: 1.3.1 |
| Command: /Library/Frameworks/R.framework/Versions/2.12/Resources/bin/R CMD build DLBCL |
| StartedAt: 2011-02-27 14:21:45 -0800 (Sun, 27 Feb 2011) |
| EndedAt: 2011-02-27 14:21:48 -0800 (Sun, 27 Feb 2011) |
| EllapsedTime: 2.8 seconds |
| RetCode: 0 |
| Status: OK |
| PackageFile: DLBCL_1.3.1.tar.gz |
| PackageFileSize: 5.525 MiB |
* checking for file ‘DLBCL/DESCRIPTION’ ... OK * preparing ‘DLBCL’: * checking DESCRIPTION meta-information ... OK * checking for LF line-endings in source and make files * checking for empty or unneeded directories * building ‘DLBCL_1.3.1.tar.gz’