| Back to the "Multiple platform build/check report" |
| Package 23/92 | Hostname | OS / Arch | BUILD | CHECK | BUILD BIN | ||||
| DLBCL 1.3.1 Marcus Dittrich
| lamb2 | Linux (openSUSE 11.2) / x86_64 | OK | OK | |||||
| gewurz | Windows Server 2008 R2 Enterprise (64-bit) / x64 | OK | OK | [ OK ] | |||||
| petty | Mac OS X Snow Leopard (10.6.6) / i386 | OK | OK | OK |
| Package: DLBCL |
| Version: 1.3.1 |
| Command: D:\biocbld\bbs-2.7-bioc\R\bin\R.exe CMD INSTALL --build --library=DLBCL.buildbin-libdir DLBCL_1.3.1.tar.gz |
| StartedAt: 2011-04-06 17:00:47 -0700 (Wed, 06 Apr 2011) |
| EndedAt: 2011-04-06 17:00:54 -0700 (Wed, 06 Apr 2011) |
| EllapsedTime: 7.5 seconds |
| RetCode: 0 |
| Status: OK |
| PackageFile: DLBCL_1.3.1.zip |
| PackageFileSize: 5.536 MiB |
* installing *source* package 'DLBCL' ... Using auto-selected zip option '--use-zip-data' ** data ** help *** installing help indices ** building package indices ... ** testing if installed package can be loaded * MD5 sums packaged installation of 'DLBCL' as DLBCL_1.3.1.zip * DONE (DLBCL)