| Back to the "Multiple platform build/check report" |
| Package 4/82 | Hostname | OS / Arch | BUILD | CHECK | BUILD BIN | ||||
| ALLMLL 1.2.8 B. M. Bolstad
| lamb2 | Linux (openSUSE 11.2) / x86_64 | OK | OK | |||||
| gewurz | Windows Server 2008 R2 Enterprise (64-bit) / x64 | OK | OK | OK | |||||
| pelham | Mac OS X Leopard (10.5.8) / i386 | [ OK ] | OK | OK |
| Package: ALLMLL |
| Version: 1.2.8 |
| Command: /Library/Frameworks/R.framework/Versions/2.12/Resources/bin/R CMD build ALLMLL |
| StartedAt: 2011-02-27 13:58:10 -0800 (Sun, 27 Feb 2011) |
| EndedAt: 2011-02-27 13:58:19 -0800 (Sun, 27 Feb 2011) |
| EllapsedTime: 9.8 seconds |
| RetCode: 0 |
| Status: OK |
| PackageFile: ALLMLL_1.2.8.tar.gz |
| PackageFileSize: 25.62 MiB |
* checking for file ‘ALLMLL/DESCRIPTION’ ... OK * preparing ‘ALLMLL’: * checking DESCRIPTION meta-information ... OK * checking for LF line-endings in source and make files * checking for empty or unneeded directories * building ‘ALLMLL_1.2.8.tar.gz’