| Back to the "Multiple platform build/check report" |
| Package 5/92 | Hostname | OS / Arch | BUILD | CHECK | BUILD BIN | ||||
| ALLMLL 1.2.8 B. M. Bolstad
| lamb2 | Linux (openSUSE 11.2) / x86_64 | OK | OK | |||||
| gewurz | Windows Server 2008 R2 Enterprise (64-bit) / x64 | OK | OK | [ OK ] | |||||
| petty | Mac OS X Snow Leopard (10.6.6) / i386 | OK | OK | OK |
| Package: ALLMLL |
| Version: 1.2.8 |
| Command: D:\biocbld\bbs-2.7-bioc\R\bin\R.exe CMD INSTALL --build --library=ALLMLL.buildbin-libdir ALLMLL_1.2.8.tar.gz |
| StartedAt: 2011-04-06 16:47:50 -0700 (Wed, 06 Apr 2011) |
| EndedAt: 2011-04-06 16:48:12 -0700 (Wed, 06 Apr 2011) |
| EllapsedTime: 22.5 seconds |
| RetCode: 0 |
| Status: OK |
| PackageFile: ALLMLL_1.2.8.zip |
| PackageFileSize: 25.63 MiB |
* installing *source* package 'ALLMLL' ... Using auto-selected zip option '--use-zip-data' ** data ** help *** installing help indices ** building package indices ... ** testing if installed package can be loaded * MD5 sums packaged installation of 'ALLMLL' as ALLMLL_1.2.8.zip * DONE (ALLMLL)