mvoutData 0.99.0 VJ Carey
 | Snapshot Date: 2009-04-10 00:03:00 -0700 (Fri, 10 Apr 2009) |  | URL: https://hedgehog.fhcrc.org/bioc-data/trunk/experiment/pkgs/mvoutData |  | Last Changed Rev: 717 / Revision: 760 |  | Last Changed Date: 2008-09-28 19:44:16 -0700 (Sun, 28 Sep 2008) |  
  | wilson2  | Linux (openSUSE 10.3) / x86_64  |  OK  |  OK  |  | 
| liverpool  | Windows Server 2003 R2 (32-bit) / x64  |  OK  |  OK  |  OK  | 
| pelham  | Mac OS X Leopard (10.5.6) / i386  |  OK  | [ OK ] |  OK  | 
* checking for working pdflatex ... OK
* using log directory '/Users/biocbuild/bbs-2.3-data-experiment/meat/mvoutData.Rcheck'
* using R version 2.8.1 Patched (2009-03-18 r48200)
* using session charset: ASCII
* checking for file 'mvoutData/DESCRIPTION' ... OK
* this is package 'mvoutData' version '0.99.0'
* checking package dependencies ... OK
* checking if this is a source package ... OK
* checking whether package 'mvoutData' can be installed ... OK
* checking package directory ... OK
* checking for portable file names ... OK
* checking for sufficient/correct file permissions ... OK
* checking DESCRIPTION meta-information ... OK
* checking top-level files ... OK
* checking index information ... OK
* checking package subdirectories ... OK
* checking whether the package can be loaded ... OK
* checking whether the package can be loaded with stated dependencies ... OK
* checking Rd files ... OK
* checking Rd cross-references ... OK
* checking for missing documentation entries ... OK
* checking for code/documentation mismatches ... OK
* checking Rd \usage sections ... OK
* checking data for non-ASCII characters ... OK
* creating mvoutData-Ex.R ... OK
* checking examples ... OK
* creating mvoutData-manual.tex ... OK
* checking mvoutData-manual.tex using pdflatex ... OK