| Back to the "Multiple platform build/check report" |
| Package 48/64 | Hostname | OS / Arch | BUILD | CHECK | BUILD BIN | ||||
| mvoutData 0.99.0 VJ Carey
| wilson2 | Linux (openSUSE 10.3) / x86_64 | OK | OK | |||||
| liverpool | Windows Server 2003 R2 (32-bit) / x64 | OK | OK | OK | |||||
| pelham | Mac OS X Leopard (10.5.6) / i386 | [ OK ] | OK | OK |
| Package: mvoutData |
| Version: 0.99.0 |
| Command: /Library/Frameworks/R.framework/Versions/2.8/Resources/bin/R CMD build mvoutData |
| StartedAt: 2009-04-10 01:32:14 -0700 (Fri, 10 Apr 2009) |
| EndedAt: 2009-04-10 01:32:25 -0700 (Fri, 10 Apr 2009) |
| EllapsedTime: 10.8 seconds |
| RetCode: 0 |
| Status: OK |
| PackageFile: mvoutData_0.99.0.tar.gz |
| PackageFileSize: 20.76 MiB |
* checking for file 'mvoutData/DESCRIPTION' ... OK * preparing 'mvoutData': * checking DESCRIPTION meta-information ... OK * removing junk files * checking for LF line-endings in source and make files * checking for empty or unneeded directories * building 'mvoutData_0.99.0.tar.gz'