| SemSim 1.5.0 Xiang Guo
 
 | Snapshot Date: 2007-12-11 00:09:07 -0800 (Tue, 11 Dec 2007) |  | URL: https://hedgehog.fhcrc.org/bioconductor/trunk/madman/Rpacks/SemSim |  | Last Changed Rev: 29120 / Revision: 29143 |  | Last Changed Date: 2007-12-09 21:08:47 -0800 (Sun, 09 Dec 2007) | 
 | lamb1 | Linux (SUSE 10.1) / x86_64 | [ OK ] | OK |  | 
| wilson2 | Linux (openSUSE 10.3) / x86_64 | OK | OK |  | 
| wellington | Linux (openSUSE 10.3) / i686 | OK | OK |  | 
| liverpool | Windows Server 2003 R2 (32-bit) / x64 | OK | OK | OK | 
| lemming | Windows Server 2003 (32-bit) / x64 | OK | OK | OK | 
* checking for file 'SemSim/DESCRIPTION' ... OK
* preparing 'SemSim':
* checking DESCRIPTION meta-information ... OK
* installing the package to re-build vignettes
* Installing *source* package 'SemSim' ...
** R
** data
** inst
** help
 >>> Building/Updating help pages for package 'SemSim'
     Formats: text html latex example 
  GOCount                           text    html    latex
  Schreiber                         text    html    latex   example
  SemSim-internal                   text    html    latex
  SemSim-package                    text    html    latex
  geneSim                           text    html    latex   example
  mgeneSim                          text    html    latex   example
  mtermSim                          text    html    latex   example
  termSim                           text    html    latex   example
** building package indices ...
* DONE (SemSim)
* creating vignettes ... OK
* removing junk files
* checking for LF line-endings in source and make files
* checking for empty or unneeded directories
* building 'SemSim_1.5.0.tar.gz'